BEGIN:VCALENDAR
VERSION:2.0
PRODID:-//TJ Union Plzeň86405//NONSGML kigkonsult.se iCalcreator 2.41.80//
CALSCALE:GREGORIAN
UID:38646233-3964-4263-b261-663563643734
BEGIN:VEVENT
UID:35393337-6261-4634-a561-386532353863
DTSTAMP:20260422T221326Z
DESCRIPTION:1/3 Union - Domažlice B 3:0 (21\,19\,17)
DTSTART;TZID=Europe/Berlin:20241012T100000
DTEND;TZID=Europe/Berlin:20241012T120000
LOCATION:TJ Union\, Radčická 2861 Plzeň - Jižní Předměstí
SUMMARY:P-M-1: Union-Domažlice B
END:VEVENT
BEGIN:VEVENT
UID:34313338-3430-4965-b638-656262376638
DTSTAMP:20260422T221326Z
DESCRIPTION:2/7 Union - Domažlice B 3:0 (12\,26\,26)
DTSTART;TZID=Europe/Berlin:20241012T140000
DTEND;TZID=Europe/Berlin:20241012T160000
LOCATION:TJ Union\, Radčická 2861 Plzeň - Jižní Předměstí
SUMMARY:P-M-1: Union-Domažlice B
END:VEVENT
BEGIN:VEVENT
UID:33383262-3061-4930-b834-356437303439
DTSTAMP:20260422T221326Z
DESCRIPTION:5/18 Union - Klatovy 3:1 (-26\,25\,16\,15)
DTSTART;TZID=Europe/Berlin:20241109T100000
DTEND;TZID=Europe/Berlin:20241109T120000
LOCATION:TJ Union\, Radčická 2861 Plzeň - Jižní Předměstí
SUMMARY:P-M-1: Union-Klatovy
END:VEVENT
BEGIN:VEVENT
UID:30363937-3937-4365-a435-623633303364
DTSTAMP:20260422T221326Z
DESCRIPTION:6/22 Union - Klatovy 2:3 (19\,-14\,21\,-20\,-12)
DTSTART;TZID=Europe/Berlin:20241109T140000
DTEND;TZID=Europe/Berlin:20241109T160000
LOCATION:TJ Union\, Radčická 2861 Plzeň - Jižní Předměstí
SUMMARY:P-M-1: Union-Klatovy
END:VEVENT
BEGIN:VEVENT
UID:61396235-3636-4038-b030-383365663137
DTSTAMP:20260422T221326Z
DESCRIPTION:9/33 Union - Skvrňany 0:3 (-16\,-21\,-23)
DTSTART;TZID=Europe/Berlin:20241123T100000
DTEND;TZID=Europe/Berlin:20241123T120000
LOCATION:TJ Union\, Radčická 2861 Plzeň - Jižní Předměstí
SUMMARY:P-M-1: Union-Skvrňany
END:VEVENT
BEGIN:VEVENT
UID:62623337-3161-4531-b734-383836373664
DTSTAMP:20260422T221326Z
DESCRIPTION:10/37 Union - Skvrňany 3:0 (16\,23\,20)
DTSTART;TZID=Europe/Berlin:20241123T140000
DTEND;TZID=Europe/Berlin:20241123T160000
LOCATION:TJ Union\, Radčická 2861 Plzeň - Jižní Předměstí
SUMMARY:P-M-1: Union-Skvrňany
END:VEVENT
BEGIN:VEVENT
UID:64666635-6339-4932-a134-663133363161
DTSTAMP:20260422T221326Z
DESCRIPTION:11/44 Union - Mirošov 3:0 (17\,19\,12)
DTSTART;TZID=Europe/Berlin:20241207T100000
DTEND;TZID=Europe/Berlin:20241207T120000
LOCATION:TJ Union\, Radčická 2861 Plzeň - Jižní Předměstí
SUMMARY:P-M-1: Union-Mirošov
END:VEVENT
BEGIN:VEVENT
UID:36313462-3265-4532-b632-333161353865
DTSTAMP:20260422T221326Z
DESCRIPTION:12/48 Union - Mirošov 3:0 (17\,16\,21)
DTSTART;TZID=Europe/Berlin:20241207T140000
DTEND;TZID=Europe/Berlin:20241207T160000
LOCATION:TJ Union\, Radčická 2861 Plzeň - Jižní Předměstí
SUMMARY:P-M-1: Union-Mirošov
END:VEVENT
BEGIN:VEVENT
UID:33383131-3138-4335-a631-333864316161
DTSTAMP:20260422T221326Z
DESCRIPTION:17/67 Union - USK Slavia B 3:1 (-22\,18\,15\,21)
DTSTART;TZID=Europe/Berlin:20250125T100000
DTEND;TZID=Europe/Berlin:20250125T120000
LOCATION:TJ Union\, Radčická 2861 Plzeň - Jižní Předměstí
SUMMARY:P-M-1: Union-USK Slavia B
END:VEVENT
BEGIN:VEVENT
UID:63653232-3462-4432-b339-383439656664
DTSTAMP:20260422T221326Z
DESCRIPTION:18/71 Union - USK Slavia B 3:0 (22\,23\,16)
DTSTART;TZID=Europe/Berlin:20250125T140000
DTEND;TZID=Europe/Berlin:20250125T160000
LOCATION:TJ Union\, Radčická 2861 Plzeň - Jižní Předměstí
SUMMARY:P-M-1: Union-USK Slavia B
END:VEVENT
BEGIN:VEVENT
UID:64343264-3634-4738-a439-643163643833
DTSTAMP:20260422T221326Z
DESCRIPTION:27/106 Union - Sokolov 3:0 (20\,22\,18)
DTSTART;TZID=Europe/Berlin:20250322T100000
DTEND;TZID=Europe/Berlin:20250322T120000
LOCATION:TJ Union\, Radčická 2861 Plzeň - Jižní Předměstí
SUMMARY:P-M-1: Union-Sokolov
END:VEVENT
BEGIN:VEVENT
UID:62373862-6662-4134-a664-623438656533
DTSTAMP:20260422T221326Z
DESCRIPTION:28/110 Union - Sokolov 3:0 (13\,17\,17)
DTSTART;TZID=Europe/Berlin:20250322T140000
DTEND;TZID=Europe/Berlin:20250322T160000
LOCATION:TJ Union\, Radčická 2861 Plzeň - Jižní Předměstí
SUMMARY:P-M-1: Union-Sokolov
END:VEVENT
BEGIN:VEVENT
UID:66376662-3166-4133-b035-633734626433
DTSTAMP:20260422T221326Z
DESCRIPTION:3/11 USK Slavia B - Union 3:1 (20\,14\,-19\,14)
DTSTART;TZID=Europe/Berlin:20241026T100000
DTEND;TZID=Europe/Berlin:20241026T120000
LOCATION:Hala PF ZČU Plzeň\, Klatovská třída 1736 Plzeň - Jižní Předměstí
SUMMARY:P-M-1: USK Slavia B-Union
END:VEVENT
BEGIN:VEVENT
UID:35363831-3061-4163-b964-613331346634
DTSTAMP:20260422T221326Z
DESCRIPTION:4/15 USK Slavia B - Union 3:2 (-16\,20\,11\,-13\,6)
DTSTART;TZID=Europe/Berlin:20241026T140000
DTEND;TZID=Europe/Berlin:20241026T160000
LOCATION:Hala PF ZČU Plzeň\, Klatovská třída 1736 Plzeň - Jižní Předměstí
SUMMARY:P-M-1: USK Slavia B-Union
END:VEVENT
BEGIN:VEVENT
UID:34343131-3132-4161-a365-326235306562
DTSTAMP:20260422T221326Z
DESCRIPTION:13/50 Sokolov - Union 2:3 (-33\,-18\,21\,15\,-14)
DTSTART;TZID=Europe/Berlin:20241214T100000
DTEND;TZID=Europe/Berlin:20241214T120000
LOCATION:Jiskra\, Maxima Gorkého 280 Sokolov
SUMMARY:P-M-1: Sokolov-Union
END:VEVENT
BEGIN:VEVENT
UID:37346163-3863-4239-a164-343665343336
DTSTAMP:20260422T221326Z
DESCRIPTION:14/54 Sokolov - Union 3:1 (-14\,21\,15\,22)
DTSTART;TZID=Europe/Berlin:20241214T140000
DTEND;TZID=Europe/Berlin:20241214T160000
LOCATION:Jiskra\, Maxima Gorkého 280 Sokolov
SUMMARY:P-M-1: Sokolov-Union
END:VEVENT
BEGIN:VEVENT
UID:38373931-3566-4335-a530-663031346239
DTSTAMP:20260422T221326Z
DESCRIPTION:15/59 Domažlice B - Union 0:3 (-20\,-20\,-20)
DTSTART;TZID=Europe/Berlin:20250118T100000
DTEND;TZID=Europe/Berlin:20250118T120000
LOCATION:Sportovní hala ZŠ Komenského Domažlice\, Komenského 17 Domažlice -
  Týnské Předměstí
SUMMARY:P-M-1: Domažlice B-Union
END:VEVENT
BEGIN:VEVENT
UID:64653038-3936-4238-b066-663863383664
DTSTAMP:20260422T221326Z
DESCRIPTION:16/63 Domažlice B - Union 0:3 (-17\,-18\,-23)
DTSTART;TZID=Europe/Berlin:20250118T140000
DTEND;TZID=Europe/Berlin:20250118T160000
LOCATION:Sportovní hala ZŠ Komenského Domažlice\, Komenského 17 Domažlice -
  Týnské Předměstí
SUMMARY:P-M-1: Domažlice B-Union
END:VEVENT
BEGIN:VEVENT
UID:64636132-3038-4361-b636-353862616262
DTSTAMP:20260422T221326Z
DESCRIPTION:19/74 Klatovy - Union 3:0 (12\,19\,20)
DTSTART;TZID=Europe/Berlin:20250222T100000
DTEND;TZID=Europe/Berlin:20250222T120000
LOCATION:Sportovní hala ZŠ Čapkova\, Čapkova 136 Klatovy - Klatovy V
SUMMARY:P-M-1: Klatovy-Union
END:VEVENT
BEGIN:VEVENT
UID:33393963-3064-4461-b738-323961643433
DTSTAMP:20260422T221326Z
DESCRIPTION:20/78 Klatovy - Union 3:0 (18\,21\,15)
DTSTART;TZID=Europe/Berlin:20250222T130000
DTEND;TZID=Europe/Berlin:20250222T150000
LOCATION:Sportovní hala ZŠ Čapkova\, Čapkova 136 Klatovy - Klatovy V
SUMMARY:P-M-1: Klatovy-Union
END:VEVENT
BEGIN:VEVENT
UID:61323566-3062-4737-b230-363364313635
DTSTAMP:20260422T221326Z
DESCRIPTION:23/89 Skvrňany - Union 0:3 (-17\,-18\,-23)
DTSTART;TZID=Europe/Berlin:20250308T100000
DTEND;TZID=Europe/Berlin:20250308T120000
LOCATION:Sokolovna Skvrňany\, Emingerova 308 Plzeň - Skvrňany
SUMMARY:P-M-1: Skvrňany-Union
END:VEVENT
BEGIN:VEVENT
UID:63643864-3361-4262-a331-623632666164
DTSTAMP:20260422T221326Z
DESCRIPTION:24/93 Skvrňany - Union 2:3 (18\,-23\,-22\,22\,-14)
DTSTART;TZID=Europe/Berlin:20250308T140000
DTEND;TZID=Europe/Berlin:20250308T160000
LOCATION:Sokolovna Skvrňany\, Emingerova 308 Plzeň - Skvrňany
SUMMARY:P-M-1: Skvrňany-Union
END:VEVENT
BEGIN:VEVENT
UID:35353537-3266-4631-b534-343061346532
DTSTAMP:20260422T221326Z
DESCRIPTION:25/100 Mirošov - Union 1:3 (-17\,-19\,19\,-18)
DTSTART;TZID=Europe/Berlin:20250315T100000
DTEND;TZID=Europe/Berlin:20250315T120000
LOCATION:Sokolovna Mirošov\, Skořická 86 Mirošov
SUMMARY:P-M-1: Mirošov-Union
END:VEVENT
BEGIN:VEVENT
UID:37323036-3535-4430-a463-366465626261
DTSTAMP:20260422T221326Z
DESCRIPTION:26/104 Mirošov - Union 0:3 (-25\,-15\,-21)
DTSTART;TZID=Europe/Berlin:20250315T140000
DTEND;TZID=Europe/Berlin:20250315T160000
LOCATION:Sokolovna Mirošov\, Skořická 86 Mirošov
SUMMARY:P-M-1: Mirošov-Union
END:VEVENT
END:VCALENDAR
