BEGIN:VCALENDAR
VERSION:2.0
PRODID:-//Volejbal Domažlice B86408//NONSGML kigkonsult.se iCalcreator 2.41.80//
CALSCALE:GREGORIAN
UID:64613463-3131-4535-b332-316664623136
BEGIN:VEVENT
UID:36306639-6336-4132-b263-633837616432
DTSTAMP:20260423T022413Z
DESCRIPTION:3/10 Domažlice B - Mirošov 3:0 (20\,18\,24)
DTSTART;TZID=Europe/Berlin:20241026T110000
DTEND;TZID=Europe/Berlin:20241026T130000
LOCATION:Sportovní hala ZŠ Komenského Domažlice\, Komenského 17 Domažlice -
  Týnské Předměstí
SUMMARY:P-M-1: Domažlice B-Mirošov
END:VEVENT
BEGIN:VEVENT
UID:32306263-3164-4166-a161-613465633139
DTSTAMP:20260423T022413Z
DESCRIPTION:4/14 Domažlice B - Mirošov 3:1 (26\,-22\,19\,14)
DTSTART;TZID=Europe/Berlin:20241026T150000
DTEND;TZID=Europe/Berlin:20241026T170000
LOCATION:Sportovní hala ZŠ Komenského Domažlice\, Komenského 17 Domažlice -
  Týnské Předměstí
SUMMARY:P-M-1: Domažlice B-Mirošov
END:VEVENT
BEGIN:VEVENT
UID:34326565-3234-4535-b734-333864633335
DTSTAMP:20260423T022413Z
DESCRIPTION:9/36 Domažlice B - USK Slavia B 2:3 (-19\,17\,20\,-19\,-10)
DTSTART;TZID=Europe/Berlin:20241123T100000
DTEND;TZID=Europe/Berlin:20241123T120000
LOCATION:Sportovní hala ZŠ Komenského Domažlice\, Komenského 17 Domažlice -
  Týnské Předměstí
SUMMARY:P-M-1: Domažlice B-USK Slavia B
END:VEVENT
BEGIN:VEVENT
UID:38653938-6338-4364-a261-366230646231
DTSTAMP:20260423T022413Z
DESCRIPTION:10/40 Domažlice B - USK Slavia B 0:3 (-21\,-16\,-24)
DTSTART;TZID=Europe/Berlin:20241123T140000
DTEND;TZID=Europe/Berlin:20241123T160000
LOCATION:Sportovní hala ZŠ Komenského Domažlice\, Komenského 17 Domažlice -
  Týnské Předměstí
SUMMARY:P-M-1: Domažlice B-USK Slavia B
END:VEVENT
BEGIN:VEVENT
UID:66303864-3834-4963-b066-333531363363
DTSTAMP:20260423T022413Z
DESCRIPTION:15/59 Domažlice B - Union 0:3 (-20\,-20\,-20)
DTSTART;TZID=Europe/Berlin:20250118T100000
DTEND;TZID=Europe/Berlin:20250118T120000
LOCATION:Sportovní hala ZŠ Komenského Domažlice\, Komenského 17 Domažlice -
  Týnské Předměstí
SUMMARY:P-M-1: Domažlice B-Union
END:VEVENT
BEGIN:VEVENT
UID:65653231-6430-4365-b831-663765303530
DTSTAMP:20260423T022413Z
DESCRIPTION:16/63 Domažlice B - Union 0:3 (-17\,-18\,-23)
DTSTART;TZID=Europe/Berlin:20250118T140000
DTEND;TZID=Europe/Berlin:20250118T160000
LOCATION:Sportovní hala ZŠ Komenského Domažlice\, Komenského 17 Domažlice -
  Týnské Předměstí
SUMMARY:P-M-1: Domažlice B-Union
END:VEVENT
BEGIN:VEVENT
UID:65376162-3133-4263-b361-336230316436
DTSTAMP:20260423T022413Z
DESCRIPTION:19/76 Domažlice B - Sokolov 0:3 (-21\,-12\,-20)
DTSTART;TZID=Europe/Berlin:20250208T100000
DTEND;TZID=Europe/Berlin:20250208T120000
LOCATION:Sportovní hala ZŠ Komenského Domažlice\, Komenského 17 Domažlice -
  Týnské Předměstí
SUMMARY:P-M-1: Domažlice B-Sokolov
END:VEVENT
BEGIN:VEVENT
UID:31643333-3962-4839-b464-633164636264
DTSTAMP:20260423T022413Z
DESCRIPTION:20/80 Domažlice B - Sokolov 2:3 (-22\,15\,21\,-20\,-11)
DTSTART;TZID=Europe/Berlin:20250208T140000
DTEND;TZID=Europe/Berlin:20250208T160000
LOCATION:Sportovní hala ZŠ Komenského Domažlice\, Komenského 17 Domažlice -
  Týnské Předměstí
SUMMARY:P-M-1: Domažlice B-Sokolov
END:VEVENT
BEGIN:VEVENT
UID:30333839-6164-4339-a431-333663356164
DTSTAMP:20260423T022413Z
DESCRIPTION:21/81 Domažlice B - Skvrňany 1:3 (-14\,-20\,24\,-15)
DTSTART;TZID=Europe/Berlin:20250215T110000
DTEND;TZID=Europe/Berlin:20250215T130000
LOCATION:Sportovní hala ZŠ Komenského Domažlice\, Komenského 17 Domažlice -
  Týnské Předměstí
SUMMARY:P-M-1: Domažlice B-Skvrňany
END:VEVENT
BEGIN:VEVENT
UID:32663035-6339-4339-b432-663738383230
DTSTAMP:20260423T022413Z
DESCRIPTION:22/85 Domažlice B - Skvrňany 2:3 (-13\,-23\,21\,20\,-7)
DTSTART;TZID=Europe/Berlin:20250215T150000
DTEND;TZID=Europe/Berlin:20250215T170000
LOCATION:Sportovní hala ZŠ Komenského Domažlice\, Komenského 17 Domažlice -
  Týnské Předměstí
SUMMARY:P-M-1: Domažlice B-Skvrňany
END:VEVENT
BEGIN:VEVENT
UID:61356262-6266-4334-b262-653731653031
DTSTAMP:20260423T022413Z
DESCRIPTION:25/98 Domažlice B - Klatovy 1:3 (24\,-24\,-20\,-22)
DTSTART;TZID=Europe/Berlin:20250315T100000
DTEND;TZID=Europe/Berlin:20250315T120000
LOCATION:Sportovní hala ZŠ Komenského Domažlice\, Komenského 17 Domažlice -
  Týnské Předměstí
SUMMARY:P-M-1: Domažlice B-Klatovy
END:VEVENT
BEGIN:VEVENT
UID:66303437-6636-4635-a433-396461333839
DTSTAMP:20260423T022413Z
DESCRIPTION:26/102 Domažlice B - Klatovy 0:3 (-23\,-24\,-16)
DTSTART;TZID=Europe/Berlin:20250315T140000
DTEND;TZID=Europe/Berlin:20250315T160000
LOCATION:Sportovní hala ZŠ Komenského Domažlice\, Komenského 17 Domažlice -
  Týnské Předměstí
SUMMARY:P-M-1: Domažlice B-Klatovy
END:VEVENT
BEGIN:VEVENT
UID:30343463-6539-4630-a538-383061663731
DTSTAMP:20260423T022413Z
DESCRIPTION:1/3 Union - Domažlice B 3:0 (21\,19\,17)
DTSTART;TZID=Europe/Berlin:20241012T100000
DTEND;TZID=Europe/Berlin:20241012T120000
LOCATION:TJ Union\, Radčická 2861 Plzeň - Jižní Předměstí
SUMMARY:P-M-1: Union-Domažlice B
END:VEVENT
BEGIN:VEVENT
UID:37663666-3536-4835-b564-666138326336
DTSTAMP:20260423T022413Z
DESCRIPTION:2/7 Union - Domažlice B 3:0 (12\,26\,26)
DTSTART;TZID=Europe/Berlin:20241012T140000
DTEND;TZID=Europe/Berlin:20241012T160000
LOCATION:TJ Union\, Radčická 2861 Plzeň - Jižní Předměstí
SUMMARY:P-M-1: Union-Domažlice B
END:VEVENT
BEGIN:VEVENT
UID:61663463-3037-4034-b363-393062653834
DTSTAMP:20260423T022413Z
DESCRIPTION:5/20 Sokolov - Domažlice B 3:0 (22\,17\,15)
DTSTART;TZID=Europe/Berlin:20241109T090000
DTEND;TZID=Europe/Berlin:20241109T110000
LOCATION:Jiskra\, Maxima Gorkého 280 Sokolov
SUMMARY:P-M-1: Sokolov-Domažlice B
END:VEVENT
BEGIN:VEVENT
UID:66396261-3038-4936-b961-376162653862
DTSTAMP:20260423T022413Z
DESCRIPTION:6/24 Sokolov - Domažlice B 3:0 (23\,20\,20)
DTSTART;TZID=Europe/Berlin:20241109T130000
DTEND;TZID=Europe/Berlin:20241109T150000
LOCATION:Jiskra\, Maxima Gorkého 280 Sokolov
SUMMARY:P-M-1: Sokolov-Domažlice B
END:VEVENT
BEGIN:VEVENT
UID:32363265-3066-4963-a565-393937386137
DTSTAMP:20260423T022413Z
DESCRIPTION:7/25 Skvrňany - Domažlice B 3:1 (22\,20\,-23\,22)
DTSTART;TZID=Europe/Berlin:20241116T100000
DTEND;TZID=Europe/Berlin:20241116T120000
LOCATION:Sokolovna Skvrňany\, Emingerova 308 Plzeň - Skvrňany
SUMMARY:P-M-1: Skvrňany-Domažlice B
END:VEVENT
BEGIN:VEVENT
UID:66656266-3639-4130-a232-353164366535
DTSTAMP:20260423T022413Z
DESCRIPTION:8/29 Skvrňany - Domažlice B 3:0 (21\,22\,18)
DTSTART;TZID=Europe/Berlin:20241116T140000
DTEND;TZID=Europe/Berlin:20241116T160000
LOCATION:Sokolovna Skvrňany\, Emingerova 308 Plzeň - Skvrňany
SUMMARY:P-M-1: Skvrňany-Domažlice B
END:VEVENT
BEGIN:VEVENT
UID:37323836-6133-4062-b264-313261333731
DTSTAMP:20260423T022413Z
DESCRIPTION:11/42 Klatovy - Domažlice B 3:0 (9\,23\,30)
DTSTART;TZID=Europe/Berlin:20241207T090000
DTEND;TZID=Europe/Berlin:20241207T110000
LOCATION:Sportovní hala ZŠ Čapkova\, Čapkova 136 Klatovy - Klatovy V
SUMMARY:P-M-1: Klatovy-Domažlice B
END:VEVENT
BEGIN:VEVENT
UID:63303064-3637-4162-a539-633438343539
DTSTAMP:20260423T022413Z
DESCRIPTION:12/46 Klatovy - Domažlice B 3:0 (18\,23\,22)
DTSTART;TZID=Europe/Berlin:20241207T130000
DTEND;TZID=Europe/Berlin:20241207T150000
LOCATION:Sportovní hala ZŠ Čapkova\, Čapkova 136 Klatovy - Klatovy V
SUMMARY:P-M-1: Klatovy-Domažlice B
END:VEVENT
BEGIN:VEVENT
UID:61646336-3537-4138-b831-663762653939
DTSTAMP:20260423T022413Z
DESCRIPTION:17/66 Mirošov - Domažlice B 3:0 (18\,19\,13)
DTSTART;TZID=Europe/Berlin:20250125T100000
DTEND;TZID=Europe/Berlin:20250125T120000
LOCATION:Sokolovna Mirošov\, Skořická 86 Mirošov
SUMMARY:P-M-1: Mirošov-Domažlice B
END:VEVENT
BEGIN:VEVENT
UID:35653938-6232-4864-a162-643166346338
DTSTAMP:20260423T022413Z
DESCRIPTION:18/70 Mirošov - Domažlice B 3:0 (20\,9\,24)
DTSTART;TZID=Europe/Berlin:20250125T140000
DTEND;TZID=Europe/Berlin:20250125T160000
LOCATION:Sokolovna Mirošov\, Skořická 86 Mirošov
SUMMARY:P-M-1: Mirošov-Domažlice B
END:VEVENT
BEGIN:VEVENT
UID:38656261-6636-4362-a535-346637373736
DTSTAMP:20260423T022413Z
DESCRIPTION:23/92 USK Slavia B - Domažlice B 3:0 (27\,25\,21)
DTSTART;TZID=Europe/Berlin:20250308T090000
DTEND;TZID=Europe/Berlin:20250308T110000
LOCATION:Hala PF ZČU Plzeň\, Klatovská třída 1736 Plzeň - Jižní Předměstí
SUMMARY:P-M-1: USK Slavia B-Domažlice B
END:VEVENT
BEGIN:VEVENT
UID:32333933-3532-4134-a664-633964353236
DTSTAMP:20260423T022413Z
DESCRIPTION:24/96 USK Slavia B - Domažlice B 3:0 (20\,20\,17)
DTSTART;TZID=Europe/Berlin:20250308T130000
DTEND;TZID=Europe/Berlin:20250308T150000
LOCATION:Hala PF ZČU Plzeň\, Klatovská třída 1736 Plzeň - Jižní Předměstí
SUMMARY:P-M-1: USK Slavia B-Domažlice B
END:VEVENT
END:VCALENDAR
