BEGIN:VCALENDAR
VERSION:2.0
PRODID:-//ŠSK Nová Paka86412//NONSGML kigkonsult.se iCalcreator 2.41.80//
CALSCALE:GREGORIAN
UID:34316338-3033-4139-a661-343730383730
BEGIN:VEVENT
UID:64633464-6362-4636-a333-376138376262
DTSTAMP:20260422T162828Z
DESCRIPTION:1/4 Nová Paka - Broumov 3:0 (13\,12\,13)
DTSTART;TZID=Europe/Berlin:20240921T100000
DTEND;TZID=Europe/Berlin:20240921T120000
LOCATION:ZŠ Husitská\, O. Číly 1933 Nová Paka
SUMMARY:HK-U18Z: Nová Paka-Broumov
END:VEVENT
BEGIN:VEVENT
UID:63633566-6365-4131-b762-326433626630
DTSTAMP:20260422T162828Z
DESCRIPTION:2/9 Nová Paka - Broumov 3:0 (14\,12\,8)
DTSTART;TZID=Europe/Berlin:20240921T130000
DTEND;TZID=Europe/Berlin:20240921T150000
LOCATION:ZŠ Husitská\, O. Číly 1933 Nová Paka
SUMMARY:HK-U18Z: Nová Paka-Broumov
END:VEVENT
BEGIN:VEVENT
UID:65336437-6332-4163-a161-376336643436
DTSTAMP:20260422T162828Z
DESCRIPTION:3/13 Nová Paka - Nechanice 3:0 (14\,16\,16)
DTSTART;TZID=Europe/Berlin:20250125T100000
DTEND;TZID=Europe/Berlin:20250125T120000
LOCATION:ZŠ Husitská\, O. Číly 1933 Nová Paka
SUMMARY:HK-U18Z: Nová Paka-Nechanice
END:VEVENT
BEGIN:VEVENT
UID:66633565-3733-4030-a531-626531626535
DTSTAMP:20260422T162828Z
DESCRIPTION:4/18 Nová Paka - Nechanice 3:0 (15\,19\,6)
DTSTART;TZID=Europe/Berlin:20250125T130000
DTEND;TZID=Europe/Berlin:20250125T150000
LOCATION:ZŠ Husitská\, O. Číly 1933 Nová Paka
SUMMARY:HK-U18Z: Nová Paka-Nechanice
END:VEVENT
BEGIN:VEVENT
UID:34326561-3934-4931-a163-393965343163
DTSTAMP:20260422T162828Z
DESCRIPTION:7/34 Nová Paka - Jiskra Jaroměř 0:3 (-13\,-12\,-10)
DTSTART;TZID=Europe/Berlin:20241026T100000
DTEND;TZID=Europe/Berlin:20241026T120000
LOCATION:ZŠ Husitská\, O. Číly 1933 Nová Paka
SUMMARY:HK-U18Z: Nová Paka-Jiskra Jaroměř
END:VEVENT
BEGIN:VEVENT
UID:30306331-3734-4836-b764-393663333233
DTSTAMP:20260422T162828Z
DESCRIPTION:8/39 Nová Paka - Jiskra Jaroměř 0:3 (-17\,-19\,-18)
DTSTART;TZID=Europe/Berlin:20241026T130000
DTEND;TZID=Europe/Berlin:20241026T150000
LOCATION:ZŠ Husitská\, O. Číly 1933 Nová Paka
SUMMARY:HK-U18Z: Nová Paka-Jiskra Jaroměř
END:VEVENT
BEGIN:VEVENT
UID:38343665-6334-4338-a362-653330616430
DTSTAMP:20260422T162828Z
DESCRIPTION:11/55 Nová Paka - Volejbal Č. Kostelec 3:1 (-23\,12\,16\,15)
DTSTART;TZID=Europe/Berlin:20241123T100000
DTEND;TZID=Europe/Berlin:20241123T120000
LOCATION:ZŠ Husitská\, O. Číly 1933 Nová Paka
SUMMARY:HK-U18Z: Nová Paka-Volejbal Č. Kostelec
END:VEVENT
BEGIN:VEVENT
UID:63633936-3236-4263-a539-323735303636
DTSTAMP:20260422T162828Z
DESCRIPTION:12/60 Nová Paka - Volejbal Č. Kostelec 3:1 (16\,24\,-18\,19)
DTSTART;TZID=Europe/Berlin:20241123T130000
DTEND;TZID=Europe/Berlin:20241123T150000
LOCATION:ZŠ Husitská\, O. Číly 1933 Nová Paka
SUMMARY:HK-U18Z: Nová Paka-Volejbal Č. Kostelec
END:VEVENT
BEGIN:VEVENT
UID:33376662-6237-4334-a565-343661383035
DTSTAMP:20260422T162828Z
DESCRIPTION:13/61 Nová Paka - Sokol Chlumec/C. 3:0 (22\,17\,23)
DTSTART;TZID=Europe/Berlin:20241201T100000
DTEND;TZID=Europe/Berlin:20241201T120000
LOCATION:ZŠ Husitská\, O. Číly 1933 Nová Paka
SUMMARY:HK-U18Z: Nová Paka-Sokol Chlumec/C.
END:VEVENT
BEGIN:VEVENT
UID:65343661-6336-4365-a335-613530633064
DTSTAMP:20260422T162828Z
DESCRIPTION:14/66 Nová Paka - Sokol Chlumec/C. 3:1 (14\,23\,-18\,12)
DTSTART;TZID=Europe/Berlin:20241201T130000
DTEND;TZID=Europe/Berlin:20241201T150000
LOCATION:ZŠ Husitská\, O. Číly 1933 Nová Paka
SUMMARY:HK-U18Z: Nová Paka-Sokol Chlumec/C.
END:VEVENT
BEGIN:VEVENT
UID:35303735-3236-4064-b638-336237666365
DTSTAMP:20260422T162828Z
DESCRIPTION:17/82 Nová Paka - Sokol Pouchov 0:3 (-12\,-14\,-16)
DTSTART;TZID=Europe/Berlin:20250111T100000
DTEND;TZID=Europe/Berlin:20250111T120000
LOCATION:ZŠ Husitská\, O. Číly 1933 Nová Paka
SUMMARY:HK-U18Z: Nová Paka-Sokol Pouchov
END:VEVENT
BEGIN:VEVENT
UID:62323361-3165-4937-b030-623634646362
DTSTAMP:20260422T162828Z
DESCRIPTION:18/87 Nová Paka - Sokol Pouchov 2:3 (-11\,23\,-20\,21\,-5)
DTSTART;TZID=Europe/Berlin:20250111T130000
DTEND;TZID=Europe/Berlin:20250111T150000
LOCATION:ZŠ Husitská\, O. Číly 1933 Nová Paka
SUMMARY:HK-U18Z: Nová Paka-Sokol Pouchov
END:VEVENT
BEGIN:VEVENT
UID:30376363-3363-4662-b836-336232616536
DTSTAMP:20260422T162828Z
DESCRIPTION:23/113 Nová Paka - Dvůr Králové 1:3 (21\,-20\,-17\,-23)
DTSTART;TZID=Europe/Berlin:20250201T100000
DTEND;TZID=Europe/Berlin:20250201T120000
LOCATION:ZŠ Husitská\, O. Číly 1933 Nová Paka
SUMMARY:HK-U18Z: Nová Paka-Dvůr Králové
END:VEVENT
BEGIN:VEVENT
UID:61613730-6437-4465-a332-646635373035
DTSTAMP:20260422T162828Z
DESCRIPTION:24/118 Nová Paka - Dvůr Králové 2:3 (18\,-21\,-18\,18\,-9)
DTSTART;TZID=Europe/Berlin:20250201T130000
DTEND;TZID=Europe/Berlin:20250201T150000
LOCATION:ZŠ Husitská\, O. Číly 1933 Nová Paka
SUMMARY:HK-U18Z: Nová Paka-Dvůr Králové
END:VEVENT
BEGIN:VEVENT
UID:37626235-3661-4532-b664-333031323365
DTSTAMP:20260422T162828Z
DESCRIPTION:27/132 Nová Paka - TJ Jičín 1:3 (-9\,23\,-26\,-24)
DTSTART;TZID=Europe/Berlin:20250222T100000
DTEND;TZID=Europe/Berlin:20250222T120000
LOCATION:ZŠ Husitská\, O. Číly 1933 Nová Paka
SUMMARY:HK-U18Z: Nová Paka-TJ Jičín
END:VEVENT
BEGIN:VEVENT
UID:39613663-6665-4164-a137-643966643532
DTSTAMP:20260422T162828Z
DESCRIPTION:28/137 Nová Paka - TJ Jičín 0:3 (-19\,-13\,-21)
DTSTART;TZID=Europe/Berlin:20250222T130000
DTEND;TZID=Europe/Berlin:20250222T150000
LOCATION:ZŠ Husitská\, O. Číly 1933 Nová Paka
SUMMARY:HK-U18Z: Nová Paka-TJ Jičín
END:VEVENT
BEGIN:VEVENT
UID:31633066-3461-4132-b464-323463626465
DTSTAMP:20260422T162828Z
DESCRIPTION:33/165 Nová Paka - Sokol S.M.- Náchod 0:3 (-18\,-18\,-22)
DTSTART;TZID=Europe/Berlin:20250315T100000
DTEND;TZID=Europe/Berlin:20250315T120000
LOCATION:ZŠ Husitská\, O. Číly 1933 Nová Paka
SUMMARY:HK-U18Z: Nová Paka-Sokol S.M.- Náchod
END:VEVENT
BEGIN:VEVENT
UID:35666163-6666-4639-a336-326439393861
DTSTAMP:20260422T162828Z
DESCRIPTION:34/170 Nová Paka - Sokol S.M.- Náchod 0:3 (-24\,-19\,-13)
DTSTART;TZID=Europe/Berlin:20250315T130000
DTEND;TZID=Europe/Berlin:20250315T150000
LOCATION:ZŠ Husitská\, O. Číly 1933 Nová Paka
SUMMARY:HK-U18Z: Nová Paka-Sokol S.M.- Náchod
END:VEVENT
BEGIN:VEVENT
UID:65363533-6133-4263-b565-316364636465
DTSTAMP:20260422T162828Z
DESCRIPTION:5/23 Dvůr Králové - Nová Paka 3:1 (13\,10\,-22\,11)
DTSTART;TZID=Europe/Berlin:20241012T090000
DTEND;TZID=Europe/Berlin:20241012T110000
LOCATION:hala ZŠ 5. května\, Dvůr Králové nad Labem\, 28. října 731 Dvůr Kr
 álové nad Labem
SUMMARY:HK-U18Z: Dvůr Králové-Nová Paka
END:VEVENT
BEGIN:VEVENT
UID:32386163-3130-4338-b361-386431646563
DTSTAMP:20260422T162828Z
DESCRIPTION:6/28 Dvůr Králové - Nová Paka 3:1 (20\,-18\,17\,19)
DTSTART;TZID=Europe/Berlin:20241012T113000
DTEND;TZID=Europe/Berlin:20241012T133000
LOCATION:hala ZŠ 5. května\, Dvůr Králové nad Labem\, 28. října 731 Dvůr Kr
 álové nad Labem
SUMMARY:HK-U18Z: Dvůr Králové-Nová Paka
END:VEVENT
BEGIN:VEVENT
UID:65636138-6366-4637-a133-633332386236
DTSTAMP:20260422T162828Z
DESCRIPTION:9/42 TJ Jičín - Nová Paka 3:0 (19\,18\,4)
DTSTART;TZID=Europe/Berlin:20241109T100000
DTEND;TZID=Europe/Berlin:20241109T120000
LOCATION:Hala Masarykovy obchodní akademie Jičín\, 17. listopadu 220 Jičín 
 - Valdické Předměstí
SUMMARY:HK-U18Z: TJ Jičín-Nová Paka
END:VEVENT
BEGIN:VEVENT
UID:33666236-3630-4432-b964-313434383539
DTSTAMP:20260422T162828Z
DESCRIPTION:10/47 TJ Jičín - Nová Paka 3:0 (7\,14\,14)
DTSTART;TZID=Europe/Berlin:20241109T130000
DTEND;TZID=Europe/Berlin:20241109T150000
LOCATION:Hala Masarykovy obchodní akademie Jičín\, 17. listopadu 220 Jičín 
 - Valdické Předměstí
SUMMARY:HK-U18Z: TJ Jičín-Nová Paka
END:VEVENT
BEGIN:VEVENT
UID:65643261-6661-4131-a333-346438336364
DTSTAMP:20260422T162828Z
DESCRIPTION:15/75 Sokol S.M.- Náchod - Nová Paka 3:0 (9\,19\,16)
DTSTART;TZID=Europe/Berlin:20250208T090000
DTEND;TZID=Europe/Berlin:20250208T110000
LOCATION:Sportovni hala TJ. Sokol Staré Město - Náchod\, Na Skalce 263 Nách
 od - Staré Město nad Metují
SUMMARY:HK-U18Z: Sokol S.M.- Náchod-Nová Paka
END:VEVENT
BEGIN:VEVENT
UID:63373739-3832-4364-b031-363435653532
DTSTAMP:20260422T162828Z
DESCRIPTION:16/80 Sokol S.M.- Náchod - Nová Paka 3:1 (14\,13\,-23\,12)
DTSTART;TZID=Europe/Berlin:20250208T130000
DTEND;TZID=Europe/Berlin:20250208T150000
LOCATION:Sportovni hala TJ. Sokol Staré Město - Náchod\, Na Skalce 263 Nách
 od - Staré Město nad Metují
SUMMARY:HK-U18Z: Sokol S.M.- Náchod-Nová Paka
END:VEVENT
BEGIN:VEVENT
UID:32363765-6433-4365-b063-633430623433
DTSTAMP:20260422T162828Z
DESCRIPTION:19/94 Broumov - Nová Paka 1:3 (20\,-20\,-22\,-23)
DTSTART;TZID=Europe/Berlin:20250118T100000
DTEND;TZID=Europe/Berlin:20250118T120000
LOCATION:Sportovní hala Spořilov \, Československé armády 351 Broumov
SUMMARY:HK-U18Z: Broumov-Nová Paka
END:VEVENT
BEGIN:VEVENT
UID:30613439-3430-4161-b866-363130346537
DTSTAMP:20260422T162828Z
DESCRIPTION:20/99 Broumov - Nová Paka 0:3 (-16\,-19\,-14)
DTSTART;TZID=Europe/Berlin:20250118T130000
DTEND;TZID=Europe/Berlin:20250118T150000
LOCATION:Sportovní hala Spořilov \, Československé armády 351 Broumov
SUMMARY:HK-U18Z: Broumov-Nová Paka
END:VEVENT
BEGIN:VEVENT
UID:63316136-3632-4537-a639-643233326366
DTSTAMP:20260422T162828Z
DESCRIPTION:21/103 Nechanice - Nová Paka 1:3 (-24\,15\,-19\,-8)
DTSTART;TZID=Europe/Berlin:20240928T100000
DTEND;TZID=Europe/Berlin:20240928T120000
LOCATION:Tělocvičná jednota Sokol Nechanice\, Školská 348 Nechanice
SUMMARY:HK-U18Z: Nechanice-Nová Paka
END:VEVENT
BEGIN:VEVENT
UID:39633336-3133-4936-b039-636465656533
DTSTAMP:20260422T162828Z
DESCRIPTION:22/108 Nechanice - Nová Paka 2:3 (18\,-14\,20\,-21\,-10)
DTSTART;TZID=Europe/Berlin:20240928T130000
DTEND;TZID=Europe/Berlin:20240928T150000
LOCATION:Tělocvičná jednota Sokol Nechanice\, Školská 348 Nechanice
SUMMARY:HK-U18Z: Nechanice-Nová Paka
END:VEVENT
BEGIN:VEVENT
UID:36373139-6662-4562-b637-366431363138
DTSTAMP:20260422T162828Z
DESCRIPTION:25/124 Jiskra Jaroměř - Nová Paka 3:0 (10\,22\,8)
DTSTART;TZID=Europe/Berlin:20250215T100000
DTEND;TZID=Europe/Berlin:20250215T120000
LOCATION:Hala SŠŘ\, Na Karlově 798 Jaroměř - Pražské Předměstí
SUMMARY:HK-U18Z: Jiskra Jaroměř-Nová Paka
END:VEVENT
BEGIN:VEVENT
UID:35306666-3633-4239-b634-656363623966
DTSTAMP:20260422T162828Z
DESCRIPTION:26/129 Jiskra Jaroměř - Nová Paka 3:0 (13\,9\,23)
DTSTART;TZID=Europe/Berlin:20250215T130000
DTEND;TZID=Europe/Berlin:20250215T150000
LOCATION:Hala SŠŘ\, Na Karlově 798 Jaroměř - Pražské Předměstí
SUMMARY:HK-U18Z: Jiskra Jaroměř-Nová Paka
END:VEVENT
BEGIN:VEVENT
UID:64373539-3936-4965-b532-643131303937
DTSTAMP:20260422T162828Z
DESCRIPTION:29/145 Volejbal Č. Kostelec - Nová Paka 3:1 (23\,17\,-24\,22)
DTSTART;TZID=Europe/Berlin:20250301T100000
DTEND;TZID=Europe/Berlin:20250301T120000
LOCATION:Sportovní hala\, Palackého 1234 Červený Kostelec
SUMMARY:HK-U18Z: Volejbal Č. Kostelec-Nová Paka
END:VEVENT
BEGIN:VEVENT
UID:30653135-3137-4237-b333-303831393634
DTSTAMP:20260422T162828Z
DESCRIPTION:30/150 Volejbal Č. Kostelec - Nová Paka 3:0 (20\,22\,17)
DTSTART;TZID=Europe/Berlin:20250301T130000
DTEND;TZID=Europe/Berlin:20250301T150000
LOCATION:Sportovní hala\, Palackého 1234 Červený Kostelec
SUMMARY:HK-U18Z: Volejbal Č. Kostelec-Nová Paka
END:VEVENT
BEGIN:VEVENT
UID:65383163-3737-4635-b430-323730393235
DTSTAMP:20260422T162828Z
DESCRIPTION:31/151 Sokol Chlumec/C. - Nová Paka 3:1 (21\,19\,-23\,24)
DTSTART;TZID=Europe/Berlin:20250309T090000
DTEND;TZID=Europe/Berlin:20250309T110000
LOCATION:Slavíčkova hala\, Sokolská 795 Chlumec nad Cidlinou - Chlumec nad 
 Cidlinou IV
SUMMARY:HK-U18Z: Sokol Chlumec/C.-Nová Paka
END:VEVENT
BEGIN:VEVENT
UID:37623263-3465-4334-b639-363261633533
DTSTAMP:20260422T162828Z
DESCRIPTION:32/156 Sokol Chlumec/C. - Nová Paka 2:3 (-18\,22\,-16\,15\,-9)
DTSTART;TZID=Europe/Berlin:20250309T120000
DTEND;TZID=Europe/Berlin:20250309T140000
LOCATION:Slavíčkova hala\, Sokolská 795 Chlumec nad Cidlinou - Chlumec nad 
 Cidlinou IV
SUMMARY:HK-U18Z: Sokol Chlumec/C.-Nová Paka
END:VEVENT
BEGIN:VEVENT
UID:37663136-3635-4738-b035-646632623836
DTSTAMP:20260422T162828Z
DESCRIPTION:35/172 Sokol Pouchov - Nová Paka 3:0 (11\,20\,15)
DTSTART;TZID=Europe/Berlin:20250329T100000
DTEND;TZID=Europe/Berlin:20250329T120000
LOCATION:Hala Pouchov\, K Sokolovně 544 Hradec Králové - Pouchov
SUMMARY:HK-U18Z: Sokol Pouchov-Nová Paka
END:VEVENT
BEGIN:VEVENT
UID:62323364-3738-4636-b739-343762303931
DTSTAMP:20260422T162828Z
DESCRIPTION:36/177 Sokol Pouchov - Nová Paka 2:3 (20\,-18\,21\,-18\,-11)
DTSTART;TZID=Europe/Berlin:20250329T130000
DTEND;TZID=Europe/Berlin:20250329T150000
LOCATION:Hala Pouchov\, K Sokolovně 544 Hradec Králové - Pouchov
SUMMARY:HK-U18Z: Sokol Pouchov-Nová Paka
END:VEVENT
END:VCALENDAR
