BEGIN:VCALENDAR
VERSION:2.0
PRODID:-//SVK Nový Jičín, z.s. "A"86425//NONSGML kigkonsult.se iCalcreator 2.41.80//
CALSCALE:GREGORIAN
UID:36306661-3632-4734-b463-633966303838
BEGIN:VEVENT
UID:62306432-3237-4665-b630-336131316435
DTSTAMP:20260422T002603Z
DESCRIPTION:1/1 N.Jičín 'A' - VKB Frýdlant 'B' 2:0 (7\,15)
DTSTART;TZID=Europe/Berlin:20240929T090000
DTEND;TZID=Europe/Berlin:20240929T110000
LOCATION:Víceúčelová sportovní hala\,  Raškovice18
SUMMARY:MS-U16Z-KVD: N.Jičín 'A'-VKB Frýdlant 'B'
END:VEVENT
BEGIN:VEVENT
UID:31393630-3966-4335-a239-656637633964
DTSTAMP:20260422T002603Z
DESCRIPTION:4/11 N.Jičín 'A' - VS Ostrava 2:1 (-19\,9\,10)
DTSTART;TZID=Europe/Berlin:20240929T133000
DTEND;TZID=Europe/Berlin:20240929T153000
LOCATION:Víceúčelová sportovní hala\,  Raškovice18
SUMMARY:MS-U16Z-KVD: N.Jičín 'A'-VS Ostrava
END:VEVENT
BEGIN:VEVENT
UID:30646134-6632-4066-a264-353038306361
DTSTAMP:20260422T002603Z
DESCRIPTION:2/6 Raškovice - N.Jičín 'A' 2:1 (-23\,15\,11)
DTSTART;TZID=Europe/Berlin:20240929T103000
DTEND;TZID=Europe/Berlin:20240929T123000
LOCATION:Víceúčelová sportovní hala\,  Raškovice18
SUMMARY:MS-U16Z-KVD: Raškovice-N.Jičín 'A'
END:VEVENT
BEGIN:VEVENT
UID:62666230-3930-4136-b163-643166323561
DTSTAMP:20260422T002603Z
DESCRIPTION:3/8 Orlová - N.Jičín 'A' 0:2 (-17\,-18)
DTSTART;TZID=Europe/Berlin:20240929T120000
DTEND;TZID=Europe/Berlin:20240929T140000
LOCATION:Víceúčelová sportovní hala\,  Raškovice18
SUMMARY:MS-U16Z-KVD: Orlová-N.Jičín 'A'
END:VEVENT
BEGIN:VEVENT
UID:33353235-3236-4233-b163-356136646663
DTSTAMP:20260422T002603Z
DESCRIPTION:5/15 TJ Sokol F-M 'C' - N.Jičín 'A' 0:2 (-9\,-11)
DTSTART;TZID=Europe/Berlin:20240929T150000
DTEND;TZID=Europe/Berlin:20240929T170000
LOCATION:Víceúčelová sportovní hala\,  Raškovice18
SUMMARY:MS-U16Z-KVD: TJ Sokol F-M 'C'-N.Jičín 'A'
END:VEVENT
BEGIN:VEVENT
UID:33643936-3664-4739-a230-633837373861
DTSTAMP:20260422T002603Z
DESCRIPTION:3/5 N.Jičín 'A' - Polanka 'A' 2:1 (-22\,20\,13)
DTSTART;TZID=Europe/Berlin:20241020T120000
DTEND;TZID=Europe/Berlin:20241020T140000
LOCATION:Sportovní hala\, Tyršova 1668 Hlučín
SUMMARY:MS-U16Z-T1B: N.Jičín 'A'-Polanka 'A'
END:VEVENT
BEGIN:VEVENT
UID:65306561-3131-4565-b363-346535323535
DTSTAMP:20260422T002603Z
DESCRIPTION:4/8 N.Jičín 'A' - VKB Frýdlant 'A' 0:2 (-20\,-19)
DTSTART;TZID=Europe/Berlin:20241020T133000
DTEND;TZID=Europe/Berlin:20241020T153000
LOCATION:Sportovní hala\, Tyršova 1668 Hlučín
SUMMARY:MS-U16Z-T1B: N.Jičín 'A'-VKB Frýdlant 'A'
END:VEVENT
BEGIN:VEVENT
UID:33646361-6464-4663-b861-633563633336
DTSTAMP:20260422T002603Z
DESCRIPTION:1/1 Hlučín 'A' - N.Jičín 'A' 2:0 (19\,9)
DTSTART;TZID=Europe/Berlin:20241020T090000
DTEND;TZID=Europe/Berlin:20241020T110000
LOCATION:Sportovní hala\, Tyršova 1668 Hlučín
SUMMARY:MS-U16Z-T1B: Hlučín 'A'-N.Jičín 'A'
END:VEVENT
BEGIN:VEVENT
UID:36623465-6236-4238-a636-343864313937
DTSTAMP:20260422T002603Z
DESCRIPTION:2/4 Kopřivnice - N.Jičín 'A' 2:1 (21\,-19\,11)
DTSTART;TZID=Europe/Berlin:20241020T103000
DTEND;TZID=Europe/Berlin:20241020T123000
LOCATION:Sportovní hala\, Tyršova 1668 Hlučín
SUMMARY:MS-U16Z-T1B: Kopřivnice-N.Jičín 'A'
END:VEVENT
BEGIN:VEVENT
UID:33643239-3936-4336-a337-613866356263
DTSTAMP:20260422T002603Z
DESCRIPTION:3/6 N.Jičín 'A' - Polanka 'A' 2:0 (14\,18)
DTSTART;TZID=Europe/Berlin:20241110T120000
DTEND;TZID=Europe/Berlin:20241110T140000
LOCATION:SH GaSPŠEI Frenštát\, Křižíkova 2204 Frenštát pod Radhoštěm
SUMMARY:MS-U16Z-T2C: N.Jičín 'A'-Polanka 'A'
END:VEVENT
BEGIN:VEVENT
UID:34363035-3931-4932-b965-396430386638
DTSTAMP:20260422T002603Z
DESCRIPTION:5/9 N.Jičín 'A' - Frenštát p.R. 2:0 (18\,19)
DTSTART;TZID=Europe/Berlin:20241110T150000
DTEND;TZID=Europe/Berlin:20241110T170000
LOCATION:SH GaSPŠEI Frenštát\, Křižíkova 2204 Frenštát pod Radhoštěm
SUMMARY:MS-U16Z-T2C: N.Jičín 'A'-Frenštát p.R.
END:VEVENT
BEGIN:VEVENT
UID:66366436-3738-4662-b563-663934363365
DTSTAMP:20260422T002603Z
DESCRIPTION:2/3 N.Jičín 'B' - N.Jičín 'A' 1:2 (27\,-21\,-16)
DTSTART;TZID=Europe/Berlin:20241110T103000
DTEND;TZID=Europe/Berlin:20241110T123000
LOCATION:SH GaSPŠEI Frenštát\, Křižíkova 2204 Frenštát pod Radhoštěm
SUMMARY:MS-U16Z-T2C: N.Jičín 'B'-N.Jičín 'A'
END:VEVENT
BEGIN:VEVENT
UID:61636230-6665-4539-a535-346636656531
DTSTAMP:20260422T002603Z
DESCRIPTION:4/8 Orlová - N.Jičín 'A' 0:2 (-13\,-20)
DTSTART;TZID=Europe/Berlin:20241110T133000
DTEND;TZID=Europe/Berlin:20241110T153000
LOCATION:SH GaSPŠEI Frenštát\, Křižíkova 2204 Frenštát pod Radhoštěm
SUMMARY:MS-U16Z-T2C: Orlová-N.Jičín 'A'
END:VEVENT
BEGIN:VEVENT
UID:32666537-3264-4466-a437-313565326465
DTSTAMP:20260422T002603Z
DESCRIPTION:2/4 N.Jičín 'A' - Polanka 'A' 2:0 (23\,18)
DTSTART;TZID=Europe/Berlin:20241201T103000
DTEND;TZID=Europe/Berlin:20241201T123000
LOCATION:Sportovní hala\, Tyršova 1668 Hlučín
SUMMARY:MS-U16Z-T3B: N.Jičín 'A'-Polanka 'A'
END:VEVENT
BEGIN:VEVENT
UID:39376333-6264-4466-b361-656362386264
DTSTAMP:20260422T002603Z
DESCRIPTION:5/9 N.Jičín 'A' - Hlučín 'A' 0:2 (-16\,-11)
DTSTART;TZID=Europe/Berlin:20241201T150000
DTEND;TZID=Europe/Berlin:20241201T170000
LOCATION:Sportovní hala\, Tyršova 1668 Hlučín
SUMMARY:MS-U16Z-T3B: N.Jičín 'A'-Hlučín 'A'
END:VEVENT
BEGIN:VEVENT
UID:34353865-3830-4130-b763-636439383434
DTSTAMP:20260422T002603Z
DESCRIPTION:1/2 VKB Frýdlant 'A' - N.Jičín 'A' 0:2 (-24\,-22)
DTSTART;TZID=Europe/Berlin:20241201T090000
DTEND;TZID=Europe/Berlin:20241201T110000
LOCATION:Sportovní hala\, Tyršova 1668 Hlučín
SUMMARY:MS-U16Z-T3B: VKB Frýdlant 'A'-N.Jičín 'A'
END:VEVENT
BEGIN:VEVENT
UID:62356164-3965-4036-b337-643365663139
DTSTAMP:20260422T002603Z
DESCRIPTION:4/7 Kopřivnice - N.Jičín 'A' 0:2 (-21\,-13)
DTSTART;TZID=Europe/Berlin:20241201T133000
DTEND;TZID=Europe/Berlin:20241201T153000
LOCATION:Sportovní hala\, Tyršova 1668 Hlučín
SUMMARY:MS-U16Z-T3B: Kopřivnice-N.Jičín 'A'
END:VEVENT
BEGIN:VEVENT
UID:30373262-6161-4562-a132-393462626236
DTSTAMP:20260422T002603Z
DESCRIPTION:2/4 N.Jičín 'A' - Hlučín 'A' 0:2 (-24\,-19)
DTSTART;TZID=Europe/Berlin:20250112T103000
DTEND;TZID=Europe/Berlin:20250112T123000
LOCATION:Hala míčových sportů\, Varenská 3098 Ostrava - Moravská Ostrava
SUMMARY:MS-U16Z-T4A: N.Jičín 'A'-Hlučín 'A'
END:VEVENT
BEGIN:VEVENT
UID:36343631-6464-4062-a664-313733353162
DTSTAMP:20260422T002603Z
DESCRIPTION:5/9 N.Jičín 'A' - Ostrava 'A' 0:2 (-11\,-14)
DTSTART;TZID=Europe/Berlin:20250112T150000
DTEND;TZID=Europe/Berlin:20250112T170000
LOCATION:Hala míčových sportů\, Varenská 3098 Ostrava - Moravská Ostrava
SUMMARY:MS-U16Z-T4A: N.Jičín 'A'-Ostrava 'A'
END:VEVENT
BEGIN:VEVENT
UID:31306535-6163-4539-b638-393932663035
DTSTAMP:20260422T002603Z
DESCRIPTION:1/2 Bílovec 'A' - N.Jičín 'A' 2:0 (18\,13)
DTSTART;TZID=Europe/Berlin:20250112T090000
DTEND;TZID=Europe/Berlin:20250112T110000
LOCATION:Hala míčových sportů\, Varenská 3098 Ostrava - Moravská Ostrava
SUMMARY:MS-U16Z-T4A: Bílovec 'A'-N.Jičín 'A'
END:VEVENT
BEGIN:VEVENT
UID:35316231-3933-4138-a432-383635333462
DTSTAMP:20260422T002603Z
DESCRIPTION:4/7 HS Opava 'A' - N.Jičín 'A' 2:0 (19\,13)
DTSTART;TZID=Europe/Berlin:20250112T133000
DTEND;TZID=Europe/Berlin:20250112T153000
LOCATION:Hala míčových sportů\, Varenská 3098 Ostrava - Moravská Ostrava
SUMMARY:MS-U16Z-T4A: HS Opava 'A'-N.Jičín 'A'
END:VEVENT
BEGIN:VEVENT
UID:62316461-3166-4666-b130-353530353535
DTSTAMP:20260422T002603Z
DESCRIPTION:3/6 N.Jičín 'A' - Kopřivnice 1:2 (-19\,17\,-13)
DTSTART;TZID=Europe/Berlin:20250209T120000
DTEND;TZID=Europe/Berlin:20250209T140000
LOCATION:Sportovní hala\, Heleny Salichové 1275 Ostrava - Polanka nad Odrou
SUMMARY:MS-U16Z-T5B: N.Jičín 'A'-Kopřivnice
END:VEVENT
BEGIN:VEVENT
UID:36656363-3565-4561-a362-303166623065
DTSTAMP:20260422T002603Z
DESCRIPTION:4/7 N.Jičín 'A' - VS Ostrava 2:1 (19\,-23\,10)
DTSTART;TZID=Europe/Berlin:20250209T133000
DTEND;TZID=Europe/Berlin:20250209T153000
LOCATION:Sportovní hala\, Heleny Salichové 1275 Ostrava - Polanka nad Odrou
SUMMARY:MS-U16Z-T5B: N.Jičín 'A'-VS Ostrava
END:VEVENT
BEGIN:VEVENT
UID:64326361-3437-4834-a534-373238383933
DTSTAMP:20260422T002603Z
DESCRIPTION:2/3 Raškovice - N.Jičín 'A' 2:0 (15\,19)
DTSTART;TZID=Europe/Berlin:20250209T103000
DTEND;TZID=Europe/Berlin:20250209T123000
LOCATION:Sportovní hala\, Heleny Salichové 1275 Ostrava - Polanka nad Odrou
SUMMARY:MS-U16Z-T5B: Raškovice-N.Jičín 'A'
END:VEVENT
BEGIN:VEVENT
UID:63623737-6530-4661-a336-303431386162
DTSTAMP:20260422T002603Z
DESCRIPTION:5/10 Polanka 'A' - N.Jičín 'A' 1:2 (-13\,18\,-14)
DTSTART;TZID=Europe/Berlin:20250209T150000
DTEND;TZID=Europe/Berlin:20250209T170000
LOCATION:Sportovní hala\, Heleny Salichové 1275 Ostrava - Polanka nad Odrou
SUMMARY:MS-U16Z-T5B: Polanka 'A'-N.Jičín 'A'
END:VEVENT
BEGIN:VEVENT
UID:33636533-3666-4432-b866-653732393736
DTSTAMP:20260422T002603Z
DESCRIPTION:2/3 N.Jičín 'A' - VKB Frýdlant 'A' 0:2 (-21\,-23)
DTSTART;TZID=Europe/Berlin:20250302T103000
DTEND;TZID=Europe/Berlin:20250302T123000
LOCATION:Tělocvičny ZŠ 17.listopadu Kopřivnice\, 17. listopadu 1225 Kopřivn
 ice
SUMMARY:MS-U16Z-T6B: N.Jičín 'A'-VKB Frýdlant 'A'
END:VEVENT
BEGIN:VEVENT
UID:37376135-3538-4163-b063-303663626464
DTSTAMP:20260422T002603Z
DESCRIPTION:5/10 N.Jičín 'A' - VS Ostrava 2:0 (22\,19)
DTSTART;TZID=Europe/Berlin:20250302T150000
DTEND;TZID=Europe/Berlin:20250302T170000
LOCATION:Tělocvičny ZŠ 17.listopadu Kopřivnice\, 17. listopadu 1225 Kopřivn
 ice
SUMMARY:MS-U16Z-T6B: N.Jičín 'A'-VS Ostrava
END:VEVENT
BEGIN:VEVENT
UID:36363132-6137-4832-b166-653134353665
DTSTAMP:20260422T002603Z
DESCRIPTION:3/6 TJ Sokol F-M 'A' - N.Jičín 'A' 2:0 (20\,17)
DTSTART;TZID=Europe/Berlin:20250302T120000
DTEND;TZID=Europe/Berlin:20250302T140000
LOCATION:Tělocvičny ZŠ 17.listopadu Kopřivnice\, 17. listopadu 1225 Kopřivn
 ice
SUMMARY:MS-U16Z-T6B: TJ Sokol F-M 'A'-N.Jičín 'A'
END:VEVENT
BEGIN:VEVENT
UID:66383562-6534-4035-b163-386162656561
DTSTAMP:20260422T002603Z
DESCRIPTION:4/7 Kopřivnice - N.Jičín 'A' 2:0 (15\,11)
DTSTART;TZID=Europe/Berlin:20250302T133000
DTEND;TZID=Europe/Berlin:20250302T153000
LOCATION:Tělocvičny ZŠ 17.listopadu Kopřivnice\, 17. listopadu 1225 Kopřivn
 ice
SUMMARY:MS-U16Z-T6B: Kopřivnice-N.Jičín 'A'
END:VEVENT
BEGIN:VEVENT
UID:65346235-3835-4033-b861-396162343665
DTSTAMP:20260422T002603Z
DESCRIPTION:2/4 N.Jičín 'A' - Polanka 'A' 1:2 (-20\,15\,-8)
DTSTART;TZID=Europe/Berlin:20250323T103000
DTEND;TZID=Europe/Berlin:20250323T123000
LOCATION:Tělocvičny ZŠ 17.listopadu Kopřivnice\, 17. listopadu 1225 Kopřivn
 ice
SUMMARY:MS-U16Z-T7B: N.Jičín 'A'-Polanka 'A'
END:VEVENT
BEGIN:VEVENT
UID:64393734-3064-4336-b036-613337336333
DTSTAMP:20260422T002603Z
DESCRIPTION:4/7 N.Jičín 'A' - VKB Frýdlant 'A' 1:2 (-16\,22\,-12)
DTSTART;TZID=Europe/Berlin:20250323T133000
DTEND;TZID=Europe/Berlin:20250323T153000
LOCATION:Tělocvičny ZŠ 17.listopadu Kopřivnice\, 17. listopadu 1225 Kopřivn
 ice
SUMMARY:MS-U16Z-T7B: N.Jičín 'A'-VKB Frýdlant 'A'
END:VEVENT
BEGIN:VEVENT
UID:38326539-3863-4438-b831-616336623463
DTSTAMP:20260422T002603Z
DESCRIPTION:1/2 Kopřivnice - N.Jičín 'A' 2:1 (17\,-23\,3)
DTSTART;TZID=Europe/Berlin:20250323T090000
DTEND;TZID=Europe/Berlin:20250323T110000
LOCATION:Tělocvičny ZŠ 17.listopadu Kopřivnice\, 17. listopadu 1225 Kopřivn
 ice
SUMMARY:MS-U16Z-T7B: Kopřivnice-N.Jičín 'A'
END:VEVENT
BEGIN:VEVENT
UID:30373134-6661-4766-b237-643435653139
DTSTAMP:20260422T002603Z
DESCRIPTION:5/9 HS Opava 'A' - N.Jičín 'A' 2:0 (10\,18)
DTSTART;TZID=Europe/Berlin:20250323T150000
DTEND;TZID=Europe/Berlin:20250323T170000
LOCATION:Tělocvičny ZŠ 17.listopadu Kopřivnice\, 17. listopadu 1225 Kopřivn
 ice
SUMMARY:MS-U16Z-T7B: HS Opava 'A'-N.Jičín 'A'
END:VEVENT
END:VCALENDAR
