BEGIN:VCALENDAR
VERSION:2.0
PRODID:-//Volejbal Červený Kostelec86442//NONSGML kigkonsult.se iCalcreator 2.41.80//
CALSCALE:GREGORIAN
UID:63666566-6634-4462-b031-656361373865
BEGIN:VEVENT
UID:30396134-6438-4262-b030-353537386335
DTSTAMP:20260422T154727Z
DESCRIPTION:1/1 Č. Kostelec - Třebeš U20 3:0 (14\,8\,11)
DTSTART;TZID=Europe/Berlin:20240922T100000
DTEND;TZID=Europe/Berlin:20240922T120000
LOCATION:Sportovní hala\, Palackého 1234 Červený Kostelec
SUMMARY:HK-U22Z-AB: Č. Kostelec-Třebeš U20
END:VEVENT
BEGIN:VEVENT
UID:33383836-6562-4038-b461-376264636235
DTSTAMP:20260422T154727Z
DESCRIPTION:2/6 Č. Kostelec - Třebeš U20 3:0 (15\,8\,18)
DTSTART;TZID=Europe/Berlin:20240922T130000
DTEND;TZID=Europe/Berlin:20240922T150000
LOCATION:Sportovní hala\, Palackého 1234 Červený Kostelec
SUMMARY:HK-U22Z-AB: Č. Kostelec-Třebeš U20
END:VEVENT
BEGIN:VEVENT
UID:34613037-6230-4963-b866-663533396431
DTSTAMP:20260422T154727Z
DESCRIPTION:9/43 Č. Kostelec - POUCHOV U20 3:0 (27\,20\,23)
DTSTART;TZID=Europe/Berlin:20241124T100000
DTEND;TZID=Europe/Berlin:20241124T120000
LOCATION:Sportovní hala\, Palackého 1234 Červený Kostelec
SUMMARY:HK-U22Z-AB: Č. Kostelec-POUCHOV U20
END:VEVENT
BEGIN:VEVENT
UID:36653338-6438-4230-b436-663065636632
DTSTAMP:20260422T154727Z
DESCRIPTION:10/48 Č. Kostelec - POUCHOV U20 3:0 (16\,21\,20)
DTSTART;TZID=Europe/Berlin:20241124T130000
DTEND;TZID=Europe/Berlin:20241124T150000
LOCATION:Sportovní hala\, Palackého 1234 Červený Kostelec
SUMMARY:HK-U22Z-AB: Č. Kostelec-POUCHOV U20
END:VEVENT
BEGIN:VEVENT
UID:36633366-3438-4538-b263-353135653766
DTSTAMP:20260422T154727Z
DESCRIPTION:13/64 Č. Kostelec - RÉMA Rychnov U20 3:0 (13\,8\,15)
DTSTART;TZID=Europe/Berlin:20250119T090000
DTEND;TZID=Europe/Berlin:20250119T110000
LOCATION:Sportovní hala\, Palackého 1234 Červený Kostelec
SUMMARY:HK-U22Z-AB: Č. Kostelec-RÉMA Rychnov U20
END:VEVENT
BEGIN:VEVENT
UID:63643038-6538-4235-b863-326137316639
DTSTAMP:20260422T154727Z
DESCRIPTION:14/69 Č. Kostelec - RÉMA Rychnov U20 3:0 (25\,21\,17)
DTSTART;TZID=Europe/Berlin:20250119T130000
DTEND;TZID=Europe/Berlin:20250119T150000
LOCATION:Sportovní hala\, Palackého 1234 Červený Kostelec
SUMMARY:HK-U22Z-AB: Č. Kostelec-RÉMA Rychnov U20
END:VEVENT
BEGIN:VEVENT
UID:33353463-3035-4830-a661-306632313862
DTSTAMP:20260422T154727Z
DESCRIPTION:17/85 Č. Kostelec - SPORT Náchod 3:1 (12\,18\,-17\,23)
DTSTART;TZID=Europe/Berlin:20250202T100000
DTEND;TZID=Europe/Berlin:20250202T120000
LOCATION:Sportovní hala\, Palackého 1234 Červený Kostelec
SUMMARY:HK-U22Z-AB: Č. Kostelec-SPORT Náchod
END:VEVENT
BEGIN:VEVENT
UID:61396131-6134-4736-a539-366538323266
DTSTAMP:20260422T154727Z
DESCRIPTION:18/90 Č. Kostelec - SPORT Náchod 3:1 (19\,22\,-24\,22)
DTSTART;TZID=Europe/Berlin:20250202T130000
DTEND;TZID=Europe/Berlin:20250202T150000
LOCATION:Sportovní hala\, Palackého 1234 Červený Kostelec
SUMMARY:HK-U22Z-AB: Č. Kostelec-SPORT Náchod
END:VEVENT
BEGIN:VEVENT
UID:35383235-3862-4165-b030-366165373262
DTSTAMP:20260422T154727Z
DESCRIPTION:3/15 Jičín U20 - Č. Kostelec 2:3 (-17\,22\,-19\,16\,-14)
DTSTART;TZID=Europe/Berlin:20241013T100000
DTEND;TZID=Europe/Berlin:20241013T120000
LOCATION:hala Masarykovy obchodní akademie\, 17. listopadu 220 Jičín - Vald
 ické Předměstí
SUMMARY:HK-U22Z-AB: Jičín U20-Č. Kostelec
END:VEVENT
BEGIN:VEVENT
UID:63643835-6433-4231-b863-363462653763
DTSTAMP:20260422T154727Z
DESCRIPTION:4/20 Jičín U20 - Č. Kostelec 0:3 (-21\,-12\,-21)
DTSTART;TZID=Europe/Berlin:20241013T130000
DTEND;TZID=Europe/Berlin:20241013T150000
LOCATION:hala Masarykovy obchodní akademie\, 17. listopadu 220 Jičín - Vald
 ické Předměstí
SUMMARY:HK-U22Z-AB: Jičín U20-Č. Kostelec
END:VEVENT
BEGIN:VEVENT
UID:64303862-6238-4236-b533-613435623930
DTSTAMP:20260422T154727Z
DESCRIPTION:5/22 Nová Paka U20 - Č. Kostelec 0:3 (-13\,-17\,-17)
DTSTART;TZID=Europe/Berlin:20241027T100000
DTEND;TZID=Europe/Berlin:20241027T120000
LOCATION:hala ZŠ Husitská Nová Paka\, Husitská 1695 Nová Paka
SUMMARY:HK-U22Z-AB: Nová Paka U20-Č. Kostelec
END:VEVENT
BEGIN:VEVENT
UID:36313562-6662-4930-b861-373463326162
DTSTAMP:20260422T154727Z
DESCRIPTION:6/27 Nová Paka U20 - Č. Kostelec 0:3 (-14\,-12\,-17)
DTSTART;TZID=Europe/Berlin:20241027T130000
DTEND;TZID=Europe/Berlin:20241027T150000
LOCATION:hala ZŠ Husitská Nová Paka\, Husitská 1695 Nová Paka
SUMMARY:HK-U22Z-AB: Nová Paka U20-Č. Kostelec
END:VEVENT
BEGIN:VEVENT
UID:36343338-3065-4062-b135-393666666165
DTSTAMP:20260422T154727Z
DESCRIPTION:7/34 ST.M.-Náchod 20 - Č. Kostelec 0:3 (-17\,-20\,-23)
DTSTART;TZID=Europe/Berlin:20241110T100000
DTEND;TZID=Europe/Berlin:20241110T120000
LOCATION:Sportovni hala TJ. Sokol Staré Město - Náchod\, Na Skalce 263 Nách
 od - Staré Město nad Metují
SUMMARY:HK-U22Z-AB: ST.M.-Náchod 20-Č. Kostelec
END:VEVENT
BEGIN:VEVENT
UID:35373234-3633-4963-b033-393138303734
DTSTAMP:20260422T154727Z
DESCRIPTION:8/39 ST.M.-Náchod 20 - Č. Kostelec 1:3 (-15\,-15\,18\,-20)
DTSTART;TZID=Europe/Berlin:20241110T130000
DTEND;TZID=Europe/Berlin:20241110T150000
LOCATION:Sportovni hala TJ. Sokol Staré Město - Náchod\, Na Skalce 263 Nách
 od - Staré Město nad Metují
SUMMARY:HK-U22Z-AB: ST.M.-Náchod 20-Č. Kostelec
END:VEVENT
BEGIN:VEVENT
UID:39393661-3633-4861-a166-363964383838
DTSTAMP:20260422T154727Z
DESCRIPTION:11/53 Baník Rtyně U20 - Č. Kostelec 0:3 (-17\,-22\,-21)
DTSTART;TZID=Europe/Berlin:20241208T100000
DTEND;TZID=Europe/Berlin:20241208T120000
LOCATION:Tělocvična ZŠ Zbečník\,  Hronov - Zbečník210
SUMMARY:HK-U22Z-AB: Baník Rtyně U20-Č. Kostelec
END:VEVENT
BEGIN:VEVENT
UID:66666435-6665-4665-b435-356130363636
DTSTAMP:20260422T154727Z
DESCRIPTION:12/58 Baník Rtyně U20 - Č. Kostelec 0:3 (-16\,-14\,-21)
DTSTART;TZID=Europe/Berlin:20241208T130000
DTEND;TZID=Europe/Berlin:20241208T150000
LOCATION:Tělocvična ZŠ Zbečník\,  Hronov - Zbečník210
SUMMARY:HK-U22Z-AB: Baník Rtyně U20-Č. Kostelec
END:VEVENT
BEGIN:VEVENT
UID:39373932-3961-4061-b563-333361663530
DTSTAMP:20260422T154727Z
DESCRIPTION:15/72 Třebeš - Č. Kostelec 0:3 (-15\,-11\,-12)
DTSTART;TZID=Europe/Berlin:20250125T100000
DTEND;TZID=Europe/Berlin:20250125T120000
LOCATION:ZŠ Bezručova\, Bezručova 1468 Hradec Králové - Pražské Předměstí
SUMMARY:HK-U22Z-AB: Třebeš-Č. Kostelec
END:VEVENT
BEGIN:VEVENT
UID:38373863-3562-4436-b138-653662353432
DTSTAMP:20260422T154727Z
DESCRIPTION:16/77 Třebeš - Č. Kostelec 1:3 (-15\,-18\,19\,-25)
DTSTART;TZID=Europe/Berlin:20250125T130000
DTEND;TZID=Europe/Berlin:20250125T150000
LOCATION:ZŠ Bezručova\, Bezručova 1468 Hradec Králové - Pražské Předměstí
SUMMARY:HK-U22Z-AB: Třebeš-Č. Kostelec
END:VEVENT
BEGIN:VEVENT
UID:61336164-6162-4537-b136-306462636631
DTSTAMP:20260422T154727Z
DESCRIPTION:1/1 Č. Kostelec - SPORT Náchod 3:0 (16\,20\,13)\npoř:Č.KOSTELEC
DTSTART;TZID=Europe/Berlin:20250216T090000
DTEND;TZID=Europe/Berlin:20250216T110000
LOCATION:Sportovní hala\, Palackého 1234 Červený Kostelec
SUMMARY:HK-U22Z-F: Č. Kostelec-SPORT Náchod
END:VEVENT
BEGIN:VEVENT
UID:61313932-3866-4634-b962-383064643861
DTSTAMP:20260422T154727Z
DESCRIPTION:1/2 Č. Kostelec - Třebeš 3:2 (-18\,14\,11\,-18\,7)
DTSTART;TZID=Europe/Berlin:20250216T130000
DTEND;TZID=Europe/Berlin:20250216T150000
LOCATION:Sportovní hala\, Palackého 1234 Červený Kostelec
SUMMARY:HK-U22Z-F: Č. Kostelec-Třebeš
END:VEVENT
BEGIN:VEVENT
UID:64666437-6237-4138-b536-653330613038
DTSTAMP:20260422T154727Z
DESCRIPTION:2/6 Č. Kostelec - SPORT Náchod 3:X\nkontumováno
DTSTART;TZID=Europe/Berlin:20250630T130000
DTEND;TZID=Europe/Berlin:20250630T150000
LOCATION:Sportovní hala\, Palackého 1234 Červený Kostelec
SUMMARY:HK-U22Z-F: Č. Kostelec-SPORT Náchod
END:VEVENT
BEGIN:VEVENT
UID:65623837-3332-4838-a539-656539623537
DTSTAMP:20260422T154727Z
DESCRIPTION:2/5 Třebeš - Č. Kostelec
DTSTART;TZID=Europe/Berlin:20250630T110000
DTEND;TZID=Europe/Berlin:20250630T130000
LOCATION:Sportovní hala Třebeš\, Na Potoce 691 Hradec Králové - Třebeš
SUMMARY:HK-U22Z-F: Třebeš-Č. Kostelec
END:VEVENT
BEGIN:VEVENT
UID:65396137-3738-4439-b238-666130343862
DTSTAMP:20260422T154727Z
DESCRIPTION:3/7 Třebeš - Č. Kostelec 0:3 (-14\,-17\,-20)\npoř:TŘEBEŠ
DTSTART;TZID=Europe/Berlin:20250322T090000
DTEND;TZID=Europe/Berlin:20250322T110000
LOCATION:ZŠ Bezručova\, Bezručova 1468 Hradec Králové - Pražské Předměstí
SUMMARY:HK-U22Z-F: Třebeš-Č. Kostelec
END:VEVENT
BEGIN:VEVENT
UID:62633564-3839-4366-a665-613561653766
DTSTAMP:20260422T154727Z
DESCRIPTION:3/8 SPORT Náchod - Č. Kostelec 2:3 (22\,-21\,-18\,19\,-12)
DTSTART;TZID=Europe/Berlin:20250322T110000
DTEND;TZID=Europe/Berlin:20250322T130000
LOCATION:SPORT KLUB Náchod\, Pražská 696 Náchod
SUMMARY:HK-U22Z-F: SPORT Náchod-Č. Kostelec
END:VEVENT
BEGIN:VEVENT
UID:61353966-3137-4134-b532-613437313435
DTSTAMP:20260422T154727Z
DESCRIPTION:1/1 Č. Kostelec - Hronov 0:3 (-16\,-20\,-20)\nNH - ZŠ Zbečník
DTSTART;TZID=Europe/Berlin:20250426T090000
DTEND;TZID=Europe/Berlin:20250426T110000
LOCATION:ZŠ Hronov\, Palackého 162 Hronov
SUMMARY:1-U22Z-KA: Č. Kostelec-Hronov
END:VEVENT
BEGIN:VEVENT
UID:65376361-6464-4131-b835-333237646135
DTSTAMP:20260422T154727Z
DESCRIPTION:2/6 Č. Kostelec - Plzeň B 1:3 (-23\,24\,-10\,-10)
DTSTART;TZID=Europe/Berlin:20250427T090000
DTEND;TZID=Europe/Berlin:20250427T110000
LOCATION:ZŠ Hronov\, Palackého 162 Hronov
SUMMARY:1-U22Z-KA: Č. Kostelec-Plzeň B
END:VEVENT
BEGIN:VEVENT
UID:32346662-3062-4664-a138-623536363563
DTSTAMP:20260422T154727Z
DESCRIPTION:1/3 Vejprnice C - Č. Kostelec 1:3 (-15\,-14\,19\,-15)
DTSTART;TZID=Europe/Berlin:20250426T140000
DTEND;TZID=Europe/Berlin:20250426T160000
LOCATION:ZŠ Hronov\, Palackého 162 Hronov
SUMMARY:1-U22Z-KA: Vejprnice C-Č. Kostelec
END:VEVENT
BEGIN:VEVENT
UID:34626561-6362-4666-a239-353831356366
DTSTAMP:20260422T154727Z
DESCRIPTION:2/8 Bižuterie - Č. Kostelec 3:2 (-23\,19\,21\,-24\,9)
DTSTART;TZID=Europe/Berlin:20250427T140000
DTEND;TZID=Europe/Berlin:20250427T160000
LOCATION:ZŠ Hronov\, Palackého 162 Hronov
SUMMARY:1-U22Z-KA: Bižuterie-Č. Kostelec
END:VEVENT
END:VCALENDAR
