BEGIN:VCALENDAR
VERSION:2.0
PRODID:-//T.J. Sokol Chrudim86471//NONSGML kigkonsult.se iCalcreator 2.41.80//
CALSCALE:GREGORIAN
UID:33323034-3037-4131-a663-393035396661
BEGIN:VEVENT
UID:33653762-3762-4433-b836-366233393532
DTSTAMP:20260421T201601Z
DESCRIPTION:1/1 Sokol Chrudim - Sokol Pardubice I. B 0:2 (-17\,-19)\npořada
 tel Pardubice
DTSTART;TZID=Europe/Berlin:20240915T090000
DTEND;TZID=Europe/Berlin:20240915T110000
LOCATION:, Tyršovo náměstí 12 Chrudim - Chrudim II
SUMMARY:PA-U16Z-KVAL-A2: Sokol Chrudim-Sokol Pardubice I. B
END:VEVENT
BEGIN:VEVENT
UID:39623333-6130-4330-b936-356265393033
DTSTAMP:20260421T201601Z
DESCRIPTION:1/3 Sokol Chrudim - Sokol Dolní Újezd 0:2 (-15\,-15)\npořadatel
  Pardubice
DTSTART;TZID=Europe/Berlin:20240915T090000
DTEND;TZID=Europe/Berlin:20240915T110000
LOCATION:, Tyršovo náměstí 12 Chrudim - Chrudim II
SUMMARY:PA-U16Z-KVAL-A2: Sokol Chrudim-Sokol Dolní Újezd
END:VEVENT
BEGIN:VEVENT
UID:61653630-3332-4136-b036-663139633131
DTSTAMP:20260421T201601Z
DESCRIPTION:1/6 Sokol Chrudim - TJ Energetik Chvaletice 1:2 (-15\,29\,-10)
DTSTART;TZID=Europe/Berlin:20241006T090000
DTEND;TZID=Europe/Berlin:20241006T110000
LOCATION:, Tyršovo náměstí 12 Chrudim - Chrudim II
SUMMARY:PA-U16Z-C-1KOLO: Sokol Chrudim-TJ Energetik Chvaletice
END:VEVENT
BEGIN:VEVENT
UID:66333766-3437-4863-a361-313663326634
DTSTAMP:20260421T201601Z
DESCRIPTION:1/2 TJ Svitavy B - Sokol Chrudim 2:0 (13\,20)
DTSTART;TZID=Europe/Berlin:20241006T090000
DTEND;TZID=Europe/Berlin:20241006T110000
LOCATION:Sportovní hala Na Střelnici\, Pražská 2162 Svitavy - Předměstí
SUMMARY:PA-U16Z-C-1KOLO: TJ Svitavy B-Sokol Chrudim
END:VEVENT
BEGIN:VEVENT
UID:30646535-3331-4434-a534-303937393938
DTSTAMP:20260421T201601Z
DESCRIPTION:1/3 SKO Hlinsko - Sokol Chrudim 0:2 (-9\,-13)
DTSTART;TZID=Europe/Berlin:20241006T090000
DTEND;TZID=Europe/Berlin:20241006T110000
LOCATION:Tělocvična Gymnázium\, Adámkova třída 55 Hlinsko
SUMMARY:PA-U16Z-C-1KOLO: SKO Hlinsko-Sokol Chrudim
END:VEVENT
BEGIN:VEVENT
UID:61326136-6535-4135-a262-623639646538
DTSTAMP:20260421T201601Z
DESCRIPTION:1/6 Sokol Chrudim - Sokol Dolní Újezd 0:2 (-9\,-15)
DTSTART;TZID=Europe/Berlin:20241013T090000
DTEND;TZID=Europe/Berlin:20241013T110000
LOCATION:tělocvična Základní školy\,  Dolní Újezd342
SUMMARY:PA-U16Z-B-2KOLO: Sokol Chrudim-Sokol Dolní Újezd
END:VEVENT
BEGIN:VEVENT
UID:31636536-3932-4961-b533-366436643664
DTSTAMP:20260421T201601Z
DESCRIPTION:1/2 TJ Svitavy B - Sokol Chrudim 1:2 (21\,-14\,-12)
DTSTART;TZID=Europe/Berlin:20241013T090000
DTEND;TZID=Europe/Berlin:20241013T110000
LOCATION:tělocvična Základní školy\,  Dolní Újezd342
SUMMARY:PA-U16Z-B-2KOLO: TJ Svitavy B-Sokol Chrudim
END:VEVENT
BEGIN:VEVENT
UID:66366263-6439-4362-b437-646634343832
DTSTAMP:20260421T201601Z
DESCRIPTION:1/3 Spartak Polička - Sokol Chrudim 2:0 (21\,4)
DTSTART;TZID=Europe/Berlin:20241013T090000
DTEND;TZID=Europe/Berlin:20241013T110000
LOCATION:tělocvična Základní školy\,  Dolní Újezd342
SUMMARY:PA-U16Z-B-2KOLO: Spartak Polička-Sokol Chrudim
END:VEVENT
BEGIN:VEVENT
UID:66323532-3935-4361-a264-376461316232
DTSTAMP:20260421T201601Z
DESCRIPTION:1/1 Sokol Chrudim - TJ Žichlínek 2:1 (-21\,21\,11)
DTSTART;TZID=Europe/Berlin:20241110T090000
DTEND;TZID=Europe/Berlin:20241110T110000
LOCATION:, Tyršovo náměstí 12 Chrudim - Chrudim II
SUMMARY:PA-U16Z-C-3KOLO: Sokol Chrudim-TJ Žichlínek
END:VEVENT
BEGIN:VEVENT
UID:64653062-3938-4166-b266-646137656466
DTSTAMP:20260421T201601Z
DESCRIPTION:1/4 Sokol Chrudim - TJ Svitavy B 1:2 (23\,-24\,-7)
DTSTART;TZID=Europe/Berlin:20241110T090000
DTEND;TZID=Europe/Berlin:20241110T110000
LOCATION:, Tyršovo náměstí 12 Chrudim - Chrudim II
SUMMARY:PA-U16Z-C-3KOLO: Sokol Chrudim-TJ Svitavy B
END:VEVENT
BEGIN:VEVENT
UID:62323737-3363-4764-b839-626238663562
DTSTAMP:20260421T201601Z
DESCRIPTION:1/6 Sokol Pardubice I. B - Sokol Chrudim 2:0 (17\,9)
DTSTART;TZID=Europe/Berlin:20241110T090000
DTEND;TZID=Europe/Berlin:20241110T110000
LOCATION:Sokolovna\, Jiráskova 29 Pardubice - Zelené Předměstí
SUMMARY:PA-U16Z-C-3KOLO: Sokol Pardubice I. B-Sokol Chrudim
END:VEVENT
BEGIN:VEVENT
UID:36363032-6238-4163-b438-656464653534
DTSTAMP:20260421T201601Z
DESCRIPTION:1/2 Sokol Chrudim - SKO Hlinsko 0:3 (-16\,-11\,-23)\nKunětická 
 92\, Univerzita Pardubice
DTSTART;TZID=Europe/Berlin:20241208T100000
DTEND;TZID=Europe/Berlin:20241208T120000
LOCATION:, Tyršovo náměstí 12 Chrudim - Chrudim II
SUMMARY:PA-U16Z-D-4KOLO: Sokol Chrudim-SKO Hlinsko
END:VEVENT
BEGIN:VEVENT
UID:62343666-3230-4231-b736-373936373935
DTSTAMP:20260421T201601Z
DESCRIPTION:1/1 Sokol Pardubice I. C - Sokol Chrudim 1:3 (-17\,21\,-12\,-12
 )\nKunětická 92\, Univerzita Pardubice
DTSTART;TZID=Europe/Berlin:20241208T083000
DTEND;TZID=Europe/Berlin:20241208T103000
LOCATION:Sokolovna\, Jiráskova 29 Pardubice - Zelené Předměstí
SUMMARY:PA-U16Z-D-4KOLO: Sokol Pardubice I. C-Sokol Chrudim
END:VEVENT
BEGIN:VEVENT
UID:32616663-3963-4239-b766-626164626532
DTSTAMP:20260421T201601Z
DESCRIPTION:1/2 Sokol Chrudim - Sokol Pardubice I. C 3:0 (15\,11\,22)
DTSTART;TZID=Europe/Berlin:20250119T090000
DTEND;TZID=Europe/Berlin:20250119T110000
LOCATION:, Tyršovo náměstí 12 Chrudim - Chrudim II
SUMMARY:PA-U16Z-D-5KOLO: Sokol Chrudim-Sokol Pardubice I. C
END:VEVENT
BEGIN:VEVENT
UID:36316566-3339-4937-b134-313634616266
DTSTAMP:20260421T201601Z
DESCRIPTION:1/1 TJ Energetik Chvaletice - Sokol Chrudim 3:1 (-21\,13\,16\,2
 3)
DTSTART;TZID=Europe/Berlin:20250119T090000
DTEND;TZID=Europe/Berlin:20250119T110000
LOCATION:ZŠ Chvaletice\, Spojovací 431 Chvaletice
SUMMARY:PA-U16Z-D-5KOLO: TJ Energetik Chvaletice-Sokol Chrudim
END:VEVENT
BEGIN:VEVENT
UID:62386134-6530-4536-b033-353966303433
DTSTAMP:20260421T201601Z
DESCRIPTION:1/1 Sokol Chrudim - SKO Hlinsko 0:3 (-19\,-21\,-16)
DTSTART;TZID=Europe/Berlin:20250223T090000
DTEND;TZID=Europe/Berlin:20250223T110000
LOCATION:, Tyršovo náměstí 12 Chrudim - Chrudim II
SUMMARY:PA-U16Z-D-6KOLO: Sokol Chrudim-SKO Hlinsko
END:VEVENT
BEGIN:VEVENT
UID:34323963-6264-4236-a564-313035623435
DTSTAMP:20260421T201601Z
DESCRIPTION:1/3 Sokol Pardubice I. C - Sokol Chrudim 0:3 (-19\,-17\,-17)
DTSTART;TZID=Europe/Berlin:20250223T090000
DTEND;TZID=Europe/Berlin:20250223T110000
LOCATION:Sokolovna\, Jiráskova 29 Pardubice - Zelené Předměstí
SUMMARY:PA-U16Z-D-6KOLO: Sokol Pardubice I. C-Sokol Chrudim
END:VEVENT
BEGIN:VEVENT
UID:62636666-3139-4662-a466-663330303864
DTSTAMP:20260421T201601Z
DESCRIPTION:1/2 Sokol Chrudim - TJ Energetik Chvaletice 3:0 (16\,23\,15)\nK
 unětická 92\, Univerzita Pardubice
DTSTART;TZID=Europe/Berlin:20250316T084000
DTEND;TZID=Europe/Berlin:20250316T104000
LOCATION:, Tyršovo náměstí 12 Chrudim - Chrudim II
SUMMARY:PA-U16Z-D-7KOLO: Sokol Chrudim-TJ Energetik Chvaletice
END:VEVENT
BEGIN:VEVENT
UID:37343065-3862-4530-a531-653065373736
DTSTAMP:20260421T201601Z
DESCRIPTION:1/1 Sokol Pardubice I. C - Sokol Chrudim 1:3 (-10\,16\,-23\,-16
 )\nKunětická 92\, Univerzita Pardubice
DTSTART;TZID=Europe/Berlin:20250316T084000
DTEND;TZID=Europe/Berlin:20250316T104000
LOCATION:Sokolovna\, Jiráskova 29 Pardubice - Zelené Předměstí
SUMMARY:PA-U16Z-D-7KOLO: Sokol Pardubice I. C-Sokol Chrudim
END:VEVENT
END:VCALENDAR
