BEGIN:VCALENDAR
VERSION:2.0
PRODID:-//Orel Letohrad86472//NONSGML kigkonsult.se iCalcreator 2.41.80//
CALSCALE:GREGORIAN
UID:35306135-6537-4535-b339-613264646430
BEGIN:VEVENT
UID:33393137-3635-4934-a363-613939656562
DTSTAMP:20260422T205258Z
DESCRIPTION:1/2 Orel Letohrad - Sokol Pardubice I. 0:2 (-16\,-9)\nČT\, hala
  Na Skalce
DTSTART;TZID=Europe/Berlin:20240914T090000
DTEND;TZID=Europe/Berlin:20240914T110000
LOCATION:Hala VDA Skalka\, Skalka 1162 Česká Třebová
SUMMARY:PA-U14Z-KVAL-A1: Orel Letohrad-Sokol Pardubice I.
END:VEVENT
BEGIN:VEVENT
UID:61613061-6338-4132-b663-646535653263
DTSTAMP:20260422T205258Z
DESCRIPTION:1/1 TJ Svitavy B - Orel Letohrad 2:0 (20\,14)\nČT\, hala Na Ska
 lce
DTSTART;TZID=Europe/Berlin:20240914T090000
DTEND;TZID=Europe/Berlin:20240914T110000
LOCATION:Hala VDA Skalka\, Skalka 1162 Česká Třebová
SUMMARY:PA-U14Z-KVAL-A1: TJ Svitavy B-Orel Letohrad
END:VEVENT
BEGIN:VEVENT
UID:63376364-6166-4139-a161-356363353137
DTSTAMP:20260422T205258Z
DESCRIPTION:1/2 Orel Letohrad - VK Litomyšl 0:2 (-21\,-16)
DTSTART;TZID=Europe/Berlin:20241019T090000
DTEND;TZID=Europe/Berlin:20241019T110000
LOCATION:Sportovní hala SOŠ OU\, J. K. Tyla 1275 Moravská Třebová - Předměs
 tí
SUMMARY:PA-U14Z-C-1KOLO: Orel Letohrad-VK Litomyšl
END:VEVENT
BEGIN:VEVENT
UID:39336232-3766-4437-a637-643538353266
DTSTAMP:20260422T205258Z
DESCRIPTION:1/5 Orel Letohrad - Sokol Česká Třebová 0:2 (-18\,-12)
DTSTART;TZID=Europe/Berlin:20241019T090000
DTEND;TZID=Europe/Berlin:20241019T110000
LOCATION:Sportovní hala SOŠ OU\, J. K. Tyla 1275 Moravská Třebová - Předměs
 tí
SUMMARY:PA-U14Z-C-1KOLO: Orel Letohrad-Sokol Česká Třebová
END:VEVENT
BEGIN:VEVENT
UID:62333263-6631-4366-a331-393730663437
DTSTAMP:20260422T205258Z
DESCRIPTION:1/4 TJ Slovan Moravská Třebová\, z.s. - Orel Letohrad 2:0 (17\,
 10)
DTSTART;TZID=Europe/Berlin:20241019T090000
DTEND;TZID=Europe/Berlin:20241019T110000
LOCATION:Sportovní hala SOŠ OU\, J. K. Tyla 1275 Moravská Třebová - Předměs
 tí
SUMMARY:PA-U14Z-C-1KOLO: TJ Slovan Moravská Třebová\, z.s.-Orel Letohrad
END:VEVENT
BEGIN:VEVENT
UID:30613533-3861-4135-a130-656330346466
DTSTAMP:20260422T205258Z
DESCRIPTION:1/1 Orel Letohrad - Spartak Polička B 0:2 (-16\,-12)\nZŠ U Dvor
 a 663
DTSTART;TZID=Europe/Berlin:20241116T090000
DTEND;TZID=Europe/Berlin:20241116T110000
LOCATION:ZŠ U Dvora\, U Dvora 663 Letohrad
SUMMARY:PA-U14Z-C-2KOLO: Orel Letohrad-Spartak Polička B
END:VEVENT
BEGIN:VEVENT
UID:33333633-3832-4733-b736-363834326162
DTSTAMP:20260422T205258Z
DESCRIPTION:1/3 Orel Letohrad - VK Litomyšl 2:0 (17\,21)\nZŠ U Dvora 663
DTSTART;TZID=Europe/Berlin:20241116T103000
DTEND;TZID=Europe/Berlin:20241116T123000
LOCATION:ZŠ U Dvora\, U Dvora 663 Letohrad
SUMMARY:PA-U14Z-C-2KOLO: Orel Letohrad-VK Litomyšl
END:VEVENT
BEGIN:VEVENT
UID:62366537-3530-4561-b739-336130346334
DTSTAMP:20260422T205258Z
DESCRIPTION:1/5 Orel Letohrad - Sokol Pardubice I. 0:2 (-16\,-9)\nZŠ U Dvor
 a 663
DTSTART;TZID=Europe/Berlin:20241116T120000
DTEND;TZID=Europe/Berlin:20241116T140000
LOCATION:ZŠ U Dvora\, U Dvora 663 Letohrad
SUMMARY:PA-U14Z-C-2KOLO: Orel Letohrad-Sokol Pardubice I.
END:VEVENT
BEGIN:VEVENT
UID:35346361-6236-4535-a337-633963653865
DTSTAMP:20260422T205258Z
DESCRIPTION:1/6 Orel Letohrad - VK Litomyšl 0:2 (-7\,-16)
DTSTART;TZID=Europe/Berlin:20241130T110000
DTEND;TZID=Europe/Berlin:20241130T130000
LOCATION:Sportovní hala SOŠ OU\, J. K. Tyla 1275 Moravská Třebová - Předměs
 tí
SUMMARY:PA-U14Z-C-3KOLO: Orel Letohrad-VK Litomyšl
END:VEVENT
BEGIN:VEVENT
UID:30663138-6633-4137-a439-303532383963
DTSTAMP:20260422T205258Z
DESCRIPTION:1/2 Sokol Česká Třebová - Orel Letohrad 2:0 (14\,14)
DTSTART;TZID=Europe/Berlin:20241130T090000
DTEND;TZID=Europe/Berlin:20241130T110000
LOCATION:Sportovní hala SOŠ OU\, J. K. Tyla 1275 Moravská Třebová - Předměs
 tí
SUMMARY:PA-U14Z-C-3KOLO: Sokol Česká Třebová-Orel Letohrad
END:VEVENT
BEGIN:VEVENT
UID:66633132-3131-4031-b061-663731663436
DTSTAMP:20260422T205258Z
DESCRIPTION:1/3 TJ Slovan Moravská Třebová\, z.s. - Orel Letohrad 2:0 (5\,7
 )
DTSTART;TZID=Europe/Berlin:20241130T100000
DTEND;TZID=Europe/Berlin:20241130T120000
LOCATION:Sportovní hala SOŠ OU\, J. K. Tyla 1275 Moravská Třebová - Předměs
 tí
SUMMARY:PA-U14Z-C-3KOLO: TJ Slovan Moravská Třebová\, z.s.-Orel Letohrad
END:VEVENT
BEGIN:VEVENT
UID:34343337-3337-4938-b439-333634346561
DTSTAMP:20260422T205258Z
DESCRIPTION:1/3 Orel Letohrad - VK Litomyšl 0:2 (-14\,-16)
DTSTART;TZID=Europe/Berlin:20241207T090000
DTEND;TZID=Europe/Berlin:20241207T110000
LOCATION:Městská sportovní hala\, T. G. Masaryka 1145 Litomyšl - Litomyšl-M
 ěsto
SUMMARY:PA-U14Z-C-4KOLO: Orel Letohrad-VK Litomyšl
END:VEVENT
BEGIN:VEVENT
UID:66383266-6439-4965-a432-323530666362
DTSTAMP:20260422T205258Z
DESCRIPTION:1/6 Orel Letohrad - TJ Svitavy B 1:2 (22\,-12\,-10)
DTSTART;TZID=Europe/Berlin:20241207T090000
DTEND;TZID=Europe/Berlin:20241207T110000
LOCATION:Městská sportovní hala\, T. G. Masaryka 1145 Litomyšl - Litomyšl-M
 ěsto
SUMMARY:PA-U14Z-C-4KOLO: Orel Letohrad-TJ Svitavy B
END:VEVENT
BEGIN:VEVENT
UID:65333365-6633-4434-b733-316134313533
DTSTAMP:20260422T205258Z
DESCRIPTION:1/2 Spartak Polička B - Orel Letohrad 2:0 (18\,17)
DTSTART;TZID=Europe/Berlin:20241207T090000
DTEND;TZID=Europe/Berlin:20241207T110000
LOCATION:Městská sportovní hala\, T. G. Masaryka 1145 Litomyšl - Litomyšl-M
 ěsto
SUMMARY:PA-U14Z-C-4KOLO: Spartak Polička B-Orel Letohrad
END:VEVENT
BEGIN:VEVENT
UID:31353066-3133-4531-b639-643133653633
DTSTAMP:20260422T205258Z
DESCRIPTION:1/4 Orel Letohrad - VK Litomyšl 0:2 (-0\,-0)\nF.V.Krejčího 2096
 \, ČT
DTSTART;TZID=Europe/Berlin:20250118T113000
DTEND;TZID=Europe/Berlin:20250118T133000
LOCATION:ZŠ U Dvora\, U Dvora 663 Letohrad
SUMMARY:PA-U14Z-C-5KOLO: Orel Letohrad-VK Litomyšl
END:VEVENT
BEGIN:VEVENT
UID:63653263-6465-4234-b566-643966303531
DTSTAMP:20260422T205258Z
DESCRIPTION:1/6 Orel Letohrad - Sokol Česká Třebová 0:2 (-0\,-0)\nF.V.Krejč
 ího 2096\, ČT
DTSTART;TZID=Europe/Berlin:20250118T133000
DTEND;TZID=Europe/Berlin:20250118T153000
LOCATION:ZŠ U Dvora\, U Dvora 663 Letohrad
SUMMARY:PA-U14Z-C-5KOLO: Orel Letohrad-Sokol Česká Třebová
END:VEVENT
BEGIN:VEVENT
UID:63373566-6437-4965-a464-303431646535
DTSTAMP:20260422T205258Z
DESCRIPTION:1/2 TJ Slovan Moravská Třebová\, z.s. - Orel Letohrad 2:0 (0\,0
 )\nF.V.Krejčího 2096\, ČT
DTSTART;TZID=Europe/Berlin:20250118T093000
DTEND;TZID=Europe/Berlin:20250118T113000
LOCATION:Sportovní hala SOŠ OU\, J. K. Tyla 1275 Moravská Třebová - Předměs
 tí
SUMMARY:PA-U14Z-C-5KOLO: TJ Slovan Moravská Třebová\, z.s.-Orel Letohrad
END:VEVENT
BEGIN:VEVENT
UID:39353430-3963-4461-b566-373031313964
DTSTAMP:20260422T205258Z
DESCRIPTION:1/1 Orel Letohrad - TJ Slovan Moravská Třebová\, z.s. 0:2 (-21\
 ,-11)\nZŠ U Dvora 663
DTSTART;TZID=Europe/Berlin:20250222T083000
DTEND;TZID=Europe/Berlin:20250222T103000
LOCATION:ZŠ U Dvora\, U Dvora 663 Letohrad
SUMMARY:PA-U14Z-C-6KOLO: Orel Letohrad-TJ Slovan Moravská Třebová\, z.s.
END:VEVENT
BEGIN:VEVENT
UID:34663466-3934-4166-a139-303065623063
DTSTAMP:20260422T205258Z
DESCRIPTION:1/3 Orel Letohrad - Spartak Polička B 2:1 (-23\,25\,13)\nZŠ U D
 vora 663
DTSTART;TZID=Europe/Berlin:20250222T103000
DTEND;TZID=Europe/Berlin:20250222T123000
LOCATION:ZŠ U Dvora\, U Dvora 663 Letohrad
SUMMARY:PA-U14Z-C-6KOLO: Orel Letohrad-Spartak Polička B
END:VEVENT
BEGIN:VEVENT
UID:39663339-6135-4837-a239-373062363932
DTSTAMP:20260422T205258Z
DESCRIPTION:1/6 Sokol Pardubice I. - Orel Letohrad 2:0 (10\,13)\nZŠ U Dvora
  663
DTSTART;TZID=Europe/Berlin:20250222T133000
DTEND;TZID=Europe/Berlin:20250222T153000
LOCATION:Sokolovna\, Jiráskova 29 Pardubice - Zelené Předměstí
SUMMARY:PA-U14Z-C-6KOLO: Sokol Pardubice I.-Orel Letohrad
END:VEVENT
BEGIN:VEVENT
UID:31373434-3166-4562-b037-383263653463
DTSTAMP:20260422T205258Z
DESCRIPTION:1/5 Orel Letohrad - Spartak Polička B 0:2 (-22\,-12)\nF.V.Krejč
 ího 2096\, ČT
DTSTART;TZID=Europe/Berlin:20250301T130000
DTEND;TZID=Europe/Berlin:20250301T150000
LOCATION:VDA u Billy\, Habrmanova 2096 Česká Třebová
SUMMARY:PA-U14Z-C-7KOLO: Orel Letohrad-Spartak Polička B
END:VEVENT
BEGIN:VEVENT
UID:39306361-6662-4538-b762-633566633336
DTSTAMP:20260422T205258Z
DESCRIPTION:1/1 Sokol Česká Třebová - Orel Letohrad 2:0 (18\,14)\nF.V.Krejč
 ího 2096\, ČT
DTSTART;TZID=Europe/Berlin:20250301T090000
DTEND;TZID=Europe/Berlin:20250301T110000
LOCATION:Městská sportovní hala\, T. G. Masaryka 1145 Litomyšl - Litomyšl-M
 ěsto
SUMMARY:PA-U14Z-C-7KOLO: Sokol Česká Třebová-Orel Letohrad
END:VEVENT
BEGIN:VEVENT
UID:66646462-3531-4561-a535-643465333837
DTSTAMP:20260422T205258Z
DESCRIPTION:1/4 VK Litomyšl - Orel Letohrad 1:2 (16\,-23\,-10)\nF.V.Krejčíh
 o 2096\, ČT
DTSTART;TZID=Europe/Berlin:20250301T120000
DTEND;TZID=Europe/Berlin:20250301T140000
LOCATION:Městská sportovní hala\, T. G. Masaryka 1145 Litomyšl - Litomyšl-M
 ěsto
SUMMARY:PA-U14Z-C-7KOLO: VK Litomyšl-Orel Letohrad
END:VEVENT
BEGIN:VEVENT
UID:34323965-3563-4736-a463-656362336135
DTSTAMP:20260422T205258Z
DESCRIPTION:1/2 Orel Letohrad - TJ Slovan Moravská Třebová\, z.s. 0:2 (-18\
 ,-7)\nPolička
DTSTART;TZID=Europe/Berlin:20250322T090000
DTEND;TZID=Europe/Berlin:20250322T110000
LOCATION:ZŠ U Dvora\, U Dvora 663 Letohrad
SUMMARY:PA-U14Z-C-8KOLO: Orel Letohrad-TJ Slovan Moravská Třebová\, z.s.
END:VEVENT
BEGIN:VEVENT
UID:66393465-3861-4162-b935-643766636638
DTSTAMP:20260422T205258Z
DESCRIPTION:1/5 Orel Letohrad - Sokol Dolní Újezd 0:2 (-24\,-12)\nPolička
DTSTART;TZID=Europe/Berlin:20250322T090000
DTEND;TZID=Europe/Berlin:20250322T110000
LOCATION:ZŠ U Dvora\, U Dvora 663 Letohrad
SUMMARY:PA-U14Z-C-8KOLO: Orel Letohrad-Sokol Dolní Újezd
END:VEVENT
BEGIN:VEVENT
UID:61373735-6438-4265-b762-626239333131
DTSTAMP:20260422T205258Z
DESCRIPTION:1/4 Spartak Polička B - Orel Letohrad 2:0 (13\,17)\nPolička
DTSTART;TZID=Europe/Berlin:20250322T090000
DTEND;TZID=Europe/Berlin:20250322T110000
LOCATION:TJ Spartak Polička\, z.s. \, nábř. Svobody 447 Polička - Horní Pře
 dměstí
SUMMARY:PA-U14Z-C-8KOLO: Spartak Polička B-Orel Letohrad
END:VEVENT
END:VCALENDAR
