BEGIN:VCALENDAR
VERSION:2.0
PRODID:-//VK Polanka nad Odrou, z.s. "C"86523//NONSGML kigkonsult.se iCalcreator 2.41.80//
CALSCALE:GREGORIAN
UID:32656166-3030-4665-b137-383234353765
BEGIN:VEVENT
UID:35316536-3133-4861-b137-363232373561
DTSTAMP:20260422T003937Z
DESCRIPTION:2/4 Polanka 'C' - Slez. Orlice 'A' 2:1 (22\,-16\,11)
DTSTART;TZID=Europe/Berlin:20240929T103000
DTEND;TZID=Europe/Berlin:20240929T123000
LOCATION:Sportovní hala\, Heleny Salichové 1275 Ostrava - Polanka nad Odrou
SUMMARY:MS-U16Z-KVB: Polanka 'C'-Slez. Orlice 'A'
END:VEVENT
BEGIN:VEVENT
UID:64363531-6134-4830-a331-373433656437
DTSTAMP:20260422T003937Z
DESCRIPTION:4/10 Polanka 'C' - TJ Sokol F-M 'B' 1:2 (19\,-12\,-11)
DTSTART;TZID=Europe/Berlin:20240929T133000
DTEND;TZID=Europe/Berlin:20240929T153000
LOCATION:Sportovní hala\, Heleny Salichové 1275 Ostrava - Polanka nad Odrou
SUMMARY:MS-U16Z-KVB: Polanka 'C'-TJ Sokol F-M 'B'
END:VEVENT
BEGIN:VEVENT
UID:63393732-6461-4632-a334-346535643238
DTSTAMP:20260422T003937Z
DESCRIPTION:1/1 Ostrava 'A' - Polanka 'C' 2:0 (6\,6)
DTSTART;TZID=Europe/Berlin:20240929T090000
DTEND;TZID=Europe/Berlin:20240929T110000
LOCATION:Sportovní hala\, Heleny Salichové 1275 Ostrava - Polanka nad Odrou
SUMMARY:MS-U16Z-KVB: Ostrava 'A'-Polanka 'C'
END:VEVENT
BEGIN:VEVENT
UID:36313539-6532-4035-b665-396565666462
DTSTAMP:20260422T003938Z
DESCRIPTION:3/7 Polanka 'A' - Polanka 'C' 2:0 (9\,12)
DTSTART;TZID=Europe/Berlin:20240929T120000
DTEND;TZID=Europe/Berlin:20240929T140000
LOCATION:Sportovní hala\, Heleny Salichové 1275 Ostrava - Polanka nad Odrou
SUMMARY:MS-U16Z-KVB: Polanka 'A'-Polanka 'C'
END:VEVENT
BEGIN:VEVENT
UID:37343534-6238-4863-b133-363833333331
DTSTAMP:20260422T003938Z
DESCRIPTION:5/13 N.Jičín 'C' - Polanka 'C' 0:2 (-23\,-14)
DTSTART;TZID=Europe/Berlin:20240929T150000
DTEND;TZID=Europe/Berlin:20240929T170000
LOCATION:Sportovní hala\, Heleny Salichové 1275 Ostrava - Polanka nad Odrou
SUMMARY:MS-U16Z-KVB: N.Jičín 'C'-Polanka 'C'
END:VEVENT
BEGIN:VEVENT
UID:37313763-3635-4334-a534-336330636164
DTSTAMP:20260422T003938Z
DESCRIPTION:1/1 Polanka 'C' - Ostrava  'C' 0:2 (-16\,-22)
DTSTART;TZID=Europe/Berlin:20241020T090000
DTEND;TZID=Europe/Berlin:20241020T110000
LOCATION:ZŠ K.Dvořáčka\, Karla Dvořáčka 1230 Orlová - Lutyně
SUMMARY:MS-U16Z-T1D: Polanka 'C'-Ostrava  'C'
END:VEVENT
BEGIN:VEVENT
UID:31306266-3630-4538-a266-653539303035
DTSTAMP:20260422T003938Z
DESCRIPTION:5/10 Polanka 'C' - Orlová 0:2 (-22\,-17)
DTSTART;TZID=Europe/Berlin:20241020T150000
DTEND;TZID=Europe/Berlin:20241020T170000
LOCATION:ZŠ K.Dvořáčka\, Karla Dvořáčka 1230 Orlová - Lutyně
SUMMARY:MS-U16Z-T1D: Polanka 'C'-Orlová
END:VEVENT
BEGIN:VEVENT
UID:66373633-3631-4631-b562-346461363762
DTSTAMP:20260422T003938Z
DESCRIPTION:3/6 Frenštát p.R. - Polanka 'C' 2:0 (22\,18)
DTSTART;TZID=Europe/Berlin:20241020T120000
DTEND;TZID=Europe/Berlin:20241020T140000
LOCATION:ZŠ K.Dvořáčka\, Karla Dvořáčka 1230 Orlová - Lutyně
SUMMARY:MS-U16Z-T1D: Frenštát p.R.-Polanka 'C'
END:VEVENT
BEGIN:VEVENT
UID:32613833-3438-4564-a139-363566333036
DTSTAMP:20260422T003938Z
DESCRIPTION:4/7 Ostrava 'B' - Polanka 'C' 2:0 (21\,20)
DTSTART;TZID=Europe/Berlin:20241020T133000
DTEND;TZID=Europe/Berlin:20241020T153000
LOCATION:ZŠ K.Dvořáčka\, Karla Dvořáčka 1230 Orlová - Lutyně
SUMMARY:MS-U16Z-T1D: Ostrava 'B'-Polanka 'C'
END:VEVENT
BEGIN:VEVENT
UID:34353431-6464-4533-b836-323839343036
DTSTAMP:20260422T003938Z
DESCRIPTION:1/2 Polanka 'C' - Polanka 'B' 1:2 (-17\,16\,-9)
DTSTART;TZID=Europe/Berlin:20241110T090000
DTEND;TZID=Europe/Berlin:20241110T110000
LOCATION:Sportovní hala\, Heleny Salichové 1275 Ostrava - Polanka nad Odrou
SUMMARY:MS-U16Z-T2E: Polanka 'C'-Polanka 'B'
END:VEVENT
BEGIN:VEVENT
UID:64343738-3863-4265-b661-356633626633
DTSTAMP:20260422T003938Z
DESCRIPTION:2/3 Polanka 'C' - Vratimov 0:2 (-23\,-10)
DTSTART;TZID=Europe/Berlin:20241110T103000
DTEND;TZID=Europe/Berlin:20241110T123000
LOCATION:Sportovní hala\, Heleny Salichové 1275 Ostrava - Polanka nad Odrou
SUMMARY:MS-U16Z-T2E: Polanka 'C'-Vratimov
END:VEVENT
BEGIN:VEVENT
UID:36653831-3433-4435-b132-323034636134
DTSTAMP:20260422T003938Z
DESCRIPTION:3/6 Ostrava 'B' - Polanka 'C' 2:0 (19\,17)
DTSTART;TZID=Europe/Berlin:20241110T120000
DTEND;TZID=Europe/Berlin:20241110T140000
LOCATION:Sportovní hala\, Heleny Salichové 1275 Ostrava - Polanka nad Odrou
SUMMARY:MS-U16Z-T2E: Ostrava 'B'-Polanka 'C'
END:VEVENT
BEGIN:VEVENT
UID:66343432-6665-4466-b836-393239656462
DTSTAMP:20260422T003938Z
DESCRIPTION:1/2 Polanka 'C' - N.Jičín 'C' 2:0 (20\,11)
DTSTART;TZID=Europe/Berlin:20241201T090000
DTEND;TZID=Europe/Berlin:20241201T110000
LOCATION:tělocvična 11.ZŠ Frýdek-Místek\, Jiřího z Poděbrad 3109 Frýdek-Mís
 tek - Frýdek
SUMMARY:MS-U16Z-T3F: Polanka 'C'-N.Jičín 'C'
END:VEVENT
BEGIN:VEVENT
UID:35373162-6635-4831-a563-393966336339
DTSTAMP:20260422T003938Z
DESCRIPTION:2/3 Polanka 'C' - TJ Sokol F-M 'C' 2:1 (-22\,17\,12)
DTSTART;TZID=Europe/Berlin:20241201T103000
DTEND;TZID=Europe/Berlin:20241201T123000
LOCATION:tělocvična 11.ZŠ Frýdek-Místek\, Jiřího z Poděbrad 3109 Frýdek-Mís
 tek - Frýdek
SUMMARY:MS-U16Z-T3F: Polanka 'C'-TJ Sokol F-M 'C'
END:VEVENT
BEGIN:VEVENT
UID:39616531-6166-4463-a561-333434666533
DTSTAMP:20260422T003938Z
DESCRIPTION:3/6 Polanka 'B' - Polanka 'C' 2:1 (23\,-16\,13)
DTSTART;TZID=Europe/Berlin:20241201T120000
DTEND;TZID=Europe/Berlin:20241201T140000
LOCATION:tělocvična 11.ZŠ Frýdek-Místek\, Jiřího z Poděbrad 3109 Frýdek-Mís
 tek - Frýdek
SUMMARY:MS-U16Z-T3F: Polanka 'B'-Polanka 'C'
END:VEVENT
BEGIN:VEVENT
UID:62393036-3934-4162-a464-343863303662
DTSTAMP:20260422T003938Z
DESCRIPTION:1/1 Vratimov - Polanka 'C' 1:2 (-26\,24\,-13)
DTSTART;TZID=Europe/Berlin:20250112T090000
DTEND;TZID=Europe/Berlin:20250112T110000
LOCATION:Sportovní hala\, Heleny Salichové 1275 Ostrava - Polanka nad Odrou
SUMMARY:MS-U16Z-T4E: Vratimov-Polanka 'C'
END:VEVENT
BEGIN:VEVENT
UID:61396538-6238-4565-a465-323230663436
DTSTAMP:20260422T003938Z
DESCRIPTION:2/3 N.Jičín 'B' - Polanka 'C' 2:0 (17\,15)
DTSTART;TZID=Europe/Berlin:20250112T103000
DTEND;TZID=Europe/Berlin:20250112T123000
LOCATION:Sportovní hala\, Heleny Salichové 1275 Ostrava - Polanka nad Odrou
SUMMARY:MS-U16Z-T4E: N.Jičín 'B'-Polanka 'C'
END:VEVENT
BEGIN:VEVENT
UID:63306463-3138-4561-a636-383564653337
DTSTAMP:20260422T003938Z
DESCRIPTION:3/5 Polanka 'B' - Polanka 'C' 0:2 (-19\,-22)
DTSTART;TZID=Europe/Berlin:20250112T120000
DTEND;TZID=Europe/Berlin:20250112T140000
LOCATION:Sportovní hala\, Heleny Salichové 1275 Ostrava - Polanka nad Odrou
SUMMARY:MS-U16Z-T4E: Polanka 'B'-Polanka 'C'
END:VEVENT
BEGIN:VEVENT
UID:38346138-3230-4635-b961-623737333537
DTSTAMP:20260422T003938Z
DESCRIPTION:1/2 Polanka 'C' - Vratimov 0:2 (-8\,-15)
DTSTART;TZID=Europe/Berlin:20250209T090000
DTEND;TZID=Europe/Berlin:20250209T110000
LOCATION:Hala ZŠ Komenského\, Komenského 701 Bílovec
SUMMARY:MS-U16Z-T5E: Polanka 'C'-Vratimov
END:VEVENT
BEGIN:VEVENT
UID:36323263-3063-4263-b031-313162343432
DTSTAMP:20260422T003938Z
DESCRIPTION:2/3 Polanka 'C' - Bílovec 'B' 0:2 (-13\,-18)
DTSTART;TZID=Europe/Berlin:20250209T103000
DTEND;TZID=Europe/Berlin:20250209T123000
LOCATION:Hala ZŠ Komenského\, Komenského 701 Bílovec
SUMMARY:MS-U16Z-T5E: Polanka 'C'-Bílovec 'B'
END:VEVENT
BEGIN:VEVENT
UID:36313437-3736-4365-b539-303339346336
DTSTAMP:20260422T003938Z
DESCRIPTION:3/6 Ostrava  'C' - Polanka 'C' 2:0 (23\,12)
DTSTART;TZID=Europe/Berlin:20250209T120000
DTEND;TZID=Europe/Berlin:20250209T140000
LOCATION:Hala ZŠ Komenského\, Komenského 701 Bílovec
SUMMARY:MS-U16Z-T5E: Ostrava  'C'-Polanka 'C'
END:VEVENT
BEGIN:VEVENT
UID:39653165-6361-4137-a664-303964323138
DTSTAMP:20260422T003938Z
DESCRIPTION:2/2 Polanka 'C' - TJ Sokol F-M 'C' 2:0 (18\,14)
DTSTART;TZID=Europe/Berlin:20250302T103000
DTEND;TZID=Europe/Berlin:20250302T123000
LOCATION:Hala Msgr. Šrámka (Marxovka)\, Msgr. Šrámka 1105 Nový Jičín
SUMMARY:MS-U16Z-T6F: Polanka 'C'-TJ Sokol F-M 'C'
END:VEVENT
BEGIN:VEVENT
UID:38323036-6138-4537-a435-316565333039
DTSTAMP:20260422T003938Z
DESCRIPTION:3/3 Polanka 'C' - N.Jičín 'C' 2:0 (17\,29)
DTSTART;TZID=Europe/Berlin:20250302T120000
DTEND;TZID=Europe/Berlin:20250302T140000
LOCATION:Hala Msgr. Šrámka (Marxovka)\, Msgr. Šrámka 1105 Nový Jičín
SUMMARY:MS-U16Z-T6F: Polanka 'C'-N.Jičín 'C'
END:VEVENT
BEGIN:VEVENT
UID:32373963-3362-4362-b761-363737313634
DTSTAMP:20260422T003938Z
DESCRIPTION:5/5 Polanka 'C' - VKB Frýdlant 'B' 2:1 (22\,-17\,10)
DTSTART;TZID=Europe/Berlin:20250302T150000
DTEND;TZID=Europe/Berlin:20250302T170000
LOCATION:Hala Msgr. Šrámka (Marxovka)\, Msgr. Šrámka 1105 Nový Jičín
SUMMARY:MS-U16Z-T6F: Polanka 'C'-VKB Frýdlant 'B'
END:VEVENT
BEGIN:VEVENT
UID:36383939-3062-4537-b432-353264366464
DTSTAMP:20260422T003938Z
DESCRIPTION:1/2 Ostrava 'B' - Polanka 'C' 2:0 (18\,18)
DTSTART;TZID=Europe/Berlin:20250323T090000
DTEND;TZID=Europe/Berlin:20250323T110000
LOCATION:Sportovní hala\, Tyršova 1668 Hlučín
SUMMARY:MS-U16Z-T7E: Ostrava 'B'-Polanka 'C'
END:VEVENT
BEGIN:VEVENT
UID:65326638-3065-4437-b638-643336643232
DTSTAMP:20260422T003938Z
DESCRIPTION:2/4 Hlučín 'B' - Polanka 'C' 2:0 (16\,11)
DTSTART;TZID=Europe/Berlin:20250323T103000
DTEND;TZID=Europe/Berlin:20250323T123000
LOCATION:Sportovní hala\, Tyršova 1668 Hlučín
SUMMARY:MS-U16Z-T7E: Hlučín 'B'-Polanka 'C'
END:VEVENT
BEGIN:VEVENT
UID:37353839-3531-4333-b132-323338313366
DTSTAMP:20260422T003938Z
DESCRIPTION:3/6 TJ S. St. Bělá - Polanka 'C' 2:0 (22\,19)
DTSTART;TZID=Europe/Berlin:20250323T120000
DTEND;TZID=Europe/Berlin:20250323T140000
LOCATION:Sportovní hala\, Tyršova 1668 Hlučín
SUMMARY:MS-U16Z-T7E: TJ S. St. Bělá-Polanka 'C'
END:VEVENT
END:VCALENDAR
