BEGIN:VCALENDAR
VERSION:2.0
PRODID:-//Tělocvičná jednota Sokol Předklášteří86554//NONSGML kigkonsult.se iCalcreator 2.41.80//
CALSCALE:GREGORIAN
UID:62356234-3832-4761-a434-356134333837
BEGIN:VEVENT
UID:32363763-3732-4565-a334-623866616465
DTSTAMP:20260422T165845Z
DESCRIPTION:4/4 Tělocvičná jednota Sokol Předklášteří - TJ Spartak Velká Bí
 teš\, z.s. 2:0 (10\,19)
DTSTART;TZID=Europe/Berlin:20240928T114500
DTEND;TZID=Europe/Berlin:20240928T134500
LOCATION:Hala u ZŠ TGM Drásov\, Školní 167 Drásov
SUMMARY:JM-U18Z-KVD: Tělocvičná jednota Sokol Předklášteří-TJ Spartak Velká
  Bíteš\, z.s.
END:VEVENT
BEGIN:VEVENT
UID:34303564-3164-4363-a636-343837366332
DTSTAMP:20260422T165845Z
DESCRIPTION:6/6 Tělocvičná jednota Sokol Předklášteří - TJ JUNIOR Brno - U1
 8 2:0 (15\,8)
DTSTART;TZID=Europe/Berlin:20240928T131500
DTEND;TZID=Europe/Berlin:20240928T151500
LOCATION:Hala u ZŠ TGM Drásov\, Školní 167 Drásov
SUMMARY:JM-U18Z-KVD: Tělocvičná jednota Sokol Předklášteří-TJ JUNIOR Brno -
  U18
END:VEVENT
BEGIN:VEVENT
UID:39333137-3831-4265-a138-383463323066
DTSTAMP:20260422T165845Z
DESCRIPTION:7/7 Tělocvičná jednota Sokol Předklášteří - VS Drásov 0:2 (-19\
 ,-18)
DTSTART;TZID=Europe/Berlin:20240928T140000
DTEND;TZID=Europe/Berlin:20240928T160000
LOCATION:Hala u ZŠ TGM Drásov\, Školní 167 Drásov
SUMMARY:JM-U18Z-KVD: Tělocvičná jednota Sokol Předklášteří-VS Drásov
END:VEVENT
BEGIN:VEVENT
UID:33333436-3364-4762-b663-613937643231
DTSTAMP:20260422T165845Z
DESCRIPTION:9/9 TJ Minerva Boskovice - Tělocvičná jednota Sokol Předklášteř
 í 2:0 (21\,14)
DTSTART;TZID=Europe/Berlin:20240928T153000
DTEND;TZID=Europe/Berlin:20240928T173000
LOCATION:Hala u ZŠ TGM Drásov\, Školní 167 Drásov
SUMMARY:JM-U18Z-KVD: TJ Minerva Boskovice-Tělocvičná jednota Sokol Předkláš
 teří
END:VEVENT
BEGIN:VEVENT
UID:37356163-3636-4435-a464-393337353031
DTSTAMP:20260422T165845Z
DESCRIPTION:6/6 Tělocvičná jednota Sokol Předklášteří - ZŠ Milénova 2:0 (7\
 ,8)
DTSTART;TZID=Europe/Berlin:20241019T153000
DTEND;TZID=Europe/Berlin:20241019T173000
LOCATION:ZŠ Milénova 14\, Milénova 808 Brno - Lesná
SUMMARY:JM-U18Z-IC: Tělocvičná jednota Sokol Předklášteří-ZŠ Milénova
END:VEVENT
BEGIN:VEVENT
UID:32373261-6363-4562-b837-613539396265
DTSTAMP:20260422T165845Z
DESCRIPTION:2/2 TJ SOKOL LETOVICE - Tělocvičná jednota Sokol Předklášteří 0
 :2 (-23\,-14)
DTSTART;TZID=Europe/Berlin:20241019T103000
DTEND;TZID=Europe/Berlin:20241019T123000
LOCATION:ZŠ Milénova 14\, Milénova 808 Brno - Lesná
SUMMARY:JM-U18Z-IC: TJ SOKOL LETOVICE-Tělocvičná jednota Sokol Předklášteří
END:VEVENT
BEGIN:VEVENT
UID:36633239-6662-4265-a638-623961646661
DTSTAMP:20260422T165845Z
DESCRIPTION:3/3 VK Louka Lužánky - SVČ - Tělocvičná jednota Sokol Předklášt
 eří 0:2 (-11\,-20)
DTSTART;TZID=Europe/Berlin:20241019T114500
DTEND;TZID=Europe/Berlin:20241019T134500
LOCATION:ZŠ Milénova 14\, Milénova 808 Brno - Lesná
SUMMARY:JM-U18Z-IC: VK Louka Lužánky - SVČ-Tělocvičná jednota Sokol Předklá
 šteří
END:VEVENT
BEGIN:VEVENT
UID:39303661-6434-4631-b363-333065666334
DTSTAMP:20260422T165845Z
DESCRIPTION:1/2 Tělocvičná jednota Sokol Předklášteří - VS Drásov 2:0 (20\,
 18)
DTSTART;TZID=Europe/Berlin:20241102T090000
DTEND;TZID=Europe/Berlin:20241102T110000
LOCATION:Sportovní hala Rousínov\, Habrovanská 1199 Rousínov
SUMMARY:JM-U18Z-IIB: Tělocvičná jednota Sokol Předklášteří-VS Drásov
END:VEVENT
BEGIN:VEVENT
UID:38313730-3038-4336-b966-303563623635
DTSTAMP:20260422T165845Z
DESCRIPTION:3/5 Tělocvičná jednota Sokol Předklášteří - Orel Křenovice 2:0 
 (17\,14)
DTSTART;TZID=Europe/Berlin:20241102T114500
DTEND;TZID=Europe/Berlin:20241102T134500
LOCATION:Sportovní hala Rousínov\, Habrovanská 1199 Rousínov
SUMMARY:JM-U18Z-IIB: Tělocvičná jednota Sokol Předklášteří-Orel Křenovice
END:VEVENT
BEGIN:VEVENT
UID:62616535-3166-4832-b563-333065633462
DTSTAMP:20260422T165845Z
DESCRIPTION:2/4 VOLEJBAL VYŠKOV - Tělocvičná jednota Sokol Předklášteří 0:2
  (-11\,-17)
DTSTART;TZID=Europe/Berlin:20241102T103000
DTEND;TZID=Europe/Berlin:20241102T123000
LOCATION:Sportovní hala Rousínov\, Habrovanská 1199 Rousínov
SUMMARY:JM-U18Z-IIB: VOLEJBAL VYŠKOV-Tělocvičná jednota Sokol Předklášteří
END:VEVENT
BEGIN:VEVENT
UID:65333562-3661-4634-b962-623461613863
DTSTAMP:20260422T165845Z
DESCRIPTION:2/3 Tělocvičná jednota Sokol Předklášteří - B6 Brno 0:2 (-24\,-
 17)
DTSTART;TZID=Europe/Berlin:20241116T103000
DTEND;TZID=Europe/Berlin:20241116T123000
LOCATION:Multifunkční sportovní hala\, Sportovní 1128 Újezd u Brna
SUMMARY:JM-U18Z-IIIA: Tělocvičná jednota Sokol Předklášteří-B6 Brno
END:VEVENT
BEGIN:VEVENT
UID:33393933-3730-4438-b732-643230336135
DTSTAMP:20260422T165845Z
DESCRIPTION:1/1 TJ Sokol Újezd u Brna - Tělocvičná jednota Sokol Předklášte
 ří 0:2 (-26\,-14)
DTSTART;TZID=Europe/Berlin:20241116T090000
DTEND;TZID=Europe/Berlin:20241116T110000
LOCATION:Multifunkční sportovní hala\, Sportovní 1128 Újezd u Brna
SUMMARY:JM-U18Z-IIIA: TJ Sokol Újezd u Brna-Tělocvičná jednota Sokol Předkl
 ášteří
END:VEVENT
BEGIN:VEVENT
UID:34333938-3934-4638-b137-356465333166
DTSTAMP:20260422T165845Z
DESCRIPTION:3/5 TJ Minerva Boskovice - Tělocvičná jednota Sokol Předklášteř
 í 2:0 (12\,16)
DTSTART;TZID=Europe/Berlin:20241116T114500
DTEND;TZID=Europe/Berlin:20241116T134500
LOCATION:Multifunkční sportovní hala\, Sportovní 1128 Újezd u Brna
SUMMARY:JM-U18Z-IIIA: TJ Minerva Boskovice-Tělocvičná jednota Sokol Předklá
 šteří
END:VEVENT
BEGIN:VEVENT
UID:32643338-3735-4534-b164-396438386430
DTSTAMP:20260422T165845Z
DESCRIPTION:1/1 Tělocvičná jednota Sokol Předklášteří - B6 Brno 1:2 (25\,-1
 8\,-6)
DTSTART;TZID=Europe/Berlin:20241207T090000
DTEND;TZID=Europe/Berlin:20241207T110000
LOCATION:ZŠ Předklášteří\, Komenského 1097 Předklášteří
SUMMARY:JM-U18Z-IVA: Tělocvičná jednota Sokol Předklášteří-B6 Brno
END:VEVENT
BEGIN:VEVENT
UID:38646666-6162-4162-b839-396332313530
DTSTAMP:20260422T165845Z
DESCRIPTION:4/4 Tělocvičná jednota Sokol Předklášteří - TJ Minerva Boskovic
 e 0:2 (-20\,-9)
DTSTART;TZID=Europe/Berlin:20241207T130000
DTEND;TZID=Europe/Berlin:20241207T150000
LOCATION:ZŠ Předklášteří\, Komenského 1097 Předklášteří
SUMMARY:JM-U18Z-IVA: Tělocvičná jednota Sokol Předklášteří-TJ Minerva Bosko
 vice
END:VEVENT
BEGIN:VEVENT
UID:39306465-3937-4566-a435-316332323939
DTSTAMP:20260422T165845Z
DESCRIPTION:6/6 Orel Křenovice - Tělocvičná jednota Sokol Předklášteří 0:2 
 (-14\,-21)
DTSTART;TZID=Europe/Berlin:20241207T153000
DTEND;TZID=Europe/Berlin:20241207T173000
LOCATION:ZŠ Předklášteří\, Komenského 1097 Předklášteří
SUMMARY:JM-U18Z-IVA: Orel Křenovice-Tělocvičná jednota Sokol Předklášteří
END:VEVENT
BEGIN:VEVENT
UID:32646661-3465-4130-a230-646630303061
DTSTAMP:20260422T165845Z
DESCRIPTION:3/3 Tělocvičná jednota Sokol Předklášteří - B6 Brno 0:2 (-18\,-
 16)
DTSTART;TZID=Europe/Berlin:20241221T114500
DTEND;TZID=Europe/Berlin:20241221T134500
LOCATION:Tělocvična ZŠ\, Slovákova 2006 Boskovice
SUMMARY:JM-U18Z-VA: Tělocvičná jednota Sokol Předklášteří-B6 Brno
END:VEVENT
BEGIN:VEVENT
UID:36376339-3961-4636-a438-373435323861
DTSTAMP:20260422T165845Z
DESCRIPTION:1/1 TJ Minerva Boskovice - Tělocvičná jednota Sokol Předklášteř
 í 2:0 (14\,15)
DTSTART;TZID=Europe/Berlin:20241221T090000
DTEND;TZID=Europe/Berlin:20241221T110000
LOCATION:Tělocvična ZŠ\, Slovákova 2006 Boskovice
SUMMARY:JM-U18Z-VA: TJ Minerva Boskovice-Tělocvičná jednota Sokol Předklášt
 eří
END:VEVENT
BEGIN:VEVENT
UID:37636439-3131-4035-a665-663966326636
DTSTAMP:20260422T165845Z
DESCRIPTION:5/5 ZŠ Milénova - Tělocvičná jednota Sokol Předklášteří 2:0 (20
 \,23)
DTSTART;TZID=Europe/Berlin:20241221T141500
DTEND;TZID=Europe/Berlin:20241221T161500
LOCATION:Tělocvična ZŠ\, Slovákova 2006 Boskovice
SUMMARY:JM-U18Z-VA: ZŠ Milénova-Tělocvičná jednota Sokol Předklášteří
END:VEVENT
BEGIN:VEVENT
UID:63313564-3263-4462-b864-613037313637
DTSTAMP:20260422T165845Z
DESCRIPTION:3/3 Tělocvičná jednota Sokol Předklášteří - TJ Sokol Újezd u Br
 na 2:1 (-15\,21\,11)
DTSTART;TZID=Europe/Berlin:20250111T114500
DTEND;TZID=Europe/Berlin:20250111T134500
LOCATION:ZŠ Vejrostova\, Vejrostova 1066 Brno - Bystrc
SUMMARY:JM-U18Z-VIB: Tělocvičná jednota Sokol Předklášteří-TJ Sokol Újezd u
  Brna
END:VEVENT
BEGIN:VEVENT
UID:66613630-3036-4138-b537-376236373435
DTSTAMP:20260422T165845Z
DESCRIPTION:1/1 VK Brno\, z.s. - Tělocvičná jednota Sokol Předklášteří 0:2 
 (-16\,-19)
DTSTART;TZID=Europe/Berlin:20250111T090000
DTEND;TZID=Europe/Berlin:20250111T110000
LOCATION:ZŠ Vejrostova\, Vejrostova 1066 Brno - Bystrc
SUMMARY:JM-U18Z-VIB: VK Brno\, z.s.-Tělocvičná jednota Sokol Předklášteří
END:VEVENT
BEGIN:VEVENT
UID:62316433-3737-4262-b632-383730373134
DTSTAMP:20260422T165845Z
DESCRIPTION:5/5 Orel Křenovice - Tělocvičná jednota Sokol Předklášteří 1:2 
 (23\,-15\,-11)
DTSTART;TZID=Europe/Berlin:20250111T141500
DTEND;TZID=Europe/Berlin:20250111T161500
LOCATION:ZŠ Vejrostova\, Vejrostova 1066 Brno - Bystrc
SUMMARY:JM-U18Z-VIB: Orel Křenovice-Tělocvičná jednota Sokol Předklášteří
END:VEVENT
BEGIN:VEVENT
UID:35373538-3039-4130-b732-363262303034
DTSTAMP:20260422T165845Z
DESCRIPTION:2/2 Tělocvičná jednota Sokol Předklášteří - B6 Brno 0:2 (-23\,-
 6)
DTSTART;TZID=Europe/Berlin:20250208T103000
DTEND;TZID=Europe/Berlin:20250208T123000
LOCATION:Tělocvična ZŠ\, Slovákova 2006 Boskovice
SUMMARY:JM-U18Z-VIIA: Tělocvičná jednota Sokol Předklášteří-B6 Brno
END:VEVENT
BEGIN:VEVENT
UID:62643761-6235-4463-b863-313034393334
DTSTAMP:20260422T165845Z
DESCRIPTION:6/6 Tělocvičná jednota Sokol Předklášteří - ZŠ Milénova 2:X
DTSTART;TZID=Europe/Berlin:20250208T153000
DTEND;TZID=Europe/Berlin:20250208T173000
LOCATION:Tělocvična ZŠ\, Slovákova 2006 Boskovice
SUMMARY:JM-U18Z-VIIA: Tělocvičná jednota Sokol Předklášteří-ZŠ Milénova
END:VEVENT
BEGIN:VEVENT
UID:33366534-3965-4638-a166-363466623930
DTSTAMP:20260422T165845Z
DESCRIPTION:1/1 TJ Minerva Boskovice - Tělocvičná jednota Sokol Předklášteř
 í 1:2 (20\,-17\,-7)
DTSTART;TZID=Europe/Berlin:20250208T090000
DTEND;TZID=Europe/Berlin:20250208T110000
LOCATION:Tělocvična ZŠ\, Slovákova 2006 Boskovice
SUMMARY:JM-U18Z-VIIA: TJ Minerva Boskovice-Tělocvičná jednota Sokol Předklá
 šteří
END:VEVENT
BEGIN:VEVENT
UID:64316132-3132-4333-a138-656136656430
DTSTAMP:20260422T165845Z
DESCRIPTION:1/1 Tělocvičná jednota Sokol Předklášteří - B6 Brno 1:2 (19\,-2
 0\,-11)
DTSTART;TZID=Europe/Berlin:20250301T090000
DTEND;TZID=Europe/Berlin:20250301T110000
LOCATION:ZŠ Předklášteří\, Komenského 1097 Předklášteří
SUMMARY:JM-U18Z-VIIIA: Tělocvičná jednota Sokol Předklášteří-B6 Brno
END:VEVENT
BEGIN:VEVENT
UID:65363631-3730-4563-a564-656137636535
DTSTAMP:20260422T165845Z
DESCRIPTION:4/4 Tělocvičná jednota Sokol Předklášteří - TJ Minerva Boskovic
 e 1:2 (-17\,22\,-9)
DTSTART;TZID=Europe/Berlin:20250301T130000
DTEND;TZID=Europe/Berlin:20250301T150000
LOCATION:ZŠ Předklášteří\, Komenského 1097 Předklášteří
SUMMARY:JM-U18Z-VIIIA: Tělocvičná jednota Sokol Předklášteří-TJ Minerva Bos
 kovice
END:VEVENT
BEGIN:VEVENT
UID:62313763-3761-4665-b139-613932383666
DTSTAMP:20260422T165845Z
DESCRIPTION:6/6 Orel Křenovice - Tělocvičná jednota Sokol Předklášteří 0:2 
 (-24\,-15)
DTSTART;TZID=Europe/Berlin:20250301T153000
DTEND;TZID=Europe/Berlin:20250301T173000
LOCATION:ZŠ Předklášteří\, Komenského 1097 Předklášteří
SUMMARY:JM-U18Z-VIIIA: Orel Křenovice-Tělocvičná jednota Sokol Předklášteří
END:VEVENT
BEGIN:VEVENT
UID:66396538-3038-4136-a138-316535376634
DTSTAMP:20260422T165845Z
DESCRIPTION:2/3 Tělocvičná jednota Sokol Předklášteří - VK Brno\, z.s. 1:2 
 (-17\,22\,-14)\n3. vs 6. Kurt 1
DTSTART;TZID=Europe/Berlin:20250329T103000
DTEND;TZID=Europe/Berlin:20250329T123000
LOCATION:ZŠ Předklášteří\, Komenského 1097 Předklášteří
SUMMARY:JM-U18Z-F: Tělocvičná jednota Sokol Předklášteří-VK Brno\, z.s.
END:VEVENT
BEGIN:VEVENT
UID:62373530-6462-4135-b430-363466653062
DTSTAMP:20260422T165845Z
DESCRIPTION:3/6 ZŠ Milénova - Tělocvičná jednota Sokol Předklášteří 2:0 (18
 \,21)\nL2 vs L3 Kurt 2
DTSTART;TZID=Europe/Berlin:20250329T114500
DTEND;TZID=Europe/Berlin:20250329T134500
LOCATION:ZŠ Milénova 14\, Milénova 808 Brno - Lesná
SUMMARY:JM-U18Z-F: ZŠ Milénova-Tělocvičná jednota Sokol Předklášteří
END:VEVENT
BEGIN:VEVENT
UID:35636664-3166-4737-a363-623836653435
DTSTAMP:20260422T165845Z
DESCRIPTION:5/9 VS Drásov - Tělocvičná jednota Sokol Předklášteří 0:2 (-15\
 ,-19)\nL5 vs L6 Kurt 2
DTSTART;TZID=Europe/Berlin:20250329T141500
DTEND;TZID=Europe/Berlin:20250329T161500
LOCATION:Hala u ZŠ TGM Drásov\, Školní 167 Drásov
SUMMARY:JM-U18Z-F: VS Drásov-Tělocvičná jednota Sokol Předklášteří
END:VEVENT
END:VCALENDAR
