BEGIN:VCALENDAR
VERSION:2.0
PRODID:-//TJ Sokol Chlumec nad Cidlinou86560//NONSGML kigkonsult.se iCalcreator 2.41.80//
CALSCALE:GREGORIAN
UID:65333532-3334-4161-a635-333165313634
BEGIN:VEVENT
UID:37386534-3637-4530-a634-633363366430
DTSTAMP:20260422T002611Z
DESCRIPTION:1/3 Sokol Chlumec - TJ Jičín 0:2 (-21\,-11)
DTSTART;TZID=Europe/Berlin:20240915T090000
DTEND;TZID=Europe/Berlin:20240915T110000
LOCATION:Slavíčkova hala\, Sokolská 795 Chlumec nad Cidlinou - Chlumec nad 
 Cidlinou IV
SUMMARY:HK-U16Z-A: Sokol Chlumec-TJ Jičín
END:VEVENT
BEGIN:VEVENT
UID:38333034-3361-4763-b431-316433383535
DTSTAMP:20260422T002611Z
DESCRIPTION:2/7 Sokol Chlumec - TJ Jičín 0:2 (-22\,-15)\npoř.Chlumec
DTSTART;TZID=Europe/Berlin:20240929T090000
DTEND;TZID=Europe/Berlin:20240929T110000
LOCATION:Slavíčkova hala\, Sokolská 795 Chlumec nad Cidlinou - Chlumec nad 
 Cidlinou IV
SUMMARY:HK-U16Z-A: Sokol Chlumec-TJ Jičín
END:VEVENT
BEGIN:VEVENT
UID:33616131-3935-4439-b466-653463613565
DTSTAMP:20260422T002611Z
DESCRIPTION:3/15 Sokol Chlumec - TJ Jičín 2:0 (25\,20)
DTSTART;TZID=Europe/Berlin:20241013T090000
DTEND;TZID=Europe/Berlin:20241013T110000
LOCATION:Slavíčkova hala\, Sokolská 795 Chlumec nad Cidlinou - Chlumec nad 
 Cidlinou IV
SUMMARY:HK-U16Z-A: Sokol Chlumec-TJ Jičín
END:VEVENT
BEGIN:VEVENT
UID:37366261-3362-4935-b963-323130633033
DTSTAMP:20260422T002611Z
DESCRIPTION:4/20 Sokol Chlumec - Slavia H.Králové A 0:2 (-6\,-10)
DTSTART;TZID=Europe/Berlin:20241027T100000
DTEND;TZID=Europe/Berlin:20241027T120000
LOCATION:Slavíčkova hala\, Sokolská 795 Chlumec nad Cidlinou - Chlumec nad 
 Cidlinou IV
SUMMARY:HK-U16Z-A: Sokol Chlumec-Slavia H.Králové A
END:VEVENT
BEGIN:VEVENT
UID:31356466-3035-4863-b566-653064656336
DTSTAMP:20260422T002611Z
DESCRIPTION:4/21 Sokol Chlumec - TJ Jičín 0:2 (-25\,-18)
DTSTART;TZID=Europe/Berlin:20241027T120000
DTEND;TZID=Europe/Berlin:20241027T140000
LOCATION:Slavíčkova hala\, Sokolská 795 Chlumec nad Cidlinou - Chlumec nad 
 Cidlinou IV
SUMMARY:HK-U16Z-A: Sokol Chlumec-TJ Jičín
END:VEVENT
BEGIN:VEVENT
UID:36333561-3537-4237-b233-626566356266
DTSTAMP:20260422T002611Z
DESCRIPTION:1/1 Nová Paka A - Sokol Chlumec 2:0 (5\,16)\nPOŘ: N.PAKA
DTSTART;TZID=Europe/Berlin:20240915T090000
DTEND;TZID=Europe/Berlin:20240915T110000
LOCATION:ZŠ Husitská\, O. Číly 1933 Nová Paka
SUMMARY:HK-U16Z-A: Nová Paka A-Sokol Chlumec
END:VEVENT
BEGIN:VEVENT
UID:38643366-6137-4263-a338-346262393361
DTSTAMP:20260422T002611Z
DESCRIPTION:1/5 Slavia H.Králové A - Sokol Chlumec 2:0 (10\,6)
DTSTART;TZID=Europe/Berlin:20240915T090000
DTEND;TZID=Europe/Berlin:20240915T110000
LOCATION:TJ Slavia Hradec Králové\, Víta Nejedlého 1216 Hradec Králové
SUMMARY:HK-U16Z-A: Slavia H.Králové A-Sokol Chlumec
END:VEVENT
BEGIN:VEVENT
UID:61626563-3133-4136-b834-333366636364
DTSTAMP:20260422T002611Z
DESCRIPTION:2/8 Slavia H.Králové A - Sokol Chlumec 2:0 (10\,22)
DTSTART;TZID=Europe/Berlin:20240929T090000
DTEND;TZID=Europe/Berlin:20240929T110000
LOCATION:TJ Slavia Hradec Králové\, Víta Nejedlého 1216 Hradec Králové
SUMMARY:HK-U16Z-A: Slavia H.Králové A-Sokol Chlumec
END:VEVENT
BEGIN:VEVENT
UID:62336537-3863-4837-a639-353935326235
DTSTAMP:20260422T002611Z
DESCRIPTION:2/11 Nová Paka A - Sokol Chlumec 2:0 (11\,15)
DTSTART;TZID=Europe/Berlin:20240929T090000
DTEND;TZID=Europe/Berlin:20240929T110000
LOCATION:ZŠ Husitská\, O. Číly 1933 Nová Paka
SUMMARY:HK-U16Z-A: Nová Paka A-Sokol Chlumec
END:VEVENT
BEGIN:VEVENT
UID:39653766-3938-4230-b937-643438336463
DTSTAMP:20260422T002611Z
DESCRIPTION:3/14 Slavia H.Králové A - Sokol Chlumec 2:0 (13\,14)
DTSTART;TZID=Europe/Berlin:20241013T090000
DTEND;TZID=Europe/Berlin:20241013T110000
LOCATION:TJ Slavia Hradec Králové\, Víta Nejedlého 1216 Hradec Králové
SUMMARY:HK-U16Z-A: Slavia H.Králové A-Sokol Chlumec
END:VEVENT
BEGIN:VEVENT
UID:30376139-3166-4434-b264-333436666337
DTSTAMP:20260422T002611Z
DESCRIPTION:3/18 Nová Paka A - Sokol Chlumec 2:0 (22\,23)
DTSTART;TZID=Europe/Berlin:20241013T090000
DTEND;TZID=Europe/Berlin:20241013T110000
LOCATION:ZŠ Husitská\, O. Číly 1933 Nová Paka
SUMMARY:HK-U16Z-A: Nová Paka A-Sokol Chlumec
END:VEVENT
BEGIN:VEVENT
UID:32353232-6439-4433-b836-373964653062
DTSTAMP:20260422T002611Z
DESCRIPTION:4/24 Nová Paka A - Sokol Chlumec 2:0 (20\,15)
DTSTART;TZID=Europe/Berlin:20241027T130000
DTEND;TZID=Europe/Berlin:20241027T150000
LOCATION:ZŠ Husitská\, O. Číly 1933 Nová Paka
SUMMARY:HK-U16Z-A: Nová Paka A-Sokol Chlumec
END:VEVENT
BEGIN:VEVENT
UID:39343562-3132-4737-b131-366237656433
DTSTAMP:20260422T002611Z
DESCRIPTION:1/4 Sokol Chlumec - Dvůr Králové 2:0 (9\,17)
DTSTART;TZID=Europe/Berlin:20241110T090000
DTEND;TZID=Europe/Berlin:20241110T110000
LOCATION:Slavíčkova hala\, Sokolská 795 Chlumec nad Cidlinou - Chlumec nad 
 Cidlinou IV
SUMMARY:HK-U16Z-SD: Sokol Chlumec-Dvůr Králové
END:VEVENT
BEGIN:VEVENT
UID:39306131-6161-4233-b665-316162373330
DTSTAMP:20260422T002611Z
DESCRIPTION:1/9 Sokol Chlumec - Slavia H.Králové B 0:2 (-15\,-15)
DTSTART;TZID=Europe/Berlin:20241110T090000
DTEND;TZID=Europe/Berlin:20241110T110000
LOCATION:Slavíčkova hala\, Sokolská 795 Chlumec nad Cidlinou - Chlumec nad 
 Cidlinou IV
SUMMARY:HK-U16Z-SD: Sokol Chlumec-Slavia H.Králové B
END:VEVENT
BEGIN:VEVENT
UID:39643834-6231-4939-b633-326630623565
DTSTAMP:20260422T002611Z
DESCRIPTION:2/15 Sokol Chlumec - Dvůr Králové 2:1 (19\,-24\,10)
DTSTART;TZID=Europe/Berlin:20241201T090000
DTEND;TZID=Europe/Berlin:20241201T110000
LOCATION:Slavíčkova hala\, Sokolská 795 Chlumec nad Cidlinou - Chlumec nad 
 Cidlinou IV
SUMMARY:HK-U16Z-SD: Sokol Chlumec-Dvůr Králové
END:VEVENT
BEGIN:VEVENT
UID:36313161-3431-4661-a339-386264323230
DTSTAMP:20260422T002611Z
DESCRIPTION:2/20 Sokol Chlumec - Slavia H.Králové B 0:2 (-14\,-14)
DTSTART;TZID=Europe/Berlin:20241201T090000
DTEND;TZID=Europe/Berlin:20241201T110000
LOCATION:Slavíčkova hala\, Sokolská 795 Chlumec nad Cidlinou - Chlumec nad 
 Cidlinou IV
SUMMARY:HK-U16Z-SD: Sokol Chlumec-Slavia H.Králové B
END:VEVENT
BEGIN:VEVENT
UID:34343065-3135-4338-b764-636431303432
DTSTAMP:20260422T002611Z
DESCRIPTION:3/25 Sokol Chlumec - Dvůr Králové 2:1 (8\,-20\,14)
DTSTART;TZID=Europe/Berlin:20241215T130000
DTEND;TZID=Europe/Berlin:20241215T150000
LOCATION:Slavíčkova hala\, Sokolská 795 Chlumec nad Cidlinou - Chlumec nad 
 Cidlinou IV
SUMMARY:HK-U16Z-SD: Sokol Chlumec-Dvůr Králové
END:VEVENT
BEGIN:VEVENT
UID:61623631-3139-4734-b764-663862313063
DTSTAMP:20260422T002611Z
DESCRIPTION:3/29 Sokol Chlumec - Slavia H.Králové B 0:2 (-20\,-15)
DTSTART;TZID=Europe/Berlin:20241215T110000
DTEND;TZID=Europe/Berlin:20241215T130000
LOCATION:Slavíčkova hala\, Sokolská 795 Chlumec nad Cidlinou - Chlumec nad 
 Cidlinou IV
SUMMARY:HK-U16Z-SD: Sokol Chlumec-Slavia H.Králové B
END:VEVENT
BEGIN:VEVENT
UID:37336263-6335-4664-a462-353239393139
DTSTAMP:20260422T002611Z
DESCRIPTION:4/31 Sokol Chlumec - Dvůr Králové 2:0 (12\,16)\npoř: CHLUMEC
DTSTART;TZID=Europe/Berlin:20250112T090000
DTEND;TZID=Europe/Berlin:20250112T110000
LOCATION:Slavíčkova hala\, Sokolská 795 Chlumec nad Cidlinou - Chlumec nad 
 Cidlinou IV
SUMMARY:HK-U16Z-SD: Sokol Chlumec-Dvůr Králové
END:VEVENT
BEGIN:VEVENT
UID:61663937-6161-4936-b830-653062353661
DTSTAMP:20260422T002611Z
DESCRIPTION:4/40 Sokol Chlumec - Slavia H.Králové B 0:2 (-17\,-17)
DTSTART;TZID=Europe/Berlin:20250112T090000
DTEND;TZID=Europe/Berlin:20250112T110000
LOCATION:Slavíčkova hala\, Sokolská 795 Chlumec nad Cidlinou - Chlumec nad 
 Cidlinou IV
SUMMARY:HK-U16Z-SD: Sokol Chlumec-Slavia H.Králové B
END:VEVENT
BEGIN:VEVENT
UID:63643337-3031-4431-b865-616637303239
DTSTAMP:20260422T002611Z
DESCRIPTION:1/1 LOKO TRUTNOV - Sokol Chlumec 2:1 (-23\,17\,11)\npoř: Trutno
 v
DTSTART;TZID=Europe/Berlin:20241110T090000
DTEND;TZID=Europe/Berlin:20241110T110000
LOCATION:Základní škola. Trutnov\, V Domcích 488\, V Domcích 488 Trutnov - 
 Horní Předměstí
SUMMARY:HK-U16Z-SD: LOKO TRUTNOV-Sokol Chlumec
END:VEVENT
BEGIN:VEVENT
UID:38306461-6634-4730-b562-616438666338
DTSTAMP:20260422T002611Z
DESCRIPTION:1/5 Baník Rtyně - Sokol Chlumec 2:0 (23\,9)
DTSTART;TZID=Europe/Berlin:20241110T090000
DTEND;TZID=Europe/Berlin:20241110T110000
LOCATION:Orlovna\, nám. Horníků 856 Rtyně v Podkrkonoší
SUMMARY:HK-U16Z-SD: Baník Rtyně-Sokol Chlumec
END:VEVENT
BEGIN:VEVENT
UID:32316166-3039-4037-b831-333265316565
DTSTAMP:20260422T002611Z
DESCRIPTION:2/12 LOKO TRUTNOV - Sokol Chlumec 2:0 (15\,14)
DTSTART;TZID=Europe/Berlin:20241201T090000
DTEND;TZID=Europe/Berlin:20241201T110000
LOCATION:Základní škola. Trutnov\, V Domcích 488\, V Domcích 488 Trutnov - 
 Horní Předměstí
SUMMARY:HK-U16Z-SD: LOKO TRUTNOV-Sokol Chlumec
END:VEVENT
BEGIN:VEVENT
UID:61663335-6466-4830-a536-666238626566
DTSTAMP:20260422T002611Z
DESCRIPTION:2/16 Baník Rtyně - Sokol Chlumec 2:0 (18\,22)
DTSTART;TZID=Europe/Berlin:20241201T090000
DTEND;TZID=Europe/Berlin:20241201T110000
LOCATION:Orlovna\, nám. Horníků 856 Rtyně v Podkrkonoší
SUMMARY:HK-U16Z-SD: Baník Rtyně-Sokol Chlumec
END:VEVENT
BEGIN:VEVENT
UID:32376432-3634-4132-b265-346136616232
DTSTAMP:20260422T002611Z
DESCRIPTION:3/21 LOKO TRUTNOV - Sokol Chlumec 2:0 (19\,18)\npoř: Trutnov
DTSTART;TZID=Europe/Berlin:20241215T090000
DTEND;TZID=Europe/Berlin:20241215T110000
LOCATION:Základní škola. Trutnov\, V Domcích 488\, V Domcích 488 Trutnov - 
 Horní Předměstí
SUMMARY:HK-U16Z-SD: LOKO TRUTNOV-Sokol Chlumec
END:VEVENT
BEGIN:VEVENT
UID:61613033-3530-4133-a130-383932636230
DTSTAMP:20260422T002611Z
DESCRIPTION:3/22 Baník Rtyně - Sokol Chlumec 2:0 (17\,21)
DTSTART;TZID=Europe/Berlin:20241215T100000
DTEND;TZID=Europe/Berlin:20241215T120000
LOCATION:Orlovna\, nám. Horníků 856 Rtyně v Podkrkonoší
SUMMARY:HK-U16Z-SD: Baník Rtyně-Sokol Chlumec
END:VEVENT
BEGIN:VEVENT
UID:66646263-6435-4230-a465-303737616333
DTSTAMP:20260422T002611Z
DESCRIPTION:4/34 Baník Rtyně - Sokol Chlumec 2:0 (15\,13)
DTSTART;TZID=Europe/Berlin:20250112T090000
DTEND;TZID=Europe/Berlin:20250112T110000
LOCATION:Orlovna\, nám. Horníků 856 Rtyně v Podkrkonoší
SUMMARY:HK-U16Z-SD: Baník Rtyně-Sokol Chlumec
END:VEVENT
BEGIN:VEVENT
UID:32393832-3063-4663-b234-663533626138
DTSTAMP:20260422T002611Z
DESCRIPTION:4/35 LOKO TRUTNOV - Sokol Chlumec 1:2 (21\,-25\,-5)
DTSTART;TZID=Europe/Berlin:20250112T090000
DTEND;TZID=Europe/Berlin:20250112T110000
LOCATION:Základní škola. Trutnov\, V Domcích 488\, V Domcích 488 Trutnov - 
 Horní Předměstí
SUMMARY:HK-U16Z-SD: LOKO TRUTNOV-Sokol Chlumec
END:VEVENT
BEGIN:VEVENT
UID:34326138-6661-4236-a566-613939373231
DTSTAMP:20260422T002611Z
DESCRIPTION:1/1 Sokol Chlumec - Nová Paka B 2:3 (18\,19\,-20\,-27\,-11)\npo
 ř: CHLUMEC
DTSTART;TZID=Europe/Berlin:20250119T090000
DTEND;TZID=Europe/Berlin:20250119T110000
LOCATION:Slavíčkova hala\, Sokolská 795 Chlumec nad Cidlinou - Chlumec nad 
 Cidlinou IV
SUMMARY:HK-U16Z-FD: Sokol Chlumec-Nová Paka B
END:VEVENT
BEGIN:VEVENT
UID:34653932-3339-4837-b334-373135303636
DTSTAMP:20260422T002611Z
DESCRIPTION:1/3 Sokol Chlumec - Sokol S.M.- Náchod 3:0 (22\,23\,8)
DTSTART;TZID=Europe/Berlin:20250119T103000
DTEND;TZID=Europe/Berlin:20250119T123000
LOCATION:Slavíčkova hala\, Sokolská 795 Chlumec nad Cidlinou - Chlumec nad 
 Cidlinou IV
SUMMARY:HK-U16Z-FD: Sokol Chlumec-Sokol S.M.- Náchod
END:VEVENT
BEGIN:VEVENT
UID:38613736-6336-4333-b838-323861373634
DTSTAMP:20260422T002611Z
DESCRIPTION:2/6 Sokol Chlumec - Nová Paka B 2:3 (-16\,-24\,12\,20\,-12)
DTSTART;TZID=Europe/Berlin:20250209T120000
DTEND;TZID=Europe/Berlin:20250209T140000
LOCATION:Slavíčkova hala\, Sokolská 795 Chlumec nad Cidlinou - Chlumec nad 
 Cidlinou IV
SUMMARY:HK-U16Z-FD: Sokol Chlumec-Nová Paka B
END:VEVENT
BEGIN:VEVENT
UID:38363763-6332-4366-b864-616530666138
DTSTAMP:20260422T002611Z
DESCRIPTION:4/11 Sokol Chlumec - Nová Paka B 0:3 (-16\,-24\,-21)
DTSTART;TZID=Europe/Berlin:20250330T090000
DTEND;TZID=Europe/Berlin:20250330T110000
LOCATION:Slavíčkova hala\, Sokolská 795 Chlumec nad Cidlinou - Chlumec nad 
 Cidlinou IV
SUMMARY:HK-U16Z-FD: Sokol Chlumec-Nová Paka B
END:VEVENT
BEGIN:VEVENT
UID:35626337-3365-4565-b536-656365623365
DTSTAMP:20260422T002611Z
DESCRIPTION:2/4 Sokol S.M.- Náchod - Sokol Chlumec 0:3 (-23\,-19\,-14)\npoř
 : St.M.-Náchod
DTSTART;TZID=Europe/Berlin:20250209T090000
DTEND;TZID=Europe/Berlin:20250209T110000
LOCATION:Sportovni hala TJ. Sokol Staré Město - Náchod\, Na Skalce 263 Nách
 od - Staré Město nad Metují
SUMMARY:HK-U16Z-FD: Sokol S.M.- Náchod-Sokol Chlumec
END:VEVENT
BEGIN:VEVENT
UID:66663832-3132-4830-a230-633064383464
DTSTAMP:20260422T002611Z
DESCRIPTION:3/8 Nová Paka B - Sokol Chlumec 3:1 (20\,17\,-17\,20)
DTSTART;TZID=Europe/Berlin:20250330T120000
DTEND;TZID=Europe/Berlin:20250330T140000
LOCATION:ZŠ Husitská\, O. Číly 1933 Nová Paka
SUMMARY:HK-U16Z-FD: Nová Paka B-Sokol Chlumec
END:VEVENT
BEGIN:VEVENT
UID:33653436-6338-4233-b335-326662323461
DTSTAMP:20260422T002611Z
DESCRIPTION:3/9 Sokol S.M.- Náchod - Sokol Chlumec 3:1 (-17\,14\,16\,16)
DTSTART;TZID=Europe/Berlin:20250302T103000
DTEND;TZID=Europe/Berlin:20250302T123000
LOCATION:Sportovni hala TJ. Sokol Staré Město - Náchod\, Na Skalce 263 Nách
 od - Staré Město nad Metují
SUMMARY:HK-U16Z-FD: Sokol S.M.- Náchod-Sokol Chlumec
END:VEVENT
BEGIN:VEVENT
UID:61343132-6461-4438-b838-666432396530
DTSTAMP:20260422T002611Z
DESCRIPTION:4/10 Sokol S.M.- Náchod - Sokol Chlumec 1:3 (-24\,20\,-19\,-15)
 \npoř: ST.Město
DTSTART;TZID=Europe/Berlin:20250302T090000
DTEND;TZID=Europe/Berlin:20250302T110000
LOCATION:Sportovni hala TJ. Sokol Staré Město - Náchod\, Na Skalce 263 Nách
 od - Staré Město nad Metují
SUMMARY:HK-U16Z-FD: Sokol S.M.- Náchod-Sokol Chlumec
END:VEVENT
END:VCALENDAR
