BEGIN:VCALENDAR
VERSION:2.0
PRODID:-//AERO Odolena Voda86563//NONSGML kigkonsult.se iCalcreator 2.41.80//
CALSCALE:GREGORIAN
UID:36303965-3861-4130-a430-306162666239
BEGIN:VEVENT
UID:61666463-3064-4466-a637-653232333365
DTSTAMP:20260421T134938Z
DESCRIPTION:1/3 Odolena Voda - Příbram 0:2 (-22\,-9)
DTSTART;TZID=Europe/Berlin:20240929T100000
DTEND;TZID=Europe/Berlin:20240929T120000
LOCATION:Sportovní hala\, Ke Stadionu 375 Odolena Voda
SUMMARY:ST-U14M-1: Odolena Voda-Příbram
END:VEVENT
BEGIN:VEVENT
UID:30613933-3439-4166-b836-366534313738
DTSTAMP:20260421T134938Z
DESCRIPTION:2/12 Odolena Voda - Příbram 2:0 (22\,22)
DTSTART;TZID=Europe/Berlin:20241124T100000
DTEND;TZID=Europe/Berlin:20241124T120000
LOCATION:Sportovní hala\, Ke Stadionu 375 Odolena Voda
SUMMARY:ST-U14M-1: Odolena Voda-Příbram
END:VEVENT
BEGIN:VEVENT
UID:38306332-3563-4333-b930-383634653335
DTSTAMP:20260421T134938Z
DESCRIPTION:3/13 Odolena Voda - Prosek 1:2 (-19\,18\,-15)\nPořadatel: VK Od
 olena Voda
DTSTART;TZID=Europe/Berlin:20250105T090000
DTEND;TZID=Europe/Berlin:20250105T110000
LOCATION:Sportovní hala\, Ke Stadionu 375 Odolena Voda
SUMMARY:ST-U14M-1: Odolena Voda-Prosek
END:VEVENT
BEGIN:VEVENT
UID:32643934-6634-4131-b930-373036373331
DTSTAMP:20260421T134938Z
DESCRIPTION:3/16 Odolena Voda - Příbram 0:2 (-19\,-12)
DTSTART;TZID=Europe/Berlin:20250105T100000
DTEND;TZID=Europe/Berlin:20250105T120000
LOCATION:Sportovní hala\, Ke Stadionu 375 Odolena Voda
SUMMARY:ST-U14M-1: Odolena Voda-Příbram
END:VEVENT
BEGIN:VEVENT
UID:30333331-3764-4362-a434-376138643565
DTSTAMP:20260421T134938Z
DESCRIPTION:4/24 Odolena Voda - Kolín 2:0 (22\,16)
DTSTART;TZID=Europe/Berlin:20250323T110000
DTEND;TZID=Europe/Berlin:20250323T130000
LOCATION:Sportovní hala\, Ke Stadionu 375 Odolena Voda
SUMMARY:ST-U14M-1: Odolena Voda-Kolín
END:VEVENT
BEGIN:VEVENT
UID:36383637-3434-4131-b639-646133376331
DTSTAMP:20260421T134938Z
DESCRIPTION:1/1 Prosek - Odolena Voda 2:0 (18\,10)\nPořadatel: VK Příbram
DTSTART;TZID=Europe/Berlin:20240929T100000
DTEND;TZID=Europe/Berlin:20240929T120000
LOCATION:SH SK Prosek\, Lovosická 559 Praha - Letňany
SUMMARY:ST-U14M-1: Prosek-Odolena Voda
END:VEVENT
BEGIN:VEVENT
UID:33353933-3463-4334-b065-373638613362
DTSTAMP:20260421T134938Z
DESCRIPTION:1/5 Kolín - Odolena Voda 0:2 (-20\,-9)
DTSTART;TZID=Europe/Berlin:20240929T100000
DTEND;TZID=Europe/Berlin:20240929T120000
LOCATION:hala STAV\, SOŠ Kolín\, Brankovická 1417 Kolín - Kolín V
SUMMARY:ST-U14M-1: Kolín-Odolena Voda
END:VEVENT
BEGIN:VEVENT
UID:34363939-3234-4764-b338-333731643336
DTSTAMP:20260421T134938Z
DESCRIPTION:2/8 Kolín - Odolena Voda 0:2 (-11\,-17)\nPořadatel: 1 hřiště
DTSTART;TZID=Europe/Berlin:20241124T100000
DTEND;TZID=Europe/Berlin:20241124T120000
LOCATION:hala STAV\, SOŠ Kolín\, Brankovická 1417 Kolín - Kolín V
SUMMARY:ST-U14M-1: Kolín-Odolena Voda
END:VEVENT
BEGIN:VEVENT
UID:36656266-3332-4164-b863-613036343834
DTSTAMP:20260421T134938Z
DESCRIPTION:2/9 Prosek - Odolena Voda 2:0 (14\,14)
DTSTART;TZID=Europe/Berlin:20241124T100000
DTEND;TZID=Europe/Berlin:20241124T120000
LOCATION:SH SK Prosek\, Lovosická 559 Praha - Letňany
SUMMARY:ST-U14M-1: Prosek-Odolena Voda
END:VEVENT
BEGIN:VEVENT
UID:34663930-3536-4361-a636-346430363931
DTSTAMP:20260421T134938Z
DESCRIPTION:3/18 Kolín - Odolena Voda 0:2 (-21\,-19)
DTSTART;TZID=Europe/Berlin:20250105T100000
DTEND;TZID=Europe/Berlin:20250105T120000
LOCATION:hala STAV\, SOŠ Kolín\, Brankovická 1417 Kolín - Kolín V
SUMMARY:ST-U14M-1: Kolín-Odolena Voda
END:VEVENT
BEGIN:VEVENT
UID:35323162-6565-4534-b933-623130383763
DTSTAMP:20260421T134938Z
DESCRIPTION:4/20 Příbram - Odolena Voda 2:0 (22\,19)\nPořadatel: 2 hřiště
DTSTART;TZID=Europe/Berlin:20250323T110000
DTEND;TZID=Europe/Berlin:20250323T130000
LOCATION:Tělocvična ZŠ Balbínova\, Balbínova 328 Příbram - Příbram II
SUMMARY:ST-U14M-1: Příbram-Odolena Voda
END:VEVENT
BEGIN:VEVENT
UID:32353134-3037-4939-b434-316261376539
DTSTAMP:20260421T134938Z
DESCRIPTION:4/21 Prosek - Odolena Voda 2:0 (17\,11)
DTSTART;TZID=Europe/Berlin:20250323T110000
DTEND;TZID=Europe/Berlin:20250323T130000
LOCATION:SH SK Prosek\, Lovosická 559 Praha - Letňany
SUMMARY:ST-U14M-1: Prosek-Odolena Voda
END:VEVENT
BEGIN:VEVENT
UID:62396230-3133-4236-a465-376132636263
DTSTAMP:20260421T134938Z
DESCRIPTION:2/2 Volejbalový sportovní klub Český Krumlov z.s. - Odolena Vod
 a 2:0 (14\,10)
DTSTART;TZID=Europe/Berlin:20241207T100000
DTEND;TZID=Europe/Berlin:20241207T120000
LOCATION:ZŠ Za Nádražím Český Krumlov\, Za Nádražím 222 Český Krumlov - Nád
 ražní Předměstí
SUMMARY:CP-U14M-ZA: Volejbalový sportovní klub Český Krumlov z.s.-Odolena V
 oda
END:VEVENT
BEGIN:VEVENT
UID:63653332-3930-4562-b330-636230386131
DTSTAMP:20260421T134938Z
DESCRIPTION:4/4 TJ Slavia HK - Odolena Voda 0:2 (-20\,-22)
DTSTART;TZID=Europe/Berlin:20241207T120000
DTEND;TZID=Europe/Berlin:20241207T140000
LOCATION:TJ Slavia Hradec Králové\, Víta Nejedlého 1216 Hradec Králové
SUMMARY:CP-U14M-ZA: TJ Slavia HK-Odolena Voda
END:VEVENT
BEGIN:VEVENT
UID:61346435-3562-4431-b062-626561313166
DTSTAMP:20260421T134938Z
DESCRIPTION:5/5 Tělovýchovná jednota Spartak Velké Meziříčí\, z.s. - Odolen
 a Voda 0:2 (-15\,-14)
DTSTART;TZID=Europe/Berlin:20241207T130000
DTEND;TZID=Europe/Berlin:20241207T150000
LOCATION:ZŠ Komenského\, Komenského 1 Velké Meziříčí
SUMMARY:CP-U14M-ZA: Tělovýchovná jednota Spartak Velké Meziříčí\, z.s.-Odol
 ena Voda
END:VEVENT
BEGIN:VEVENT
UID:64346335-3436-4339-b361-303261646232
DTSTAMP:20260421T134938Z
DESCRIPTION:1/4 Odolena Voda - VK Karlovarsko\, z.s. 0:2 (-20\,-18)\n2A-2B
DTSTART;TZID=Europe/Berlin:20241207T150000
DTEND;TZID=Europe/Berlin:20241207T170000
LOCATION:Sportovní hala\, Ke Stadionu 375 Odolena Voda
SUMMARY:CP-U14M-Z-UMIS: Odolena Voda-VK Karlovarsko\, z.s.
END:VEVENT
BEGIN:VEVENT
UID:63653566-3932-4663-b437-653534346430
DTSTAMP:20260421T134938Z
DESCRIPTION:1/5 Odolena Voda - Kolín 2:1 (-20\,12\,10)
DTSTART;TZID=Europe/Berlin:20250406T100000
DTEND;TZID=Europe/Berlin:20250406T120000
LOCATION:Sportovní hala\, Ke Stadionu 375 Odolena Voda
SUMMARY:ST-U14M-1F: Odolena Voda-Kolín
END:VEVENT
BEGIN:VEVENT
UID:64376139-3132-4930-b532-366332343963
DTSTAMP:20260421T134938Z
DESCRIPTION:1/1 Prosek - Odolena Voda 2:0 (21\,10)\nPořadatel: SK Prosek Pr
 aha
DTSTART;TZID=Europe/Berlin:20250406T100000
DTEND;TZID=Europe/Berlin:20250406T120000
LOCATION:SH SK Prosek\, Lovosická 559 Praha - Letňany
SUMMARY:ST-U14M-1F: Prosek-Odolena Voda
END:VEVENT
BEGIN:VEVENT
UID:63316435-6365-4634-b234-353863653639
DTSTAMP:20260421T134938Z
DESCRIPTION:1/3 Příbram - Odolena Voda 2:0 (15\,19)
DTSTART;TZID=Europe/Berlin:20250406T100000
DTEND;TZID=Europe/Berlin:20250406T120000
LOCATION:Tělocvična ZŠ Balbínova\, Balbínova 328 Příbram - Příbram II
SUMMARY:ST-U14M-1F: Příbram-Odolena Voda
END:VEVENT
END:VCALENDAR
