BEGIN:VCALENDAR
VERSION:2.0
PRODID:-//Tělocvičná jednota Sokol Bučovice U2086639//NONSGML kigkonsult.se iCalcreator 2.41.80//
CALSCALE:GREGORIAN
UID:33626561-6331-4636-a562-323638653135
BEGIN:VEVENT
UID:34333962-3231-4664-b234-323065613439
DTSTAMP:20260422T165853Z
DESCRIPTION:3/3 Tělocvičná jednota Sokol Bučovice U20 - LETOVICE U18 - Kval
 ifikace 2:0 (24\,24)
DTSTART;TZID=Europe/Berlin:20240915T114500
DTEND;TZID=Europe/Berlin:20240915T134500
LOCATION:Sportovní hala Letovice\, V zahradách 831 Letovice
SUMMARY:JM-U20M-KVC: Tělocvičná jednota Sokol Bučovice U20-LETOVICE U18 - K
 valifikace
END:VEVENT
BEGIN:VEVENT
UID:65623530-3662-4530-b961-643061663635
DTSTAMP:20260422T165853Z
DESCRIPTION:2/2 VS Drásov U20 - Tělocvičná jednota Sokol Bučovice U20 1:2 (
 -17\,23\,-14)
DTSTART;TZID=Europe/Berlin:20240915T103000
DTEND;TZID=Europe/Berlin:20240915T123000
LOCATION:Sportovní hala Letovice\, V zahradách 831 Letovice
SUMMARY:JM-U20M-KVC: VS Drásov U20-Tělocvičná jednota Sokol Bučovice U20
END:VEVENT
BEGIN:VEVENT
UID:64386234-6566-4237-b837-393537366530
DTSTAMP:20260422T165853Z
DESCRIPTION:1/1 Tělocvičná jednota Sokol Bučovice U20 - VK Brno\, z.s. U20 
 2:0 (24\,25)\nKurt 1\, 1C vs 2D
DTSTART;TZID=Europe/Berlin:20240915T130000
DTEND;TZID=Europe/Berlin:20240915T150000
LOCATION:Sportovní hala Letovice\, V zahradách 831 Letovice
SUMMARY:JM-U20M-KVCD: Tělocvičná jednota Sokol Bučovice U20-VK Brno\, z.s. 
 U20
END:VEVENT
BEGIN:VEVENT
UID:65666563-3464-4261-b830-633939343434
DTSTAMP:20260422T165853Z
DESCRIPTION:1/1 Tělocvičná jednota Sokol Bučovice U20 - B6 Brno U20 0:2 (-1
 6\,-24)
DTSTART;TZID=Europe/Berlin:20241020T090000
DTEND;TZID=Europe/Berlin:20241020T110000
LOCATION:ZŠ Bučovice 710\, Školní 710 Bučovice
SUMMARY:JM-U20M-IA: Tělocvičná jednota Sokol Bučovice U20-B6 Brno U20
END:VEVENT
BEGIN:VEVENT
UID:37333135-3633-4964-b261-633439373038
DTSTAMP:20260422T165853Z
DESCRIPTION:4/4 Tělocvičná jednota Sokol Bučovice U20 - TJ TESLA BRNO z.s. 
 U20 0:2 (-9\,-20)
DTSTART;TZID=Europe/Berlin:20241020T130000
DTEND;TZID=Europe/Berlin:20241020T150000
LOCATION:ZŠ Bučovice 710\, Školní 710 Bučovice
SUMMARY:JM-U20M-IA: Tělocvičná jednota Sokol Bučovice U20-TJ TESLA BRNO z.s
 . U20
END:VEVENT
BEGIN:VEVENT
UID:30313331-3038-4931-a461-666638353534
DTSTAMP:20260422T165853Z
DESCRIPTION:6/6 Šlapanice U20 - Tělocvičná jednota Sokol Bučovice U20 0:2 (
 -25\,-22)
DTSTART;TZID=Europe/Berlin:20241020T153000
DTEND;TZID=Europe/Berlin:20241020T173000
LOCATION:ZŠ Bučovice 710\, Školní 710 Bučovice
SUMMARY:JM-U20M-IA: Šlapanice U20-Tělocvičná jednota Sokol Bučovice U20
END:VEVENT
BEGIN:VEVENT
UID:64363734-3433-4231-b863-656564336566
DTSTAMP:20260422T165853Z
DESCRIPTION:3/6 Tělocvičná jednota Sokol Bučovice U20 - VK Brno\, z.s. U20 
 1:2 (18\,-29\,-11)
DTSTART;TZID=Europe/Berlin:20241110T114500
DTEND;TZID=Europe/Berlin:20241110T134500
LOCATION:ZŠ Vejrostova\, Vejrostova 1066 Brno - Bystrc
SUMMARY:JM-U20M-IIB: Tělocvičná jednota Sokol Bučovice U20-VK Brno\, z.s. U
 20
END:VEVENT
BEGIN:VEVENT
UID:36663030-3036-4535-b739-643739653534
DTSTAMP:20260422T165853Z
DESCRIPTION:1/2 Šlapanice U20 - Tělocvičná jednota Sokol Bučovice U20 1:2 (
 -24\,9\,-6)
DTSTART;TZID=Europe/Berlin:20241110T090000
DTEND;TZID=Europe/Berlin:20241110T110000
LOCATION:ZŠ Vejrostova\, Vejrostova 1066 Brno - Bystrc
SUMMARY:JM-U20M-IIB: Šlapanice U20-Tělocvičná jednota Sokol Bučovice U20
END:VEVENT
BEGIN:VEVENT
UID:30353861-3566-4366-a237-386335306264
DTSTAMP:20260422T165853Z
DESCRIPTION:2/3 TJ SOKOL LETOVICE U18 - Tělocvičná jednota Sokol Bučovice U
 20 2:0 (24\,17)
DTSTART;TZID=Europe/Berlin:20241110T103000
DTEND;TZID=Europe/Berlin:20241110T123000
LOCATION:ZŠ Vejrostova\, Vejrostova 1066 Brno - Bystrc
SUMMARY:JM-U20M-IIB: TJ SOKOL LETOVICE U18-Tělocvičná jednota Sokol Bučovic
 e U20
END:VEVENT
BEGIN:VEVENT
UID:30373935-6465-4163-b965-356665653434
DTSTAMP:20260422T165853Z
DESCRIPTION:2/2 Tělocvičná jednota Sokol Bučovice U20 - TJ Sokol Hrušovany 
 u Brna U20 3:0 (22\,18\,14)
DTSTART;TZID=Europe/Berlin:20241208T110000
DTEND;TZID=Europe/Berlin:20241208T130000
LOCATION:TJ Tesla Brno\, Halasovo náměstí 826 Brno - Lesná
SUMMARY:JM-U20M-IIIC: Tělocvičná jednota Sokol Bučovice U20-TJ Sokol Hrušov
 any u Brna U20
END:VEVENT
BEGIN:VEVENT
UID:65303166-3535-4539-a136-323365643838
DTSTAMP:20260422T165853Z
DESCRIPTION:1/1 TJ TESLA BRNO z.s. U20 'B' - Tělocvičná jednota Sokol Bučov
 ice U20 3:2 (-23\,22\,-13\,21\,11)
DTSTART;TZID=Europe/Berlin:20241208T090000
DTEND;TZID=Europe/Berlin:20241208T110000
LOCATION:TJ Tesla Brno\, Halasovo náměstí 826 Brno - Lesná
SUMMARY:JM-U20M-IIIC: TJ TESLA BRNO z.s. U20 'B'-Tělocvičná jednota Sokol B
 učovice U20
END:VEVENT
BEGIN:VEVENT
UID:32306639-3732-4432-b638-393534366161
DTSTAMP:20260422T165853Z
DESCRIPTION:1/1 Tělocvičná jednota Sokol Bučovice U20 - Fosfa Lokomotiva Bř
 eclav U18 3:0 (9\,12\,26)
DTSTART;TZID=Europe/Berlin:20250112T090000
DTEND;TZID=Europe/Berlin:20250112T110000
LOCATION:ZŠ Bučovice 710\, Školní 710 Bučovice
SUMMARY:JM-U20M-IVC: Tělocvičná jednota Sokol Bučovice U20-Fosfa Lokomotiva
  Břeclav U18
END:VEVENT
BEGIN:VEVENT
UID:64363632-6462-4432-a163-613739343137
DTSTAMP:20260422T165853Z
DESCRIPTION:3/3 VS Drásov U20 - Tělocvičná jednota Sokol Bučovice U20 0:3 (
 -15\,-18\,-24)
DTSTART;TZID=Europe/Berlin:20250112T130000
DTEND;TZID=Europe/Berlin:20250112T150000
LOCATION:ZŠ Bučovice 710\, Školní 710 Bučovice
SUMMARY:JM-U20M-IVC: VS Drásov U20-Tělocvičná jednota Sokol Bučovice U20
END:VEVENT
BEGIN:VEVENT
UID:64356339-3731-4230-b431-303861616165
DTSTAMP:20260422T165853Z
DESCRIPTION:3/6 Tělocvičná jednota Sokol Bučovice U20 - VK Brno\, z.s. U20 
 0:2 (-19\,-11)
DTSTART;TZID=Europe/Berlin:20250223T153000
DTEND;TZID=Europe/Berlin:20250223T173000
LOCATION:Sportovní gymnázium Ludvíka Daňka\, Botanická 63 Brno - Ponava
SUMMARY:JM-U20M-VB: Tělocvičná jednota Sokol Bučovice U20-VK Brno\, z.s. U2
 0
END:VEVENT
BEGIN:VEVENT
UID:37303633-3764-4338-b037-393432646436
DTSTAMP:20260422T165853Z
DESCRIPTION:1/2 TJ SOKOL LETOVICE U18 - Tělocvičná jednota Sokol Bučovice U
 20 0:2 (-21\,-18)
DTSTART;TZID=Europe/Berlin:20250223T103000
DTEND;TZID=Europe/Berlin:20250223T123000
LOCATION:Sportovní gymnázium Ludvíka Daňka\, Botanická 63 Brno - Ponava
SUMMARY:JM-U20M-VB: TJ SOKOL LETOVICE U18-Tělocvičná jednota Sokol Bučovice
  U20
END:VEVENT
BEGIN:VEVENT
UID:62316263-3932-4636-a134-663233333963
DTSTAMP:20260422T165853Z
DESCRIPTION:2/3 B6 Brno U20 - Tělocvičná jednota Sokol Bučovice U20 0:2 (-1
 9\,-23)
DTSTART;TZID=Europe/Berlin:20250223T114500
DTEND;TZID=Europe/Berlin:20250223T134500
LOCATION:Sportovní gymnázium Ludvíka Daňka\, Botanická 63 Brno - Ponava
SUMMARY:JM-U20M-VB: B6 Brno U20-Tělocvičná jednota Sokol Bučovice U20
END:VEVENT
BEGIN:VEVENT
UID:63333031-3765-4134-a661-653932393835
DTSTAMP:20260422T165853Z
DESCRIPTION:1/1 Tělocvičná jednota Sokol Bučovice U20 - Šlapanice U20 0:2 (
 -20\,-25)
DTSTART;TZID=Europe/Berlin:20250309T090000
DTEND;TZID=Europe/Berlin:20250309T110000
LOCATION:ZŠ Bučovice 710\, Školní 710 Bučovice
SUMMARY:JM-U20M-VIB: Tělocvičná jednota Sokol Bučovice U20-Šlapanice U20
END:VEVENT
BEGIN:VEVENT
UID:39333837-3930-4138-b064-393739373563
DTSTAMP:20260422T165853Z
DESCRIPTION:4/4 Tělocvičná jednota Sokol Bučovice U20 - TJ TESLA BRNO z.s. 
 U20 'B' 2:0 (17\,19)
DTSTART;TZID=Europe/Berlin:20250309T130000
DTEND;TZID=Europe/Berlin:20250309T150000
LOCATION:ZŠ Bučovice 710\, Školní 710 Bučovice
SUMMARY:JM-U20M-VIB: Tělocvičná jednota Sokol Bučovice U20-TJ TESLA BRNO z.
 s. U20 'B'
END:VEVENT
BEGIN:VEVENT
UID:39636661-6363-4562-b037-353333393939
DTSTAMP:20260422T165853Z
DESCRIPTION:6/6 B6 Brno U20 - Tělocvičná jednota Sokol Bučovice U20 1:2 (19
 \,-25\,-16)
DTSTART;TZID=Europe/Berlin:20250309T153000
DTEND;TZID=Europe/Berlin:20250309T173000
LOCATION:ZŠ Bučovice 710\, Školní 710 Bučovice
SUMMARY:JM-U20M-VIB: B6 Brno U20-Tělocvičná jednota Sokol Bučovice U20
END:VEVENT
BEGIN:VEVENT
UID:38356562-3938-4066-b939-333933376239
DTSTAMP:20260422T165853Z
DESCRIPTION:5/9 Tělocvičná jednota Sokol Bučovice U20 - TJ TESLA BRNO z.s. 
 U20 'B' 2:1 (-17\,26\,11)\nL5 vs L6 Kurt 2
DTSTART;TZID=Europe/Berlin:20250330T141500
DTEND;TZID=Europe/Berlin:20250330T161500
LOCATION:ZŠ Bučovice 710\, Školní 710 Bučovice
SUMMARY:JM-U20M-F: Tělocvičná jednota Sokol Bučovice U20-TJ TESLA BRNO z.s.
  U20 'B'
END:VEVENT
BEGIN:VEVENT
UID:33386161-6231-4066-b538-363065383434
DTSTAMP:20260422T165853Z
DESCRIPTION:2/4 VK Brno\, z.s. U20 - Tělocvičná jednota Sokol Bučovice U20 
 2:0 (13\,19)\n4. vs 5. Kurt 2
DTSTART;TZID=Europe/Berlin:20250330T103000
DTEND;TZID=Europe/Berlin:20250330T123000
LOCATION:Sportovní gymnázium Ludvíka Daňka\, Botanická 63 Brno - Ponava
SUMMARY:JM-U20M-F: VK Brno\, z.s. U20-Tělocvičná jednota Sokol Bučovice U20
END:VEVENT
BEGIN:VEVENT
UID:37663939-3630-4333-b963-383632616461
DTSTAMP:20260422T165853Z
DESCRIPTION:3/5 VS Drásov U20 - Tělocvičná jednota Sokol Bučovice U20 2:0 (
 25\,22)\nL1 vs L4 Kurt 1
DTSTART;TZID=Europe/Berlin:20250330T114500
DTEND;TZID=Europe/Berlin:20250330T134500
LOCATION:Hala u ZŠ TGM Drásov\, Školní 167 Drásov
SUMMARY:JM-U20M-F: VS Drásov U20-Tělocvičná jednota Sokol Bučovice U20
END:VEVENT
BEGIN:VEVENT
UID:31316234-6133-4138-a434-376164343031
DTSTAMP:20260422T165853Z
DESCRIPTION:1/1 Tělocvičná jednota Sokol Bučovice U20 - TJ TESLA BRNO z.s. 
 U20 'B' 3:1 (-18\,23\,17\,19)
DTSTART;TZID=Europe/Berlin:20250412T090000
DTEND;TZID=Europe/Berlin:20250412T110000
LOCATION:ZŠ Bučovice 710\, Školní 710 Bučovice
SUMMARY:JM-U20M-PA: Tělocvičná jednota Sokol Bučovice U20-TJ TESLA BRNO z.s
 . U20 'B'
END:VEVENT
BEGIN:VEVENT
UID:30323038-6439-4366-b564-653438613736
DTSTAMP:20260422T165853Z
DESCRIPTION:3/3 VS Drásov U18 - Tělocvičná jednota Sokol Bučovice U20 0:3 (
 -18\,-19\,-22)
DTSTART;TZID=Europe/Berlin:20250412T130000
DTEND;TZID=Europe/Berlin:20250412T150000
LOCATION:ZŠ Bučovice 710\, Školní 710 Bučovice
SUMMARY:JM-U20M-PA: VS Drásov U18-Tělocvičná jednota Sokol Bučovice U20
END:VEVENT
BEGIN:VEVENT
UID:30326432-6232-4435-b030-386135666538
DTSTAMP:20260422T165853Z
DESCRIPTION:1/1 Tělocvičná jednota Sokol Bučovice U20 - Volejbalový klub Ps
 ycho Rosice U20 2:0 (22\,12)\nKurt 1
DTSTART;TZID=Europe/Berlin:20250426T090000
DTEND;TZID=Europe/Berlin:20250426T110000
LOCATION:Tělocvična ZŠ Šlapanice\, Masarykovo náměstí 1594 Šlapanice
SUMMARY:JM-U20M-PFA: Tělocvičná jednota Sokol Bučovice U20-Volejbalový klub
  Psycho Rosice U20
END:VEVENT
BEGIN:VEVENT
UID:36623235-6364-4765-b631-303233666662
DTSTAMP:20260422T165853Z
DESCRIPTION:3/3 VS Drásov U18 - Tělocvičná jednota Sokol Bučovice U20 1:2 (
 11\,-11\,-7)\nKurt 1
DTSTART;TZID=Europe/Berlin:20250426T114500
DTEND;TZID=Europe/Berlin:20250426T134500
LOCATION:Tělocvična ZŠ Šlapanice\, Masarykovo náměstí 1594 Šlapanice
SUMMARY:JM-U20M-PFA: VS Drásov U18-Tělocvičná jednota Sokol Bučovice U20
END:VEVENT
BEGIN:VEVENT
UID:62633863-3663-4361-b838-316130636433
DTSTAMP:20260422T165853Z
DESCRIPTION:3/3 Tělocvičná jednota Sokol Bučovice U20 - TJ TESLA BRNO z.s. 
 U20 'B' 2:0 (21\,19)\nKurt 1\, 1FA vs 1FB (o 1. místo)
DTSTART;TZID=Europe/Berlin:20250426T141500
DTEND;TZID=Europe/Berlin:20250426T161500
LOCATION:ZŠ Bučovice 710\, Školní 710 Bučovice
SUMMARY:JM-U20M-PF: Tělocvičná jednota Sokol Bučovice U20-TJ TESLA BRNO z.s
 . U20 'B'
END:VEVENT
END:VCALENDAR
