BEGIN:VCALENDAR
VERSION:2.0
PRODID:-//Tělovýchovná jednota Hlučín86708//NONSGML kigkonsult.se iCalcreator 2.41.80//
CALSCALE:GREGORIAN
UID:61376464-3637-4436-b363-663739643261
BEGIN:VEVENT
UID:61633136-3463-4836-a463-363238343261
DTSTAMP:20260422T084700Z
DESCRIPTION:3/6 TJ Hlučín - VS Ostrava 'B' 0:2 (-23\,-20)
DTSTART;TZID=Europe/Berlin:20241006T120000
DTEND;TZID=Europe/Berlin:20241006T140000
LOCATION:Sportovní hala Palkovice\,  Palkovice20
SUMMARY:MS-U16M-KVB: TJ Hlučín-VS Ostrava 'B'
END:VEVENT
BEGIN:VEVENT
UID:31656435-6637-4439-b538-366362343534
DTSTAMP:20260422T084700Z
DESCRIPTION:5/9 TJ Hlučín - TJ S. Palkovice 0:2 (-11\,-16)
DTSTART;TZID=Europe/Berlin:20241006T150000
DTEND;TZID=Europe/Berlin:20241006T170000
LOCATION:Sportovní hala Palkovice\,  Palkovice20
SUMMARY:MS-U16M-KVB: TJ Hlučín-TJ S. Palkovice
END:VEVENT
BEGIN:VEVENT
UID:30393334-6130-4239-b837-366263333830
DTSTAMP:20260422T084700Z
DESCRIPTION:1/2 Blue Ostrava 'A' - TJ Hlučín 0:2 (-22\,-21)
DTSTART;TZID=Europe/Berlin:20241006T090000
DTEND;TZID=Europe/Berlin:20241006T110000
LOCATION:Sportovní hala Palkovice\,  Palkovice20
SUMMARY:MS-U16M-KVB: Blue Ostrava 'A'-TJ Hlučín
END:VEVENT
BEGIN:VEVENT
UID:37613539-3235-4238-b033-353466663731
DTSTAMP:20260422T084700Z
DESCRIPTION:4/7 VK Ostrava 'A' - TJ Hlučín 2:0 (21\,7)
DTSTART;TZID=Europe/Berlin:20241006T133000
DTEND;TZID=Europe/Berlin:20241006T153000
LOCATION:Sportovní hala Palkovice\,  Palkovice20
SUMMARY:MS-U16M-KVB: VK Ostrava 'A'-TJ Hlučín
END:VEVENT
BEGIN:VEVENT
UID:37656435-3462-4637-b563-373666356237
DTSTAMP:20260422T084700Z
DESCRIPTION:2/4 TJ Hlučín - Green F-M 2:0 (8\,23)
DTSTART;TZID=Europe/Berlin:20241110T103000
DTEND;TZID=Europe/Berlin:20241110T123000
LOCATION:Sportovní hala Ostrava -Třebovice\, 5. května 5649 Ostrava - Třebo
 vice
SUMMARY:MS-U16M-T1C: TJ Hlučín-Green F-M
END:VEVENT
BEGIN:VEVENT
UID:33636437-3736-4636-b938-656661336635
DTSTAMP:20260422T084700Z
DESCRIPTION:4/7 TJ Hlučín - Blue Ostrava 'A' 2:0 (14\,9)
DTSTART;TZID=Europe/Berlin:20241110T133000
DTEND;TZID=Europe/Berlin:20241110T153000
LOCATION:Sportovní hala Ostrava -Třebovice\, 5. května 5649 Ostrava - Třebo
 vice
SUMMARY:MS-U16M-T1C: TJ Hlučín-Blue Ostrava 'A'
END:VEVENT
BEGIN:VEVENT
UID:31623661-3933-4838-b439-323332356138
DTSTAMP:20260422T084700Z
DESCRIPTION:3/5 VK Ostrava 'B' - TJ Hlučín 1:2 (23\,-21\,-10)
DTSTART;TZID=Europe/Berlin:20241110T120000
DTEND;TZID=Europe/Berlin:20241110T140000
LOCATION:Sportovní hala Ostrava -Třebovice\, 5. května 5649 Ostrava - Třebo
 vice
SUMMARY:MS-U16M-T1C: VK Ostrava 'B'-TJ Hlučín
END:VEVENT
BEGIN:VEVENT
UID:35303065-6532-4166-b965-323636376261
DTSTAMP:20260422T084700Z
DESCRIPTION:5/10 Vlci NJ 'B' - TJ Hlučín 0:2 (-18\,-13)
DTSTART;TZID=Europe/Berlin:20241110T150000
DTEND;TZID=Europe/Berlin:20241110T170000
LOCATION:Sportovní hala Ostrava -Třebovice\, 5. května 5649 Ostrava - Třebo
 vice
SUMMARY:MS-U16M-T1C: Vlci NJ 'B'-TJ Hlučín
END:VEVENT
BEGIN:VEVENT
UID:66636532-3666-4835-a632-323564343632
DTSTAMP:20260422T084700Z
DESCRIPTION:3/6 TJ Hlučín - VK Ostrava 'B' 1:2 (-21\,12\,-13)
DTSTART;TZID=Europe/Berlin:20241124T120000
DTEND;TZID=Europe/Berlin:20241124T140000
LOCATION:Sportovní hala Palkovice\,  Palkovice20
SUMMARY:MS-U16M-T2B: TJ Hlučín-VK Ostrava 'B'
END:VEVENT
BEGIN:VEVENT
UID:66663266-6636-4531-b861-313437336263
DTSTAMP:20260422T084700Z
DESCRIPTION:5/9 TJ Hlučín - TJ S. Palkovice 0:2 (-9\,-8)
DTSTART;TZID=Europe/Berlin:20241124T150000
DTEND;TZID=Europe/Berlin:20241124T170000
LOCATION:Sportovní hala Palkovice\,  Palkovice20
SUMMARY:MS-U16M-T2B: TJ Hlučín-TJ S. Palkovice
END:VEVENT
BEGIN:VEVENT
UID:63623536-6636-4831-b061-643537316166
DTSTAMP:20260422T084700Z
DESCRIPTION:1/2 Red Frýdlant n/O\, z.s. - TJ Hlučín 2:0 (16\,15)
DTSTART;TZID=Europe/Berlin:20241124T090000
DTEND;TZID=Europe/Berlin:20241124T110000
LOCATION:Sportovní hala Palkovice\,  Palkovice20
SUMMARY:MS-U16M-T2B: Red Frýdlant n/O\, z.s.-TJ Hlučín
END:VEVENT
BEGIN:VEVENT
UID:66316466-3232-4336-b136-613466353262
DTSTAMP:20260422T084700Z
DESCRIPTION:4/7 VK Ostrava 'A' - TJ Hlučín 2:0 (11\,13)
DTSTART;TZID=Europe/Berlin:20241124T133000
DTEND;TZID=Europe/Berlin:20241124T153000
LOCATION:Sportovní hala Palkovice\,  Palkovice20
SUMMARY:MS-U16M-T2B: VK Ostrava 'A'-TJ Hlučín
END:VEVENT
BEGIN:VEVENT
UID:62393039-3430-4963-b832-666233613338
DTSTAMP:20260422T084700Z
DESCRIPTION:1/2 TJ Hlučín - Vlci NJ 'B' 2:0 (8\,14)
DTSTART;TZID=Europe/Berlin:20241215T090000
DTEND;TZID=Europe/Berlin:20241215T110000
LOCATION:Sportovní hala\, Tyršova 1668 Hlučín
SUMMARY:MS-U16M-T3C: TJ Hlučín-Vlci NJ 'B'
END:VEVENT
BEGIN:VEVENT
UID:37323836-3666-4234-a539-386334323531
DTSTAMP:20260422T084700Z
DESCRIPTION:3/5 TJ Hlučín - VK Ostrava 'B' 2:0 (18\,11)
DTSTART;TZID=Europe/Berlin:20241215T120000
DTEND;TZID=Europe/Berlin:20241215T140000
LOCATION:Sportovní hala\, Tyršova 1668 Hlučín
SUMMARY:MS-U16M-T3C: TJ Hlučín-VK Ostrava 'B'
END:VEVENT
BEGIN:VEVENT
UID:35653062-6562-4530-a535-633862653530
DTSTAMP:20260422T084700Z
DESCRIPTION:2/3 VAM Havířov - TJ Hlučín 0:2 (-9\,-11)
DTSTART;TZID=Europe/Berlin:20241215T103000
DTEND;TZID=Europe/Berlin:20241215T123000
LOCATION:Sportovní hala\, Tyršova 1668 Hlučín
SUMMARY:MS-U16M-T3C: VAM Havířov-TJ Hlučín
END:VEVENT
BEGIN:VEVENT
UID:37303830-6339-4930-b266-386231343164
DTSTAMP:20260422T084700Z
DESCRIPTION:4/8 Blue Ostrava 'A' - TJ Hlučín 0:2 (-9\,-14)
DTSTART;TZID=Europe/Berlin:20241215T133000
DTEND;TZID=Europe/Berlin:20241215T153000
LOCATION:Sportovní hala\, Tyršova 1668 Hlučín
SUMMARY:MS-U16M-T3C: Blue Ostrava 'A'-TJ Hlučín
END:VEVENT
BEGIN:VEVENT
UID:37336531-6538-4339-b230-326137313134
DTSTAMP:20260422T084700Z
DESCRIPTION:2/4 TJ Hlučín - VK Ostrava 'A' 0:2 (-8\,-14)
DTSTART;TZID=Europe/Berlin:20250112T103000
DTEND;TZID=Europe/Berlin:20250112T123000
LOCATION:Sportovní hala Palkovice\,  Palkovice20
SUMMARY:MS-U16M-T4B: TJ Hlučín-VK Ostrava 'A'
END:VEVENT
BEGIN:VEVENT
UID:38343432-6232-4561-b832-333735373930
DTSTAMP:20260422T084700Z
DESCRIPTION:4/7 TJ Hlučín - TJ S. Palkovice 0:2 (-14\,-16)
DTSTART;TZID=Europe/Berlin:20250112T133000
DTEND;TZID=Europe/Berlin:20250112T153000
LOCATION:Sportovní hala Palkovice\,  Palkovice20
SUMMARY:MS-U16M-T4B: TJ Hlučín-TJ S. Palkovice
END:VEVENT
BEGIN:VEVENT
UID:65326436-6537-4738-a561-653563386231
DTSTAMP:20260422T084700Z
DESCRIPTION:3/5 VS Ostrava 'B' - TJ Hlučín 2:1 (14\,-14\,12)
DTSTART;TZID=Europe/Berlin:20250112T120000
DTEND;TZID=Europe/Berlin:20250112T140000
LOCATION:Sportovní hala Palkovice\,  Palkovice20
SUMMARY:MS-U16M-T4B: VS Ostrava 'B'-TJ Hlučín
END:VEVENT
BEGIN:VEVENT
UID:63646362-3833-4365-a466-346237613531
DTSTAMP:20260422T084700Z
DESCRIPTION:5/10 VK Ostrava 'B' - TJ Hlučín 2:1 (-22\,18\,6)
DTSTART;TZID=Europe/Berlin:20250112T150000
DTEND;TZID=Europe/Berlin:20250112T170000
LOCATION:Sportovní hala Palkovice\,  Palkovice20
SUMMARY:MS-U16M-T4B: VK Ostrava 'B'-TJ Hlučín
END:VEVENT
BEGIN:VEVENT
UID:31613164-6231-4537-a133-623936623636
DTSTAMP:20260422T084700Z
DESCRIPTION:1/2 TJ Hlučín - Green F-M 0:2 (-19\,-19)
DTSTART;TZID=Europe/Berlin:20250202T090000
DTEND;TZID=Europe/Berlin:20250202T110000
LOCATION:Sportovní hala\, Tyršova 1668 Hlučín
SUMMARY:MS-U16M-T5C: TJ Hlučín-Green F-M
END:VEVENT
BEGIN:VEVENT
UID:37626632-3463-4961-a234-633232636266
DTSTAMP:20260422T084700Z
DESCRIPTION:3/5 TJ Hlučín - Vlci NJ 'B' 2:0 (12\,19)
DTSTART;TZID=Europe/Berlin:20250202T120000
DTEND;TZID=Europe/Berlin:20250202T140000
LOCATION:Sportovní hala\, Tyršova 1668 Hlučín
SUMMARY:MS-U16M-T5C: TJ Hlučín-Vlci NJ 'B'
END:VEVENT
BEGIN:VEVENT
UID:30656239-3830-4533-b565-643462656666
DTSTAMP:20260422T084700Z
DESCRIPTION:2/3 Blue Ostrava 'A' - TJ Hlučín 0:2 (-15\,-0)
DTSTART;TZID=Europe/Berlin:20250202T103000
DTEND;TZID=Europe/Berlin:20250202T123000
LOCATION:Sportovní hala\, Tyršova 1668 Hlučín
SUMMARY:MS-U16M-T5C: Blue Ostrava 'A'-TJ Hlučín
END:VEVENT
BEGIN:VEVENT
UID:33623036-6532-4864-b136-613433376563
DTSTAMP:20260422T084700Z
DESCRIPTION:4/8 VAM Havířov - TJ Hlučín 0:2 (-10\,-15)
DTSTART;TZID=Europe/Berlin:20250202T133000
DTEND;TZID=Europe/Berlin:20250202T153000
LOCATION:Sportovní hala\, Tyršova 1668 Hlučín
SUMMARY:MS-U16M-T5C: VAM Havířov-TJ Hlučín
END:VEVENT
BEGIN:VEVENT
UID:63633766-6439-4366-b630-643539636662
DTSTAMP:20260422T084700Z
DESCRIPTION:2/4 TJ Hlučín - Vlci NJ 'B' 2:0 (15\,12)
DTSTART;TZID=Europe/Berlin:20250223T103000
DTEND;TZID=Europe/Berlin:20250223T123000
LOCATION:ZŠ ALBRECHTICE\, Školní 20 Albrechtice
SUMMARY:MS-U16M-T6C: TJ Hlučín-Vlci NJ 'B'
END:VEVENT
BEGIN:VEVENT
UID:30323763-3234-4938-b764-643139353664
DTSTAMP:20260422T084700Z
DESCRIPTION:4/7 TJ Hlučín - Blue Ostrava 'A' 2:0 (17\,14)
DTSTART;TZID=Europe/Berlin:20250223T133000
DTEND;TZID=Europe/Berlin:20250223T153000
LOCATION:ZŠ ALBRECHTICE\, Školní 20 Albrechtice
SUMMARY:MS-U16M-T6C: TJ Hlučín-Blue Ostrava 'A'
END:VEVENT
BEGIN:VEVENT
UID:35643935-3465-4136-b535-396533396232
DTSTAMP:20260422T084700Z
DESCRIPTION:3/5 VAM Havířov - TJ Hlučín 0:2 (-15\,-12)
DTSTART;TZID=Europe/Berlin:20250223T120000
DTEND;TZID=Europe/Berlin:20250223T140000
LOCATION:ZŠ ALBRECHTICE\, Školní 20 Albrechtice
SUMMARY:MS-U16M-T6C: VAM Havířov-TJ Hlučín
END:VEVENT
BEGIN:VEVENT
UID:63313239-6137-4433-a532-346663373164
DTSTAMP:20260422T084700Z
DESCRIPTION:5/10 VK Ostrava 'B' - TJ Hlučín 0:2 (-9\,-19)
DTSTART;TZID=Europe/Berlin:20250223T150000
DTEND;TZID=Europe/Berlin:20250223T170000
LOCATION:ZŠ ALBRECHTICE\, Školní 20 Albrechtice
SUMMARY:MS-U16M-T6C: VK Ostrava 'B'-TJ Hlučín
END:VEVENT
BEGIN:VEVENT
UID:65366631-3532-4966-a338-383030393361
DTSTAMP:20260422T084700Z
DESCRIPTION:2/3 TJ Hlučín - VK Ostrava 'A' 0:2 (-14\,-7)
DTSTART;TZID=Europe/Berlin:20250330T103000
DTEND;TZID=Europe/Berlin:20250330T123000
LOCATION:Sportovní hala\, Tyršova 1668 Hlučín
SUMMARY:MS-U16M-T7B: TJ Hlučín-VK Ostrava 'A'
END:VEVENT
BEGIN:VEVENT
UID:35313535-6432-4938-a432-303733363331
DTSTAMP:20260422T084700Z
DESCRIPTION:5/10 TJ Hlučín - Red Frýdlant n/O 0:2 (-17\,-18)
DTSTART;TZID=Europe/Berlin:20250330T150000
DTEND;TZID=Europe/Berlin:20250330T170000
LOCATION:Sportovní hala\, Tyršova 1668 Hlučín
SUMMARY:MS-U16M-T7B: TJ Hlučín-Red Frýdlant n/O
END:VEVENT
BEGIN:VEVENT
UID:35333361-6366-4339-a439-626530666364
DTSTAMP:20260422T084700Z
DESCRIPTION:1/1 Vlci NJ 'A' - TJ Hlučín 2:0 (20\,14)
DTSTART;TZID=Europe/Berlin:20250330T090000
DTEND;TZID=Europe/Berlin:20250330T110000
LOCATION:Sportovní hala\, Tyršova 1668 Hlučín
SUMMARY:MS-U16M-T7B: Vlci NJ 'A'-TJ Hlučín
END:VEVENT
BEGIN:VEVENT
UID:34653736-3034-4234-b066-333435616130
DTSTAMP:20260422T084700Z
DESCRIPTION:3/6 HS Opava - TJ Hlučín 2:1 (-19\,21\,10)
DTSTART;TZID=Europe/Berlin:20250330T120000
DTEND;TZID=Europe/Berlin:20250330T140000
LOCATION:Sportovní hala\, Tyršova 1668 Hlučín
SUMMARY:MS-U16M-T7B: HS Opava-TJ Hlučín
END:VEVENT
END:VCALENDAR
