BEGIN:VCALENDAR
VERSION:2.0
PRODID:-//Volejbalový klub Realistic Karlovy Vary z.s. "C"86726//NONSGML kigkonsult.se iCalcreator 2.41.80//
CALSCALE:GREGORIAN
UID:33303938-3231-4330-a332-633339376630
BEGIN:VEVENT
UID:33616233-3137-4864-b838-626533353436
DTSTAMP:20260421T223118Z
DESCRIPTION:1/1 Volejbalový klub Realistic Karlovy Vary z.s. 'C' - Sokolov 
 A 0:2 (-10\,-19)\npoř.VK Karlovy Vary
DTSTART;TZID=Europe/Berlin:20241006T090000
DTEND;TZID=Europe/Berlin:20241006T110000
LOCATION:Mattoni Arena Hala míčových sportů\, Západní 1812 Karlovy Vary
SUMMARY:KV-U16Z-KD: Volejbalový klub Realistic Karlovy Vary z.s. 'C'-Sokolo
 v A
END:VEVENT
BEGIN:VEVENT
UID:30353935-3335-4164-a661-623830626435
DTSTAMP:20260421T223118Z
DESCRIPTION:1/2 VK Karlovarsko\, z.s. - Volejbalový klub Realistic Karlovy 
 Vary z.s. 'C' 0:2 (-20\,-14)
DTSTART;TZID=Europe/Berlin:20241006T090000
DTEND;TZID=Europe/Berlin:20241006T110000
LOCATION:Mattoni Arena Hala míčových sportů\, Západní 1812 Karlovy Vary
SUMMARY:KV-U16Z-KD: VK Karlovarsko\, z.s.-Volejbalový klub Realistic Karlov
 y Vary z.s. 'C'
END:VEVENT
BEGIN:VEVENT
UID:34336564-6431-4830-a662-303332353238
DTSTAMP:20260421T223118Z
DESCRIPTION:1/1 Volejbalový klub Realistic  Karlovy Vary z.s. 'B' - Volejba
 lový klub Realistic Karlovy Vary z.s. 'C' 0:2 (-9\,-16)
DTSTART;TZID=Europe/Berlin:20241006T090000
DTEND;TZID=Europe/Berlin:20241006T110000
LOCATION:Mattoni Arena Hala míčových sportů\, Západní 1812 Karlovy Vary
SUMMARY:KV-U16Z-KRC: Volejbalový klub Realistic  Karlovy Vary z.s. 'B'-Vole
 jbalový klub Realistic Karlovy Vary z.s. 'C'
END:VEVENT
BEGIN:VEVENT
UID:65373761-6566-4934-a239-313163356366
DTSTAMP:20260421T223118Z
DESCRIPTION:1/2 BVC CHODOV 'A' - Volejbalový klub Realistic Karlovy Vary z.
 s. 'C' 2:0 (25\,18)
DTSTART;TZID=Europe/Berlin:20241201T090000
DTEND;TZID=Europe/Berlin:20241201T110000
LOCATION:Městská sportovní hala Chodov\, Tyršova 1201 Chodov
SUMMARY:KV-U16Z-A1: BVC CHODOV 'A'-Volejbalový klub Realistic Karlovy Vary 
 z.s. 'C'
END:VEVENT
BEGIN:VEVENT
UID:62326539-6466-4637-b561-383961316163
DTSTAMP:20260421T223118Z
DESCRIPTION:1/3 Sokolov A - Volejbalový klub Realistic Karlovy Vary z.s. 'C
 ' 2:0 (11\,19)
DTSTART;TZID=Europe/Berlin:20241201T090000
DTEND;TZID=Europe/Berlin:20241201T110000
LOCATION:Jiskra\, Maxima Gorkého 280 Sokolov
SUMMARY:KV-U16Z-A1: Sokolov A-Volejbalový klub Realistic Karlovy Vary z.s. 
 'C'
END:VEVENT
BEGIN:VEVENT
UID:63313533-6639-4764-a334-386335323736
DTSTAMP:20260421T223118Z
DESCRIPTION:1/6 Karlovy Vary - Volejbalový klub Realistic Karlovy Vary z.s.
  'C' 2:0 (11\,10)
DTSTART;TZID=Europe/Berlin:20241201T090000
DTEND;TZID=Europe/Berlin:20241201T110000
LOCATION:Mattoni Arena Hala míčových sportů\, Západní 1812 Karlovy Vary
SUMMARY:KV-U16Z-A1: Karlovy Vary-Volejbalový klub Realistic Karlovy Vary z.
 s. 'C'
END:VEVENT
BEGIN:VEVENT
UID:37353138-3138-4939-a539-643961636234
DTSTAMP:20260421T223118Z
DESCRIPTION:1/4 Volejbalový klub Realistic Karlovy Vary z.s. 'C' - VA-K z.s
 . 'A' 2:1 (-23\,21\,8)
DTSTART;TZID=Europe/Berlin:20250112T090000
DTEND;TZID=Europe/Berlin:20250112T110000
LOCATION:Mattoni Arena Hala míčových sportů\, Západní 1812 Karlovy Vary
SUMMARY:KV-U16Z-B2: Volejbalový klub Realistic Karlovy Vary z.s. 'C'-VA-K z
 .s. 'A'
END:VEVENT
BEGIN:VEVENT
UID:32386463-6437-4136-b239-313664343736
DTSTAMP:20260421T223118Z
DESCRIPTION:1/6 Volejbalový klub Realistic Karlovy Vary z.s. 'C' - VA-K z.s
 . 'B' 2:0 (18\,23)
DTSTART;TZID=Europe/Berlin:20250112T090000
DTEND;TZID=Europe/Berlin:20250112T110000
LOCATION:Mattoni Arena Hala míčových sportů\, Západní 1812 Karlovy Vary
SUMMARY:KV-U16Z-B2: Volejbalový klub Realistic Karlovy Vary z.s. 'C'-VA-K z
 .s. 'B'
END:VEVENT
BEGIN:VEVENT
UID:37363535-6336-4432-b239-343833666332
DTSTAMP:20260421T223118Z
DESCRIPTION:1/1 VK Karlovarsko\, z.s. - Volejbalový klub Realistic Karlovy 
 Vary z.s. 'C' 0:2 (-14\,-15)\npoř. BVC Chodov
DTSTART;TZID=Europe/Berlin:20250112T090000
DTEND;TZID=Europe/Berlin:20250112T110000
LOCATION:Mattoni Arena Hala míčových sportů\, Západní 1812 Karlovy Vary
SUMMARY:KV-U16Z-B2: VK Karlovarsko\, z.s.-Volejbalový klub Realistic Karlov
 y Vary z.s. 'C'
END:VEVENT
BEGIN:VEVENT
UID:63353664-6431-4366-a566-333034643566
DTSTAMP:20260421T223118Z
DESCRIPTION:1/1 Volejbalový klub Realistic Karlovy Vary z.s. 'C' - Sokolov 
 A 0:2 (-18\,-18)\npoř. Aš
DTSTART;TZID=Europe/Berlin:20250323T090000
DTEND;TZID=Europe/Berlin:20250323T110000
LOCATION:Mattoni Arena Hala míčových sportů\, Západní 1812 Karlovy Vary
SUMMARY:KV-U16Z-A3: Volejbalový klub Realistic Karlovy Vary z.s. 'C'-Sokolo
 v A
END:VEVENT
BEGIN:VEVENT
UID:62636162-3461-4839-b764-626337323639
DTSTAMP:20260421T223118Z
DESCRIPTION:1/3 Volejbalový klub Realistic Karlovy Vary z.s. 'C' - BVC CHOD
 OV 'A' 2:1 (18\,-20\,11)
DTSTART;TZID=Europe/Berlin:20250323T090000
DTEND;TZID=Europe/Berlin:20250323T110000
LOCATION:Mattoni Arena Hala míčových sportů\, Západní 1812 Karlovy Vary
SUMMARY:KV-U16Z-A3: Volejbalový klub Realistic Karlovy Vary z.s. 'C'-BVC CH
 ODOV 'A'
END:VEVENT
BEGIN:VEVENT
UID:39663835-3036-4530-b435-303466656564
DTSTAMP:20260421T223118Z
DESCRIPTION:1/5 Volejbalový klub Realistic Karlovy Vary z.s. 'C' - Karlovy 
 Vary 0:2 (-19\,-19)
DTSTART;TZID=Europe/Berlin:20250323T090000
DTEND;TZID=Europe/Berlin:20250323T110000
LOCATION:Mattoni Arena Hala míčových sportů\, Západní 1812 Karlovy Vary
SUMMARY:KV-U16Z-A3: Volejbalový klub Realistic Karlovy Vary z.s. 'C'-Karlov
 y Vary
END:VEVENT
END:VCALENDAR
