BEGIN:VCALENDAR
VERSION:2.0
PRODID:-//Volejbalový klub Realistic Karlovy Vary z.s. "B"86732//NONSGML kigkonsult.se iCalcreator 2.41.80//
CALSCALE:GREGORIAN
UID:31353138-3063-4238-b839-643033383030
BEGIN:VEVENT
UID:62333236-3966-4830-b235-396133613964
DTSTAMP:20260423T044357Z
DESCRIPTION:1/1 ASK Lovosice z.s. - Volejbalový klub Realistic Karlovy Vary
  z.s. 'B' 3:0 (12\,8\,8)
DTSTART;TZID=Europe/Berlin:20241005T100000
DTEND;TZID=Europe/Berlin:20241005T120000
LOCATION:hala U přívozu U Stadionu 1022/2\, 410 02 Lovosice
SUMMARY:US-Z-1: ASK Lovosice z.s.-Volejbalový klub Realistic Karlovy Vary z
 .s. 'B'
END:VEVENT
BEGIN:VEVENT
UID:39376234-3835-4039-a631-336536303162
DTSTAMP:20260423T044357Z
DESCRIPTION:2/4 ASK Lovosice z.s. - Volejbalový klub Realistic Karlovy Vary
  z.s. 'B' 3:0 (15\,16\,21)
DTSTART;TZID=Europe/Berlin:20241005T140000
DTEND;TZID=Europe/Berlin:20241005T160000
LOCATION:hala U přívozu U Stadionu 1022/2\, 410 02 Lovosice
SUMMARY:US-Z-1: ASK Lovosice z.s.-Volejbalový klub Realistic Karlovy Vary z
 .s. 'B'
END:VEVENT
BEGIN:VEVENT
UID:38623038-6439-4962-b430-386666316230
DTSTAMP:20260423T044357Z
DESCRIPTION:3/7 Volejbal Ústí nad Labem\, z.s. - Volejbalový klub Realistic
  Karlovy Vary z.s. 'B' 3:0 (10\,24\,7)
DTSTART;TZID=Europe/Berlin:20241123T100000
DTEND;TZID=Europe/Berlin:20241123T120000
LOCATION:Tělocvična Gymnázia a Střední odborné školy dr. Václava Šmejkala\,
  Stará 3299 Ústí nad Labem - Severní Terasa
SUMMARY:US-Z-1: Volejbal Ústí nad Labem\, z.s.-Volejbalový klub Realistic K
 arlovy Vary z.s. 'B'
END:VEVENT
BEGIN:VEVENT
UID:35646464-3866-4630-a365-326339653866
DTSTAMP:20260423T044357Z
DESCRIPTION:4/10 Volejbal Ústí nad Labem\, z.s. - Volejbalový klub Realisti
 c Karlovy Vary z.s. 'B' 3:0 (22\,18\,15)
DTSTART;TZID=Europe/Berlin:20241123T140000
DTEND;TZID=Europe/Berlin:20241123T160000
LOCATION:Tělocvična Gymnázia a Střední odborné školy dr. Václava Šmejkala\,
  Stará 3299 Ústí nad Labem - Severní Terasa
SUMMARY:US-Z-1: Volejbal Ústí nad Labem\, z.s.-Volejbalový klub Realistic K
 arlovy Vary z.s. 'B'
END:VEVENT
BEGIN:VEVENT
UID:32353137-3366-4638-b239-616362363366
DTSTAMP:20260423T044357Z
DESCRIPTION:5/13 Litoměřice - Volejbalový klub Realistic Karlovy Vary z.s. 
 'B' 3:0 (16\,13\,14)
DTSTART;TZID=Europe/Berlin:20241102T100000
DTEND;TZID=Europe/Berlin:20241102T120000
LOCATION:Sokol Litoměřice\, Osvobození 191 Litoměřice - Předměstí
SUMMARY:US-Z-1: Litoměřice-Volejbalový klub Realistic Karlovy Vary z.s. 'B'
END:VEVENT
BEGIN:VEVENT
UID:62313264-3863-4233-a538-356638303165
DTSTAMP:20260423T044357Z
DESCRIPTION:6/16 Litoměřice - Volejbalový klub Realistic Karlovy Vary z.s. 
 'B' 3:0 (16\,8\,15)
DTSTART;TZID=Europe/Berlin:20241102T140000
DTEND;TZID=Europe/Berlin:20241102T160000
LOCATION:Sokol Litoměřice\, Osvobození 191 Litoměřice - Předměstí
SUMMARY:US-Z-1: Litoměřice-Volejbalový klub Realistic Karlovy Vary z.s. 'B'
END:VEVENT
BEGIN:VEVENT
UID:65316563-6363-4236-b234-343162333362
DTSTAMP:20260423T044357Z
DESCRIPTION:7/19 VTK Čížkovice\, z.s. - Volejbalový klub Realistic Karlovy 
 Vary z.s. 'B' 3:1 (23\,17\,-15\,17)
DTSTART;TZID=Europe/Berlin:20250222T100000
DTEND;TZID=Europe/Berlin:20250222T120000
LOCATION:Hala při ZŠ Benešova 65\, Čížkovice
SUMMARY:US-Z-1: VTK Čížkovice\, z.s.-Volejbalový klub Realistic Karlovy Var
 y z.s. 'B'
END:VEVENT
BEGIN:VEVENT
UID:62653963-3063-4561-a565-636338656265
DTSTAMP:20260423T044357Z
DESCRIPTION:8/22 VTK Čížkovice\, z.s. - Volejbalový klub Realistic Karlovy 
 Vary z.s. 'B' 3:1 (21\,-23\,18\,18)
DTSTART;TZID=Europe/Berlin:20250222T140000
DTEND;TZID=Europe/Berlin:20250222T160000
LOCATION:Hala při ZŠ Benešova 65\, Čížkovice
SUMMARY:US-Z-1: VTK Čížkovice\, z.s.-Volejbalový klub Realistic Karlovy Var
 y z.s. 'B'
END:VEVENT
BEGIN:VEVENT
UID:34373565-6436-4536-b433-393362343234
DTSTAMP:20260423T044357Z
DESCRIPTION:9/25 VK Sever Žatec\, z.s. - Volejbalový klub Realistic Karlovy
  Vary z.s. 'B' 3:0 (15\,12\,14)
DTSTART;TZID=Europe/Berlin:20250119T110000
DTEND;TZID=Europe/Berlin:20250119T130000
LOCATION:Sportovní hala TJ Sever Žatec\, Plzeňská 2787 Žatec
SUMMARY:US-Z-1: VK Sever Žatec\, z.s.-Volejbalový klub Realistic Karlovy Va
 ry z.s. 'B'
END:VEVENT
BEGIN:VEVENT
UID:66643333-3535-4163-a437-643631663439
DTSTAMP:20260423T044357Z
DESCRIPTION:10/28 VK Sever Žatec\, z.s. - Volejbalový klub Realistic Karlov
 y Vary z.s. 'B' 3:0 (14\,10\,13)
DTSTART;TZID=Europe/Berlin:20250119T150000
DTEND;TZID=Europe/Berlin:20250119T170000
LOCATION:Sportovní hala TJ Sever Žatec\, Plzeňská 2787 Žatec
SUMMARY:US-Z-1: VK Sever Žatec\, z.s.-Volejbalový klub Realistic Karlovy Va
 ry z.s. 'B'
END:VEVENT
BEGIN:VEVENT
UID:33303837-3061-4464-b938-376430363033
DTSTAMP:20260423T044357Z
DESCRIPTION:11/31 ASK Lovosice z.s. - Volejbalový klub Realistic Karlovy Va
 ry z.s. 'B' 3:0 (16\,11\,17)
DTSTART;TZID=Europe/Berlin:20241207T140000
DTEND;TZID=Europe/Berlin:20241207T160000
LOCATION:hala U přívozu U Stadionu 1022/2\, 410 02 Lovosice
SUMMARY:US-Z-1: ASK Lovosice z.s.-Volejbalový klub Realistic Karlovy Vary z
 .s. 'B'
END:VEVENT
BEGIN:VEVENT
UID:36346263-3739-4564-a235-613561346163
DTSTAMP:20260423T044357Z
DESCRIPTION:12/34 ASK Lovosice z.s. - Volejbalový klub Realistic Karlovy Va
 ry z.s. 'B' 3:1 (-17\,19\,11\,14)
DTSTART;TZID=Europe/Berlin:20241207T170000
DTEND;TZID=Europe/Berlin:20241207T190000
LOCATION:hala U přívozu U Stadionu 1022/2\, 410 02 Lovosice
SUMMARY:US-Z-1: ASK Lovosice z.s.-Volejbalový klub Realistic Karlovy Vary z
 .s. 'B'
END:VEVENT
BEGIN:VEVENT
UID:62313234-6336-4539-b034-306334616331
DTSTAMP:20260423T044357Z
DESCRIPTION:13/37 Volejbal Ústí nad Labem\, z.s. - Volejbalový klub Realist
 ic Karlovy Vary z.s. 'B' 3:2 (-24\,17\,-26\,20\,10)
DTSTART;TZID=Europe/Berlin:20250125T100000
DTEND;TZID=Europe/Berlin:20250125T120000
LOCATION:Tělocvična Gymnázia a Střední odborné školy dr. Václava Šmejkala\,
  Stará 3299 Ústí nad Labem - Severní Terasa
SUMMARY:US-Z-1: Volejbal Ústí nad Labem\, z.s.-Volejbalový klub Realistic K
 arlovy Vary z.s. 'B'
END:VEVENT
BEGIN:VEVENT
UID:39363238-3430-4839-a239-333130633932
DTSTAMP:20260423T044357Z
DESCRIPTION:14/40 Volejbal Ústí nad Labem\, z.s. - Volejbalový klub Realist
 ic Karlovy Vary z.s. 'B' 3:0 (19\,24\,21)
DTSTART;TZID=Europe/Berlin:20250125T140000
DTEND;TZID=Europe/Berlin:20250125T160000
LOCATION:Tělocvična Gymnázia a Střední odborné školy dr. Václava Šmejkala\,
  Stará 3299 Ústí nad Labem - Severní Terasa
SUMMARY:US-Z-1: Volejbal Ústí nad Labem\, z.s.-Volejbalový klub Realistic K
 arlovy Vary z.s. 'B'
END:VEVENT
BEGIN:VEVENT
UID:35356136-3935-4531-b336-323934656132
DTSTAMP:20260423T044357Z
DESCRIPTION:15/43 Litoměřice - Volejbalový klub Realistic Karlovy Vary z.s.
  'B' 3:0 (22\,19\,15)
DTSTART;TZID=Europe/Berlin:20250201T100000
DTEND;TZID=Europe/Berlin:20250201T120000
LOCATION:Sokol Litoměřice\, Osvobození 191 Litoměřice - Předměstí
SUMMARY:US-Z-1: Litoměřice-Volejbalový klub Realistic Karlovy Vary z.s. 'B'
END:VEVENT
BEGIN:VEVENT
UID:36353761-6138-4261-a135-363232333239
DTSTAMP:20260423T044357Z
DESCRIPTION:16/46 Litoměřice - Volejbalový klub Realistic Karlovy Vary z.s.
  'B' 3:0 (24\,14\,23)
DTSTART;TZID=Europe/Berlin:20250201T140000
DTEND;TZID=Europe/Berlin:20250201T160000
LOCATION:Sokol Litoměřice\, Osvobození 191 Litoměřice - Předměstí
SUMMARY:US-Z-1: Litoměřice-Volejbalový klub Realistic Karlovy Vary z.s. 'B'
END:VEVENT
BEGIN:VEVENT
UID:37376263-3334-4463-b037-326366336335
DTSTAMP:20260423T044357Z
DESCRIPTION:17/49 VTK Čížkovice\, z.s. - Volejbalový klub Realistic Karlovy
  Vary z.s. 'B' 3:0 (20\,23\,22)
DTSTART;TZID=Europe/Berlin:20250302T100000
DTEND;TZID=Europe/Berlin:20250302T120000
LOCATION:Hala při ZŠ Benešova 65\, Čížkovice
SUMMARY:US-Z-1: VTK Čížkovice\, z.s.-Volejbalový klub Realistic Karlovy Var
 y z.s. 'B'
END:VEVENT
BEGIN:VEVENT
UID:32363465-6633-4662-b134-636366623334
DTSTAMP:20260423T044357Z
DESCRIPTION:18/52 VTK Čížkovice\, z.s. - Volejbalový klub Realistic Karlovy
  Vary z.s. 'B' 3:1 (21\,-25\,21\,17)
DTSTART;TZID=Europe/Berlin:20250302T140000
DTEND;TZID=Europe/Berlin:20250302T160000
LOCATION:Hala při ZŠ Benešova 65\, Čížkovice
SUMMARY:US-Z-1: VTK Čížkovice\, z.s.-Volejbalový klub Realistic Karlovy Var
 y z.s. 'B'
END:VEVENT
BEGIN:VEVENT
UID:61663730-6139-4137-b764-343338666134
DTSTAMP:20260423T044357Z
DESCRIPTION:19/55 VK Sever Žatec\, z.s. - Volejbalový klub Realistic Karlov
 y Vary z.s. 'B' 3:1 (6\,17\,-22\,19)
DTSTART;TZID=Europe/Berlin:20250208T100000
DTEND;TZID=Europe/Berlin:20250208T120000
LOCATION:Sportovní hala TJ Sever Žatec\, Plzeňská 2787 Žatec
SUMMARY:US-Z-1: VK Sever Žatec\, z.s.-Volejbalový klub Realistic Karlovy Va
 ry z.s. 'B'
END:VEVENT
BEGIN:VEVENT
UID:64633237-3634-4939-b134-373338643261
DTSTAMP:20260423T044357Z
DESCRIPTION:20/58 VK Sever Žatec\, z.s. - Volejbalový klub Realistic Karlov
 y Vary z.s. 'B' 3:0 (5\,13\,13)
DTSTART;TZID=Europe/Berlin:20250208T140000
DTEND;TZID=Europe/Berlin:20250208T160000
LOCATION:Sportovní hala TJ Sever Žatec\, Plzeňská 2787 Žatec
SUMMARY:US-Z-1: VK Sever Žatec\, z.s.-Volejbalový klub Realistic Karlovy Va
 ry z.s. 'B'
END:VEVENT
END:VCALENDAR
