BEGIN:VCALENDAR
VERSION:2.0
PRODID:-//Škola volejbalu86738//NONSGML kigkonsult.se iCalcreator 2.41.80//
CALSCALE:GREGORIAN
UID:36313939-6331-4931-b032-363631323233
BEGIN:VEVENT
UID:63336534-6136-4832-b134-383035613239
DTSTAMP:20260421T175228Z
DESCRIPTION:8/16 Škola volejbalu - Volejbal Vršovice 0:2 (-26\,-21)
DTSTART;TZID=Europe/Berlin:20240921T174500
DTEND;TZID=Europe/Berlin:20240921T194500
LOCATION:ZŠ Dolní Břežany\, Na Vršku 290 Dolní Břežany
SUMMARY:CP-U16Z-Z1C: Škola volejbalu-Volejbal Vršovice
END:VEVENT
BEGIN:VEVENT
UID:61656461-6539-4163-b535-663536333166
DTSTAMP:20260421T175228Z
DESCRIPTION:10/19 Škola volejbalu - Orion Praha 0:2 (-10\,-9)
DTSTART;TZID=Europe/Berlin:20240922T101500
DTEND;TZID=Europe/Berlin:20240922T121500
LOCATION:ZŠ Dolní Břežany\, Na Vršku 290 Dolní Břežany
SUMMARY:CP-U16Z-Z1C: Škola volejbalu-Orion Praha
END:VEVENT
BEGIN:VEVENT
UID:66383465-3233-4130-a462-366638336630
DTSTAMP:20260421T175228Z
DESCRIPTION:13/26 Škola volejbalu - Příbram B 2:1 (24\,-16\,9)
DTSTART;TZID=Europe/Berlin:20240922T140000
DTEND;TZID=Europe/Berlin:20240922T160000
LOCATION:ZŠ Dolní Břežany\, Na Vršku 290 Dolní Břežany
SUMMARY:CP-U16Z-Z1C: Škola volejbalu-Příbram B
END:VEVENT
BEGIN:VEVENT
UID:32333666-6362-4235-b465-353332373738
DTSTAMP:20260421T175228Z
DESCRIPTION:2/3 SK Volejbal Ústí n. Labem - Škola volejbalu 2:1 (12\,-20\,7
 )
DTSTART;TZID=Europe/Berlin:20240921T101500
DTEND;TZID=Europe/Berlin:20240921T121500
LOCATION:ZŠ Dolní Břežany\, Na Vršku 290 Dolní Břežany
SUMMARY:CP-U16Z-Z1C: SK Volejbal Ústí n. Labem-Škola volejbalu
END:VEVENT
BEGIN:VEVENT
UID:36306536-6364-4634-b033-323465313430
DTSTAMP:20260421T175228Z
DESCRIPTION:4/8 Lokomotiva Plzeň - Škola volejbalu 2:0 (9\,11)
DTSTART;TZID=Europe/Berlin:20240921T124500
DTEND;TZID=Europe/Berlin:20240921T144500
LOCATION:ZŠ Dolní Břežany\, Na Vršku 290 Dolní Břežany
SUMMARY:CP-U16Z-Z1C: Lokomotiva Plzeň-Škola volejbalu
END:VEVENT
BEGIN:VEVENT
UID:39313063-6634-4432-a362-323662353462
DTSTAMP:20260421T175228Z
DESCRIPTION:6/12 Kladno A - Škola volejbalu 2:0 (23\,16)
DTSTART;TZID=Europe/Berlin:20240921T151500
DTEND;TZID=Europe/Berlin:20240921T171500
LOCATION:ZŠ Dolní Břežany\, Na Vršku 290 Dolní Břežany
SUMMARY:CP-U16Z-Z1C: Kladno A-Škola volejbalu
END:VEVENT
BEGIN:VEVENT
UID:63346231-6362-4634-a337-633765633930
DTSTAMP:20260421T175228Z
DESCRIPTION:11/22 BVC CHODOV - Škola volejbalu 2:0 (9\,13)
DTSTART;TZID=Europe/Berlin:20240922T113000
DTEND;TZID=Europe/Berlin:20240922T133000
LOCATION:ZŠ Dolní Břežany\, Na Vršku 290 Dolní Břežany
SUMMARY:CP-U16Z-Z1C: BVC CHODOV-Škola volejbalu
END:VEVENT
BEGIN:VEVENT
UID:61336561-3232-4138-b135-393265373864
DTSTAMP:20260421T175228Z
DESCRIPTION:2/5 Škola volejbalu - TJ Lokomotiva Česká Lípa\, z.s. 2:0 (9\,1
 9)
DTSTART;TZID=Europe/Berlin:20241102T113000
DTEND;TZID=Europe/Berlin:20241102T133000
LOCATION:Sportovní hala Hrdějovice\,  Hrdějovice597
SUMMARY:CP-U16Z-Z2F: Škola volejbalu-TJ Lokomotiva Česká Lípa\, z.s.
END:VEVENT
BEGIN:VEVENT
UID:32646634-6464-4131-a235-333033343361
DTSTAMP:20260421T175228Z
DESCRIPTION:4/10 Škola volejbalu - TJ SLAVIA Liberec 2:0 (18\,10)
DTSTART;TZID=Europe/Berlin:20241102T143000
DTEND;TZID=Europe/Berlin:20241102T163000
LOCATION:Sportovní hala Hrdějovice\,  Hrdějovice597
SUMMARY:CP-U16Z-Z2F: Škola volejbalu-TJ SLAVIA Liberec
END:VEVENT
BEGIN:VEVENT
UID:64653933-3265-4230-a232-353562613063
DTSTAMP:20260421T175228Z
DESCRIPTION:7/16 Škola volejbalu - Říčany 1:2 (-18\,21\,-4)
DTSTART;TZID=Europe/Berlin:20241103T120000
DTEND;TZID=Europe/Berlin:20241103T140000
LOCATION:Sportovní hala Hrdějovice\,  Hrdějovice597
SUMMARY:CP-U16Z-Z2F: Škola volejbalu-Říčany
END:VEVENT
BEGIN:VEVENT
UID:63633062-3236-4637-b233-313262653433
DTSTAMP:20260421T175228Z
DESCRIPTION:1/1 SK Dansport Praha - Škola volejbalu 1:2 (11\,-18\,-10)
DTSTART;TZID=Europe/Berlin:20241102T100000
DTEND;TZID=Europe/Berlin:20241102T120000
LOCATION:Sportovní hala Gymnázia Jana Keplera\, Parléřova 118 Praha - Hradč
 any
SUMMARY:CP-U16Z-Z2F: SK Dansport Praha-Škola volejbalu
END:VEVENT
BEGIN:VEVENT
UID:33303031-6233-4164-a437-396662323239
DTSTAMP:20260421T175228Z
DESCRIPTION:3/8 Kunice - Škola volejbalu 0:2 (-18\,-17)
DTSTART;TZID=Europe/Berlin:20241102T130000
DTEND;TZID=Europe/Berlin:20241102T150000
LOCATION:ZŠ Kunice\, Na Návsi 60 Kunice
SUMMARY:CP-U16Z-Z2F: Kunice-Škola volejbalu
END:VEVENT
BEGIN:VEVENT
UID:31626431-6233-4364-a531-363436393963
DTSTAMP:20260421T175228Z
DESCRIPTION:8/19 Tuchlovice - Škola volejbalu 2:1 (-21\,19\,14)
DTSTART;TZID=Europe/Berlin:20241103T133000
DTEND;TZID=Europe/Berlin:20241103T153000
LOCATION:ZŠ Tuchlovice\, Školní 277 Tuchlovice
SUMMARY:CP-U16Z-Z2F: Tuchlovice-Škola volejbalu
END:VEVENT
BEGIN:VEVENT
UID:37356165-3435-4139-b834-313236393636
DTSTAMP:20260421T175228Z
DESCRIPTION:1/1 Škola volejbalu - Kunice 2:1 (-25\,19\,11)
DTSTART;TZID=Europe/Berlin:20241123T100000
DTEND;TZID=Europe/Berlin:20241123T120000
LOCATION:Sportovní hala Hrdějovice\,  Hrdějovice597
SUMMARY:CP-U16Z-Z3F: Škola volejbalu-Kunice
END:VEVENT
BEGIN:VEVENT
UID:35343964-3734-4432-b566-653339623934
DTSTAMP:20260421T175228Z
DESCRIPTION:5/9 Škola volejbalu - TŘEBÍN 2:0 (13\,8)
DTSTART;TZID=Europe/Berlin:20241123T150000
DTEND;TZID=Europe/Berlin:20241123T170000
LOCATION:Sportovní hala Hrdějovice\,  Hrdějovice597
SUMMARY:CP-U16Z-Z3F: Škola volejbalu-TŘEBÍN
END:VEVENT
BEGIN:VEVENT
UID:32376365-3433-4539-a237-356234356330
DTSTAMP:20260421T175228Z
DESCRIPTION:7/14 Škola volejbalu - Říčany 2:0 (9\,21)
DTSTART;TZID=Europe/Berlin:20241124T090000
DTEND;TZID=Europe/Berlin:20241124T110000
LOCATION:Sportovní hala Hrdějovice\,  Hrdějovice597
SUMMARY:CP-U16Z-Z3F: Škola volejbalu-Říčany
END:VEVENT
BEGIN:VEVENT
UID:66666562-6539-4565-a639-326530636633
DTSTAMP:20260421T175228Z
DESCRIPTION:3/5 TJ Sokol Mnichovo Hradiště - Škola volejbalu 0:2 (-16\,-5)
DTSTART;TZID=Europe/Berlin:20241123T123000
DTEND;TZID=Europe/Berlin:20241123T143000
LOCATION:Sportovní hala Hrdějovice\,  Hrdějovice597
SUMMARY:CP-U16Z-Z3F: TJ Sokol Mnichovo Hradiště-Škola volejbalu
END:VEVENT
BEGIN:VEVENT
UID:62373164-3137-4237-b331-653261626434
DTSTAMP:20260421T175228Z
DESCRIPTION:6/12 TJ Lokomotiva Česká Lípa\, z.s. - Škola volejbalu 0:2 (-9\
 ,-8)
DTSTART;TZID=Europe/Berlin:20241123T161500
DTEND;TZID=Europe/Berlin:20241123T181500
LOCATION:Sportovní hala Hrdějovice\,  Hrdějovice597
SUMMARY:CP-U16Z-Z3F: TJ Lokomotiva Česká Lípa\, z.s.-Škola volejbalu
END:VEVENT
BEGIN:VEVENT
UID:30656264-6634-4434-a232-633065323730
DTSTAMP:20260421T175228Z
DESCRIPTION:8/16 TJ SLAVIA Liberec - Škola volejbalu 0:2 (-9\,-14)
DTSTART;TZID=Europe/Berlin:20241124T103000
DTEND;TZID=Europe/Berlin:20241124T123000
LOCATION:Sportovní hala Hrdějovice\,  Hrdějovice597
SUMMARY:CP-U16Z-Z3F: TJ SLAVIA Liberec-Škola volejbalu
END:VEVENT
BEGIN:VEVENT
UID:63383236-6361-4664-b961-356163303130
DTSTAMP:20260421T175228Z
DESCRIPTION:1/2 Škola volejbalu - TŘEBÍN 0:2 (-17\,-15)
DTSTART;TZID=Europe/Berlin:20250125T093000
DTEND;TZID=Europe/Berlin:20250125T113000
LOCATION:Sportovní hala Hrdějovice\,  Hrdějovice597
SUMMARY:CP-U16Z-F1J: Škola volejbalu-TŘEBÍN
END:VEVENT
BEGIN:VEVENT
UID:38626531-6238-4636-b533-666537626332
DTSTAMP:20260421T175228Z
DESCRIPTION:4/8 Škola volejbalu - Šlapanice 1:2 (9\,-12\,-7)
DTSTART;TZID=Europe/Berlin:20250125T131500
DTEND;TZID=Europe/Berlin:20250125T151500
LOCATION:Sportovní hala Hrdějovice\,  Hrdějovice597
SUMMARY:CP-U16Z-F1J: Škola volejbalu-Šlapanice
END:VEVENT
BEGIN:VEVENT
UID:64636233-6466-4261-b335-666663376337
DTSTAMP:20260421T175228Z
DESCRIPTION:10/20 Škola volejbalu - Sokol Pardubice I. B 2:0 (16\,18)
DTSTART;TZID=Europe/Berlin:20250126T113000
DTEND;TZID=Europe/Berlin:20250126T133000
LOCATION:Sportovní hala Hrdějovice\,  Hrdějovice597
SUMMARY:CP-U16Z-F1J: Škola volejbalu-Sokol Pardubice I. B
END:VEVENT
BEGIN:VEVENT
UID:64633864-3430-4165-b430-343161316232
DTSTAMP:20260421T175228Z
DESCRIPTION:2/4 Tuchlovice - Škola volejbalu 0:2 (-11\,-22)
DTSTART;TZID=Europe/Berlin:20250125T104500
DTEND;TZID=Europe/Berlin:20250125T124500
LOCATION:ZŠ Tuchlovice\, Školní 277 Tuchlovice
SUMMARY:CP-U16Z-F1J: Tuchlovice-Škola volejbalu
END:VEVENT
BEGIN:VEVENT
UID:62353635-6431-4333-a339-343264623261
DTSTAMP:20260421T175228Z
DESCRIPTION:6/11 TJ Sokol Mnichovo Hradiště - Škola volejbalu 0:2 (-20\,-23
 )
DTSTART;TZID=Europe/Berlin:20250125T154500
DTEND;TZID=Europe/Berlin:20250125T174500
LOCATION:Sportovní hala BIOS\, Sokolovská 254 Mnichovo Hradiště
SUMMARY:CP-U16Z-F1J: TJ Sokol Mnichovo Hradiště-Škola volejbalu
END:VEVENT
BEGIN:VEVENT
UID:39303239-3631-4530-b966-333462623461
DTSTAMP:20260421T175228Z
DESCRIPTION:9/17 Pelhřimov - Škola volejbalu 2:1 (-12\,22\,12)
DTSTART;TZID=Europe/Berlin:20250126T101500
DTEND;TZID=Europe/Berlin:20250126T121500
LOCATION:Základní škola Pelhřimov\, Osvobození\, Osvobození 1881 Pelhřimov
SUMMARY:CP-U16Z-F1J: Pelhřimov-Škola volejbalu
END:VEVENT
BEGIN:VEVENT
UID:64393535-3137-4266-b463-336335306465
DTSTAMP:20260421T175228Z
DESCRIPTION:3/6 Škola volejbalu - Sokol Česká Třebová 2:0 (12\,22)
DTSTART;TZID=Europe/Berlin:20250215T120000
DTEND;TZID=Europe/Berlin:20250215T140000
LOCATION:ZŠ Palachova\, Palachova 1757 Žďár nad Sázavou - Žďár nad Sázavou 
 6
SUMMARY:CP-U16Z-F2J: Škola volejbalu-Sokol Česká Třebová
END:VEVENT
BEGIN:VEVENT
UID:35313438-6430-4263-b161-636531323935
DTSTAMP:20260421T175228Z
DESCRIPTION:5/10 Škola volejbalu - Říčany 2:0 (22\,13)
DTSTART;TZID=Europe/Berlin:20250215T143000
DTEND;TZID=Europe/Berlin:20250215T163000
LOCATION:ZŠ Palachova\, Palachova 1757 Žďár nad Sázavou - Žďár nad Sázavou 
 6
SUMMARY:CP-U16Z-F2J: Škola volejbalu-Říčany
END:VEVENT
BEGIN:VEVENT
UID:61343039-6263-4537-b934-646563313366
DTSTAMP:20260421T175228Z
DESCRIPTION:2/3 Tuchlovice - Škola volejbalu 2:0 (17\,20)
DTSTART;TZID=Europe/Berlin:20250215T104500
DTEND;TZID=Europe/Berlin:20250215T124500
LOCATION:ZŠ Palachova\, Palachova 1757 Žďár nad Sázavou - Žďár nad Sázavou 
 6
SUMMARY:CP-U16Z-F2J: Tuchlovice-Škola volejbalu
END:VEVENT
BEGIN:VEVENT
UID:31613236-3438-4261-b566-366530396462
DTSTAMP:20260421T175228Z
DESCRIPTION:7/14 Český Krumlov - Škola volejbalu 1:2 (-11\,21\,-6)
DTSTART;TZID=Europe/Berlin:20250215T170000
DTEND;TZID=Europe/Berlin:20250215T190000
LOCATION:ZŠ Palachova\, Palachova 1757 Žďár nad Sázavou - Žďár nad Sázavou 
 6
SUMMARY:CP-U16Z-F2J: Český Krumlov-Škola volejbalu
END:VEVENT
BEGIN:VEVENT
UID:61393130-3461-4536-b537-663164316266
DTSTAMP:20260421T175228Z
DESCRIPTION:9/18 Pelhřimov - Škola volejbalu 0:2 (-16\,-20)
DTSTART;TZID=Europe/Berlin:20250216T101500
DTEND;TZID=Europe/Berlin:20250216T121500
LOCATION:ZŠ Palachova\, Palachova 1757 Žďár nad Sázavou - Žďár nad Sázavou 
 6
SUMMARY:CP-U16Z-F2J: Pelhřimov-Škola volejbalu
END:VEVENT
BEGIN:VEVENT
UID:64363463-3837-4535-b239-343632626139
DTSTAMP:20260421T175228Z
DESCRIPTION:11/21 Žďár nad Sázavou - Škola volejbalu 2:1 (-22\,22\,12)
DTSTART;TZID=Europe/Berlin:20250216T124500
DTEND;TZID=Europe/Berlin:20250216T144500
LOCATION:ZŠ Palachova\, Palachova 1757 Žďár nad Sázavou - Žďár nad Sázavou 
 6
SUMMARY:CP-U16Z-F2J: Žďár nad Sázavou-Škola volejbalu
END:VEVENT
BEGIN:VEVENT
UID:30343935-3635-4638-a361-336164316338
DTSTAMP:20260421T175228Z
DESCRIPTION:1/3 Škola volejbalu - Mikulova C 2:1 (-19\,18\,4)
DTSTART;TZID=Europe/Berlin:20250308T103000
DTEND;TZID=Europe/Berlin:20250308T123000
LOCATION:Sportovní Hala Mír\, U Stadionu Míru 1579 Tábor
SUMMARY:CP-U16Z-F3L: Škola volejbalu-Mikulova C
END:VEVENT
BEGIN:VEVENT
UID:63626164-3936-4261-a430-333666663636
DTSTAMP:20260421T175228Z
DESCRIPTION:2/6 Škola volejbalu - SK Dansport Praha 2:0 (21\,17)
DTSTART;TZID=Europe/Berlin:20250308T115000
DTEND;TZID=Europe/Berlin:20250308T135000
LOCATION:Sportovní Hala Mír\, U Stadionu Míru 1579 Tábor
SUMMARY:CP-U16Z-F3L: Škola volejbalu-SK Dansport Praha
END:VEVENT
BEGIN:VEVENT
UID:61636436-3436-4634-a439-643635666434
DTSTAMP:20260421T175228Z
DESCRIPTION:5/14 Škola volejbalu - Sokol Dolní Újezd 1:2 (22\,-12\,-13)
DTSTART;TZID=Europe/Berlin:20250309T090000
DTEND;TZID=Europe/Berlin:20250309T110000
LOCATION:Sportovní Hala Mír\, U Stadionu Míru 1579 Tábor
SUMMARY:CP-U16Z-F3L: Škola volejbalu-Sokol Dolní Újezd
END:VEVENT
BEGIN:VEVENT
UID:61633739-3635-4739-b431-623163633637
DTSTAMP:20260421T175228Z
DESCRIPTION:3/8 Tuchlovice - Škola volejbalu 2:0 (17\,22)
DTSTART;TZID=Europe/Berlin:20250308T131000
DTEND;TZID=Europe/Berlin:20250308T151000
LOCATION:Sportovní Hala Mír\, U Stadionu Míru 1579 Tábor
SUMMARY:CP-U16Z-F3L: Tuchlovice-Škola volejbalu
END:VEVENT
BEGIN:VEVENT
UID:62336563-3337-4338-b632-343262613562
DTSTAMP:20260421T175228Z
DESCRIPTION:4/10 Volejbal Tábor A - Škola volejbalu 2:1 (-19\,19\,12)
DTSTART;TZID=Europe/Berlin:20250308T143000
DTEND;TZID=Europe/Berlin:20250308T163000
LOCATION:Sportovní Hala Mír\, U Stadionu Míru 1579 Tábor
SUMMARY:CP-U16Z-F3L: Volejbal Tábor A-Škola volejbalu
END:VEVENT
BEGIN:VEVENT
UID:32313137-6238-4061-a430-633535393361
DTSTAMP:20260421T175228Z
DESCRIPTION:6/18 Šlapanice - Škola volejbalu 2:0 (15\,20)
DTSTART;TZID=Europe/Berlin:20250309T102000
DTEND;TZID=Europe/Berlin:20250309T122000
LOCATION:Sportovní Hala Mír\, U Stadionu Míru 1579 Tábor
SUMMARY:CP-U16Z-F3L: Šlapanice-Škola volejbalu
END:VEVENT
END:VCALENDAR
