BEGIN:VCALENDAR
VERSION:2.0
PRODID:-//Školní sportovní klub Demlova Jihlava, z.s.86752//NONSGML kigkonsult.se iCalcreator 2.41.80//
CALSCALE:GREGORIAN
UID:34353836-3838-4063-b231-613833303636
BEGIN:VEVENT
UID:64363961-3230-4462-b362-633439326464
DTSTAMP:20260422T052735Z
DESCRIPTION:1/7 Demlova - Nové Veselí 'B' 2:0 (11\,7)
DTSTART;TZID=Europe/Berlin:20250118T090000
DTEND;TZID=Europe/Berlin:20250118T110000
LOCATION:ZŠ Jihlava Demlova\, Demlova 4178 Jihlava
SUMMARY:VY-U14Z: Demlova-Nové Veselí 'B'
END:VEVENT
BEGIN:VEVENT
UID:38353062-3838-4261-b063-613664393263
DTSTAMP:20260422T052735Z
DESCRIPTION:2/22 Demlova - Bedřichov 2:0 (17\,12)
DTSTART;TZID=Europe/Berlin:20241130T090000
DTEND;TZID=Europe/Berlin:20241130T110000
LOCATION:ZŠ Jihlava Demlova\, Demlova 4178 Jihlava
SUMMARY:VY-U14Z: Demlova-Bedřichov
END:VEVENT
BEGIN:VEVENT
UID:37336562-3834-4966-b638-386437376631
DTSTAMP:20260422T052735Z
DESCRIPTION:3/30 Demlova - Jiskra Havlíčkův Brod 'A' 0:2 (-12\,-10)
DTSTART;TZID=Europe/Berlin:20241019T090000
DTEND;TZID=Europe/Berlin:20241019T110000
LOCATION:ZŠ Jihlava Demlova\, Demlova 4178 Jihlava
SUMMARY:VY-U14Z: Demlova-Jiskra Havlíčkův Brod 'A'
END:VEVENT
BEGIN:VEVENT
UID:34393634-3464-4462-b431-383064333664
DTSTAMP:20260422T052735Z
DESCRIPTION:4/38 Demlova - Jiskra Havlíčkův Brod 'B' 2:1 (12\,-21\,8)
DTSTART;TZID=Europe/Berlin:20250111T090000
DTEND;TZID=Europe/Berlin:20250111T110000
LOCATION:ZŠ Jihlava Demlova\, Demlova 4178 Jihlava
SUMMARY:VY-U14Z: Demlova-Jiskra Havlíčkův Brod 'B'
END:VEVENT
BEGIN:VEVENT
UID:31623265-3039-4133-a636-636130356262
DTSTAMP:20260422T052735Z
DESCRIPTION:5/54 Demlova - Nové Veselí 'B' 2:0 (21\,13)
DTSTART;TZID=Europe/Berlin:20241116T090000
DTEND;TZID=Europe/Berlin:20241116T110000
LOCATION:ZŠ Jihlava Demlova\, Demlova 4178 Jihlava
SUMMARY:VY-U14Z: Demlova-Nové Veselí 'B'
END:VEVENT
BEGIN:VEVENT
UID:64613939-3637-4132-b130-303366613165
DTSTAMP:20260422T052735Z
DESCRIPTION:6/69 Demlova - Bedřichov 2:0 (18\,9)\nPořadatel Bedřichov
DTSTART;TZID=Europe/Berlin:20241012T090000
DTEND;TZID=Europe/Berlin:20241012T110000
LOCATION:ZŠ Jihlava Demlova\, Demlova 4178 Jihlava
SUMMARY:VY-U14Z: Demlova-Bedřichov
END:VEVENT
BEGIN:VEVENT
UID:32356364-6635-4862-b336-376663383737
DTSTAMP:20260422T052735Z
DESCRIPTION:6/72 Demlova - Bedřichov 2:1 (15\,-14\,7)
DTSTART;TZID=Europe/Berlin:20241012T090000
DTEND;TZID=Europe/Berlin:20241012T110000
LOCATION:ZŠ Jihlava Demlova\, Demlova 4178 Jihlava
SUMMARY:VY-U14Z: Demlova-Bedřichov
END:VEVENT
BEGIN:VEVENT
UID:35376634-6436-4132-b736-323735346362
DTSTAMP:20260422T052735Z
DESCRIPTION:7/77 Demlova - Jiskra Havlíčkův Brod 'A' 0:2 (-10\,-19)\nPořada
 tel Demlova
DTSTART;TZID=Europe/Berlin:20241214T090000
DTEND;TZID=Europe/Berlin:20241214T110000
LOCATION:ZŠ Jihlava Demlova\, Demlova 4178 Jihlava
SUMMARY:VY-U14Z: Demlova-Jiskra Havlíčkův Brod 'A'
END:VEVENT
BEGIN:VEVENT
UID:37313562-3835-4337-b630-353963316165
DTSTAMP:20260422T052735Z
DESCRIPTION:7/80 Demlova - Jiskra Havlíčkův Brod 'A' 0:2 (-10\,-16)
DTSTART;TZID=Europe/Berlin:20241214T090000
DTEND;TZID=Europe/Berlin:20241214T110000
LOCATION:ZŠ Jihlava Demlova\, Demlova 4178 Jihlava
SUMMARY:VY-U14Z: Demlova-Jiskra Havlíčkův Brod 'A'
END:VEVENT
BEGIN:VEVENT
UID:66616163-3965-4663-b064-366639396464
DTSTAMP:20260422T052735Z
DESCRIPTION:8/85 Demlova - Jiskra Havlíčkův Brod 'B' 2:0 (23\,11)\nPořadate
 l Demlova\, náhr. hala Gymnázium
DTSTART;TZID=Europe/Berlin:20241109T090000
DTEND;TZID=Europe/Berlin:20241109T110000
LOCATION:ZŠ Jihlava Demlova\, Demlova 4178 Jihlava
SUMMARY:VY-U14Z: Demlova-Jiskra Havlíčkův Brod 'B'
END:VEVENT
BEGIN:VEVENT
UID:61336637-6436-4563-b563-393830313639
DTSTAMP:20260422T052735Z
DESCRIPTION:8/88 Demlova - Jiskra Havlíčkův Brod 'B' 2:0 (18\,15)
DTSTART;TZID=Europe/Berlin:20241109T090000
DTEND;TZID=Europe/Berlin:20241109T110000
LOCATION:ZŠ Jihlava Demlova\, Demlova 4178 Jihlava
SUMMARY:VY-U14Z: Demlova-Jiskra Havlíčkův Brod 'B'
END:VEVENT
BEGIN:VEVENT
UID:66326661-6161-4130-a331-316663366430
DTSTAMP:20260422T052735Z
DESCRIPTION:9/101 Demlova - Nové Veselí 'B' 2:0 (12\,11)\nPořadatel Demlova
DTSTART;TZID=Europe/Berlin:20240928T090000
DTEND;TZID=Europe/Berlin:20240928T110000
LOCATION:ZŠ Jihlava Demlova\, Demlova 4178 Jihlava
SUMMARY:VY-U14Z: Demlova-Nové Veselí 'B'
END:VEVENT
BEGIN:VEVENT
UID:65653566-3931-4339-a636-616634623730
DTSTAMP:20260422T052735Z
DESCRIPTION:9/104 Demlova - Nové Veselí 'B' 2:0 (22\,12)
DTSTART;TZID=Europe/Berlin:20240928T090000
DTEND;TZID=Europe/Berlin:20240928T110000
LOCATION:ZŠ Jihlava Demlova\, Demlova 4178 Jihlava
SUMMARY:VY-U14Z: Demlova-Nové Veselí 'B'
END:VEVENT
BEGIN:VEVENT
UID:30396435-6465-4464-a437-623638376532
DTSTAMP:20260422T052735Z
DESCRIPTION:10/119 Demlova - Bedřichov 2:1 (-17\,22\,13)
DTSTART;TZID=Europe/Berlin:20250208T110000
DTEND;TZID=Europe/Berlin:20250208T130000
LOCATION:ZŠ Jihlava Demlova\, Demlova 4178 Jihlava
SUMMARY:VY-U14Z: Demlova-Bedřichov
END:VEVENT
BEGIN:VEVENT
UID:30326533-6136-4863-b362-343664363932
DTSTAMP:20260422T052735Z
DESCRIPTION:11/127 Demlova - Jiskra Havlíčkův Brod 'A' 0:2 (-10\,-12)
DTSTART;TZID=Europe/Berlin:20250222T090000
DTEND;TZID=Europe/Berlin:20250222T110000
LOCATION:ZŠ Jihlava Demlova\, Demlova 4178 Jihlava
SUMMARY:VY-U14Z: Demlova-Jiskra Havlíčkův Brod 'A'
END:VEVENT
BEGIN:VEVENT
UID:61376237-3866-4331-b063-366464323337
DTSTAMP:20260422T052735Z
DESCRIPTION:12/135 Demlova - Jiskra Havlíčkův Brod 'B' 2:1 (23\,-17\,11)
DTSTART;TZID=Europe/Berlin:20250315T090000
DTEND;TZID=Europe/Berlin:20250315T110000
LOCATION:ZŠ Jihlava Demlova\, Demlova 4178 Jihlava
SUMMARY:VY-U14Z: Demlova-Jiskra Havlíčkův Brod 'B'
END:VEVENT
BEGIN:VEVENT
UID:65346436-3838-4665-a634-636633373037
DTSTAMP:20260422T052735Z
DESCRIPTION:1/6 Žďár nad Sázavou - Demlova 0:2 (-19\,-23)
DTSTART;TZID=Europe/Berlin:20250118T090000
DTEND;TZID=Europe/Berlin:20250118T110000
LOCATION:ZŠ Palachova\, Palachova 1757 Žďár nad Sázavou - Žďár nad Sázavou 
 6
SUMMARY:VY-U14Z: Žďár nad Sázavou-Demlova
END:VEVENT
BEGIN:VEVENT
UID:61303963-3538-4164-a235-313732646436
DTSTAMP:20260422T052735Z
DESCRIPTION:2/21 Nové Veselí - Demlova 2:0 (13\,23)\nPořadatel N.V. 'A'
DTSTART;TZID=Europe/Berlin:20241130T090000
DTEND;TZID=Europe/Berlin:20241130T110000
LOCATION:Víceúčelová sportovní hala Nové Veselí\, Žďárská 356 Nové Veselí
SUMMARY:VY-U14Z: Nové Veselí-Demlova
END:VEVENT
BEGIN:VEVENT
UID:30643366-3266-4461-b761-646261643266
DTSTAMP:20260422T052735Z
DESCRIPTION:2/24 Nové Veselí - Demlova 2:0 (16\,8)
DTSTART;TZID=Europe/Berlin:20241130T090000
DTEND;TZID=Europe/Berlin:20241130T110000
LOCATION:Víceúčelová sportovní hala Nové Veselí\, Žďárská 356 Nové Veselí
SUMMARY:VY-U14Z: Nové Veselí-Demlova
END:VEVENT
BEGIN:VEVENT
UID:66333839-3862-4234-b737-613336633236
DTSTAMP:20260422T052735Z
DESCRIPTION:3/29 Přibyslav - Demlova 0:2 (-22\,-10)\nPořadatel Demlova
DTSTART;TZID=Europe/Berlin:20241019T090000
DTEND;TZID=Europe/Berlin:20241019T110000
LOCATION:Sportovní hala Přibyslav\, Česká 34 Přibyslav
SUMMARY:VY-U14Z: Přibyslav-Demlova
END:VEVENT
BEGIN:VEVENT
UID:31616639-3436-4038-b834-386462393866
DTSTAMP:20260422T052735Z
DESCRIPTION:3/32 Přibyslav - Demlova 0:2 (-19\,-23)
DTSTART;TZID=Europe/Berlin:20241019T090000
DTEND;TZID=Europe/Berlin:20241019T110000
LOCATION:Sportovní hala Přibyslav\, Česká 34 Přibyslav
SUMMARY:VY-U14Z: Přibyslav-Demlova
END:VEVENT
BEGIN:VEVENT
UID:35656335-3763-4231-b765-386364313738
DTSTAMP:20260422T052735Z
DESCRIPTION:4/37 Třebíč - Demlova 2:1 (12\,-11\,10)\nPořadatel Třebíč
DTSTART;TZID=Europe/Berlin:20250111T090000
DTEND;TZID=Europe/Berlin:20250111T110000
LOCATION:hala ZŠ TGM\, Komenského nám. 61 Třebíč - Horka-Domky
SUMMARY:VY-U14Z: Třebíč-Demlova
END:VEVENT
BEGIN:VEVENT
UID:32353632-3235-4765-b637-333263346134
DTSTAMP:20260422T052735Z
DESCRIPTION:4/40 Třebíč - Demlova 1:2 (25\,-23\,-7)
DTSTART;TZID=Europe/Berlin:20250111T090000
DTEND;TZID=Europe/Berlin:20250111T110000
LOCATION:hala ZŠ TGM\, Komenského nám. 61 Třebíč - Horka-Domky
SUMMARY:VY-U14Z: Třebíč-Demlova
END:VEVENT
BEGIN:VEVENT
UID:35323039-6533-4736-b739-626633366533
DTSTAMP:20260422T052735Z
DESCRIPTION:5/53 Žďár nad Sázavou - Demlova 1:2 (-8\,24\,-1)\nPořadatel Žďá
 r
DTSTART;TZID=Europe/Berlin:20241116T090000
DTEND;TZID=Europe/Berlin:20241116T110000
LOCATION:ZŠ Palachova\, Palachova 1757 Žďár nad Sázavou - Žďár nad Sázavou 
 6
SUMMARY:VY-U14Z: Žďár nad Sázavou-Demlova
END:VEVENT
BEGIN:VEVENT
UID:66616263-3064-4661-a536-363533376637
DTSTAMP:20260422T052735Z
DESCRIPTION:5/56 Žďár nad Sázavou - Demlova 0:2 (-14\,-12)
DTSTART;TZID=Europe/Berlin:20241116T090000
DTEND;TZID=Europe/Berlin:20241116T110000
LOCATION:ZŠ Palachova\, Palachova 1757 Žďár nad Sázavou - Žďár nad Sázavou 
 6
SUMMARY:VY-U14Z: Žďár nad Sázavou-Demlova
END:VEVENT
BEGIN:VEVENT
UID:31303939-3466-4362-a461-386465363433
DTSTAMP:20260422T052735Z
DESCRIPTION:6/71 Nové Veselí - Demlova 2:0 (16\,13)
DTSTART;TZID=Europe/Berlin:20241012T090000
DTEND;TZID=Europe/Berlin:20241012T110000
LOCATION:Víceúčelová sportovní hala Nové Veselí\, Žďárská 356 Nové Veselí
SUMMARY:VY-U14Z: Nové Veselí-Demlova
END:VEVENT
BEGIN:VEVENT
UID:62323964-6566-4964-b334-356638643533
DTSTAMP:20260422T052735Z
DESCRIPTION:7/79 Přibyslav - Demlova 1:2 (24\,-16\,-15)
DTSTART;TZID=Europe/Berlin:20241214T090000
DTEND;TZID=Europe/Berlin:20241214T110000
LOCATION:Sportovní hala Přibyslav\, Česká 34 Přibyslav
SUMMARY:VY-U14Z: Přibyslav-Demlova
END:VEVENT
BEGIN:VEVENT
UID:30386562-6364-4865-b139-386363633637
DTSTAMP:20260422T052735Z
DESCRIPTION:8/87 Třebíč - Demlova 2:0 (20\,16)
DTSTART;TZID=Europe/Berlin:20241109T090000
DTEND;TZID=Europe/Berlin:20241109T110000
LOCATION:hala ZŠ TGM\, Komenského nám. 61 Třebíč - Horka-Domky
SUMMARY:VY-U14Z: Třebíč-Demlova
END:VEVENT
BEGIN:VEVENT
UID:35643263-3165-4539-b135-393265313831
DTSTAMP:20260422T052735Z
DESCRIPTION:9/103 Žďár nad Sázavou - Demlova 0:2 (-17\,-9)
DTSTART;TZID=Europe/Berlin:20240928T090000
DTEND;TZID=Europe/Berlin:20240928T110000
LOCATION:ZŠ Palachova\, Palachova 1757 Žďár nad Sázavou - Žďár nad Sázavou 
 6
SUMMARY:VY-U14Z: Žďár nad Sázavou-Demlova
END:VEVENT
BEGIN:VEVENT
UID:34376435-3832-4364-b930-663835646165
DTSTAMP:20260422T052735Z
DESCRIPTION:10/118 Nové Veselí - Demlova 2:1 (-20\,14\,7)
DTSTART;TZID=Europe/Berlin:20250208T100000
DTEND;TZID=Europe/Berlin:20250208T120000
LOCATION:Víceúčelová sportovní hala Nové Veselí\, Žďárská 356 Nové Veselí
SUMMARY:VY-U14Z: Nové Veselí-Demlova
END:VEVENT
BEGIN:VEVENT
UID:33373430-3831-4565-b661-613031386431
DTSTAMP:20260422T052735Z
DESCRIPTION:11/126 Přibyslav - Demlova 1:2 (-23\,13\,-10)
DTSTART;TZID=Europe/Berlin:20250222T090000
DTEND;TZID=Europe/Berlin:20250222T110000
LOCATION:Sportovní hala Přibyslav\, Česká 34 Přibyslav
SUMMARY:VY-U14Z: Přibyslav-Demlova
END:VEVENT
BEGIN:VEVENT
UID:37346666-6439-4634-a339-343163653665
DTSTAMP:20260422T052735Z
DESCRIPTION:12/134 Třebíč - Demlova 1:2 (-23\,20\,-12)
DTSTART;TZID=Europe/Berlin:20250315T090000
DTEND;TZID=Europe/Berlin:20250315T110000
LOCATION:hala ZŠ TGM\, Komenského nám. 61 Třebíč - Horka-Domky
SUMMARY:VY-U14Z: Třebíč-Demlova
END:VEVENT
END:VCALENDAR
