BEGIN:VCALENDAR
VERSION:2.0
PRODID:-//TJ SOKOL LETOVICE "B".86787//NONSGML kigkonsult.se iCalcreator 2.41.80//
CALSCALE:GREGORIAN
UID:62643733-3339-4338-a361-663634666637
BEGIN:VEVENT
UID:33636230-6464-4538-a432-383536643031
DTSTAMP:20260422T001252Z
DESCRIPTION:1/1 TJ SOKOL LETOVICE 'B' - Lumík Kuřim 2:0 (8\,7)\nKurt 3
DTSTART;TZID=Europe/Berlin:20240914T090000
DTEND;TZID=Europe/Berlin:20240914T110000
LOCATION:Sportovní hala Letovice\, V zahradách 831 Letovice
SUMMARY:JM-U16Z-KVB: TJ SOKOL LETOVICE 'B'-Lumík Kuřim
END:VEVENT
BEGIN:VEVENT
UID:31383734-3234-4539-a239-613834303164
DTSTAMP:20260422T001252Z
DESCRIPTION:6/6 TJ SOKOL LETOVICE 'B' - TJ Minerva Boskovice 0:2 (-17\,-18)
 \nKurt 2
DTSTART;TZID=Europe/Berlin:20240914T130000
DTEND;TZID=Europe/Berlin:20240914T150000
LOCATION:Sportovní hala Letovice\, V zahradách 831 Letovice
SUMMARY:JM-U16Z-KVB: TJ SOKOL LETOVICE 'B'-TJ Minerva Boskovice
END:VEVENT
BEGIN:VEVENT
UID:63336132-3238-4566-a635-303238336430
DTSTAMP:20260422T001252Z
DESCRIPTION:2/2 TJ Sokol Předklášteří - TJ SOKOL LETOVICE 'B' 1:2 (10\,-21\
 ,-3)\nKurt 3
DTSTART;TZID=Europe/Berlin:20240914T103000
DTEND;TZID=Europe/Berlin:20240914T123000
LOCATION:Sportovní hala Letovice\, V zahradách 831 Letovice
SUMMARY:JM-U16Z-KVB: TJ Sokol Předklášteří-TJ SOKOL LETOVICE 'B'
END:VEVENT
BEGIN:VEVENT
UID:38633761-6230-4539-a334-363937643931
DTSTAMP:20260422T001252Z
DESCRIPTION:2/2 TJ JUNIOR Brno A - TJ SOKOL LETOVICE 'B' 2:0 (21\,22)\nKurt
  3\, 3A vs 3B
DTSTART;TZID=Europe/Berlin:20240914T141500
DTEND;TZID=Europe/Berlin:20240914T161500
LOCATION:Sportovní hala Letovice\, V zahradách 831 Letovice
SUMMARY:JM-U16Z-KVAB: TJ JUNIOR Brno A-TJ SOKOL LETOVICE 'B'
END:VEVENT
BEGIN:VEVENT
UID:61356666-3735-4137-b830-333931313235
DTSTAMP:20260422T001252Z
DESCRIPTION:2/2 TJ SOKOL LETOVICE 'B' - Orel Křenovice 2:0 (16\,18)
DTSTART;TZID=Europe/Berlin:20241012T103000
DTEND;TZID=Europe/Berlin:20241012T123000
LOCATION:ZŠ Vejrostova\, Vejrostova 1066 Brno - Bystrc
SUMMARY:JM-U16Z-IF: TJ SOKOL LETOVICE 'B'-Orel Křenovice
END:VEVENT
BEGIN:VEVENT
UID:35376662-6466-4235-a436-313564383063
DTSTAMP:20260422T001252Z
DESCRIPTION:5/5 TJ SOKOL LETOVICE 'B' - ZŠ Milénova C 2:0 (22\,16)
DTSTART;TZID=Europe/Berlin:20241012T141500
DTEND;TZID=Europe/Berlin:20241012T161500
LOCATION:ZŠ Vejrostova\, Vejrostova 1066 Brno - Bystrc
SUMMARY:JM-U16Z-IF: TJ SOKOL LETOVICE 'B'-ZŠ Milénova C
END:VEVENT
BEGIN:VEVENT
UID:66373833-3134-4165-a339-306537623164
DTSTAMP:20260422T001252Z
DESCRIPTION:4/4 VK Brno D - TJ SOKOL LETOVICE 'B' 0:2 (-9\,-19)
DTSTART;TZID=Europe/Berlin:20241012T130000
DTEND;TZID=Europe/Berlin:20241012T150000
LOCATION:ZŠ Vejrostova\, Vejrostova 1066 Brno - Bystrc
SUMMARY:JM-U16Z-IF: VK Brno D-TJ SOKOL LETOVICE 'B'
END:VEVENT
BEGIN:VEVENT
UID:32636230-3834-4437-b234-653863633430
DTSTAMP:20260422T001252Z
DESCRIPTION:2/2 TJ SOKOL LETOVICE 'B' - TJ Slovan Ivančice\, z.s. 2:0 (13\,
 18)
DTSTART;TZID=Europe/Berlin:20241109T103000
DTEND;TZID=Europe/Berlin:20241109T123000
LOCATION:Tělocvična ZŠ Šlapanice\, Masarykovo náměstí 1594 Šlapanice
SUMMARY:JM-U16Z-IIE: TJ SOKOL LETOVICE 'B'-TJ Slovan Ivančice\, z.s.
END:VEVENT
BEGIN:VEVENT
UID:65346634-6536-4236-b437-383833303361
DTSTAMP:20260422T001252Z
DESCRIPTION:5/5 TJ SOKOL LETOVICE 'B' - TJ JUNIOR Brno A 2:0 (21\,22)
DTSTART;TZID=Europe/Berlin:20241109T141500
DTEND;TZID=Europe/Berlin:20241109T161500
LOCATION:Tělocvična ZŠ Šlapanice\, Masarykovo náměstí 1594 Šlapanice
SUMMARY:JM-U16Z-IIE: TJ SOKOL LETOVICE 'B'-TJ JUNIOR Brno A
END:VEVENT
BEGIN:VEVENT
UID:64376430-3230-4237-a437-366232393539
DTSTAMP:20260422T001252Z
DESCRIPTION:4/4 TJ Sokol Šlapanice A - TJ SOKOL LETOVICE 'B' 2:0 (19\,18)
DTSTART;TZID=Europe/Berlin:20241109T130000
DTEND;TZID=Europe/Berlin:20241109T150000
LOCATION:Tělocvična ZŠ Šlapanice\, Masarykovo náměstí 1594 Šlapanice
SUMMARY:JM-U16Z-IIE: TJ Sokol Šlapanice A-TJ SOKOL LETOVICE 'B'
END:VEVENT
BEGIN:VEVENT
UID:65363363-3463-4833-a561-376435343133
DTSTAMP:20260422T001252Z
DESCRIPTION:2/2 TJ SOKOL LETOVICE 'B' - TJ JUNIOR Brno A 1:2 (21\,-10\,-14)
DTSTART;TZID=Europe/Berlin:20241130T103000
DTEND;TZID=Europe/Berlin:20241130T123000
LOCATION:Hala u ZŠ TGM Drásov\, Školní 167 Drásov
SUMMARY:JM-U16Z-IIIE: TJ SOKOL LETOVICE 'B'-TJ JUNIOR Brno A
END:VEVENT
BEGIN:VEVENT
UID:64386130-3865-4338-b261-353335343864
DTSTAMP:20260422T001252Z
DESCRIPTION:5/5 TJ SOKOL LETOVICE 'B' - ZŠ Milénova C 2:1 (-15\,17\,11)
DTSTART;TZID=Europe/Berlin:20241130T141500
DTEND;TZID=Europe/Berlin:20241130T161500
LOCATION:Hala u ZŠ TGM Drásov\, Školní 167 Drásov
SUMMARY:JM-U16Z-IIIE: TJ SOKOL LETOVICE 'B'-ZŠ Milénova C
END:VEVENT
BEGIN:VEVENT
UID:64653563-3638-4962-b030-373336363735
DTSTAMP:20260422T001252Z
DESCRIPTION:4/4 VS Drásov - TJ SOKOL LETOVICE 'B' 2:1 (20\,-19\,13)
DTSTART;TZID=Europe/Berlin:20241130T130000
DTEND;TZID=Europe/Berlin:20241130T150000
LOCATION:Hala u ZŠ TGM Drásov\, Školní 167 Drásov
SUMMARY:JM-U16Z-IIIE: VS Drásov-TJ SOKOL LETOVICE 'B'
END:VEVENT
BEGIN:VEVENT
UID:65663038-6237-4965-b564-303434613633
DTSTAMP:20260422T001252Z
DESCRIPTION:2/2 TJ SOKOL LETOVICE 'B' - TJ Agrotec Hustopeče z.s. X:2
DTSTART;TZID=Europe/Berlin:20241214T103000
DTEND;TZID=Europe/Berlin:20241214T123000
LOCATION:ZŠ Milénova 14\, Milénova 808 Brno - Lesná
SUMMARY:JM-U16Z-IVE: TJ SOKOL LETOVICE 'B'-TJ Agrotec Hustopeče z.s.
END:VEVENT
BEGIN:VEVENT
UID:39343137-3236-4537-b562-356639613330
DTSTAMP:20260422T001252Z
DESCRIPTION:5/5 TJ SOKOL LETOVICE 'B' - KP Brno C X:2
DTSTART;TZID=Europe/Berlin:20241214T141500
DTEND;TZID=Europe/Berlin:20241214T161500
LOCATION:ZŠ Milénova 14\, Milénova 808 Brno - Lesná
SUMMARY:JM-U16Z-IVE: TJ SOKOL LETOVICE 'B'-KP Brno C
END:VEVENT
BEGIN:VEVENT
UID:62396633-6530-4464-b262-316239613331
DTSTAMP:20260422T001252Z
DESCRIPTION:4/4 ZŠ Milénova C - TJ SOKOL LETOVICE 'B' 2:X
DTSTART;TZID=Europe/Berlin:20241214T130000
DTEND;TZID=Europe/Berlin:20241214T150000
LOCATION:ZŠ Milénova 14\, Milénova 808 Brno - Lesná
SUMMARY:JM-U16Z-IVE: ZŠ Milénova C-TJ SOKOL LETOVICE 'B'
END:VEVENT
BEGIN:VEVENT
UID:31376635-3038-4732-b963-666238613065
DTSTAMP:20260422T001252Z
DESCRIPTION:1/1 TJ SOKOL LETOVICE 'B' - VK Brno D 2:1 (24\,-19\,15)
DTSTART;TZID=Europe/Berlin:20250118T090000
DTEND;TZID=Europe/Berlin:20250118T110000
LOCATION:Sportovní hala u ZŠ Brněnec \,  Brněnec - Moravská Chrastová100
SUMMARY:JM-U16Z-VF: TJ SOKOL LETOVICE 'B'-VK Brno D
END:VEVENT
BEGIN:VEVENT
UID:62383436-3438-4766-a361-313664613635
DTSTAMP:20260422T001252Z
DESCRIPTION:4/4 TJ SOKOL LETOVICE 'B' - TJ Slovan Ivančice\, z.s. 2:0 (12\,
 23)
DTSTART;TZID=Europe/Berlin:20250118T130000
DTEND;TZID=Europe/Berlin:20250118T150000
LOCATION:Sportovní hala u ZŠ Brněnec \,  Brněnec - Moravská Chrastová100
SUMMARY:JM-U16Z-VF: TJ SOKOL LETOVICE 'B'-TJ Slovan Ivančice\, z.s.
END:VEVENT
BEGIN:VEVENT
UID:61343833-3936-4234-b265-663932343135
DTSTAMP:20260422T001252Z
DESCRIPTION:6/6 VOLEJBAL VYŠKOV\, z.s. - TJ SOKOL LETOVICE 'B' 2:0 (17\,20)
DTSTART;TZID=Europe/Berlin:20250118T153000
DTEND;TZID=Europe/Berlin:20250118T173000
LOCATION:Sportovní hala u ZŠ Brněnec \,  Brněnec - Moravská Chrastová100
SUMMARY:JM-U16Z-VF: VOLEJBAL VYŠKOV\, z.s.-TJ SOKOL LETOVICE 'B'
END:VEVENT
BEGIN:VEVENT
UID:65643364-3734-4635-b030-356636373732
DTSTAMP:20260422T001252Z
DESCRIPTION:2/2 TJ SOKOL LETOVICE 'B' - VK Brno D 1:2 (17\,-20\,-14)
DTSTART;TZID=Europe/Berlin:20250201T103000
DTEND;TZID=Europe/Berlin:20250201T123000
LOCATION:Hala u ZŠ TGM Drásov\, Školní 167 Drásov
SUMMARY:JM-U16Z-VIF: TJ SOKOL LETOVICE 'B'-VK Brno D
END:VEVENT
BEGIN:VEVENT
UID:65303139-3135-4435-b533-633336316538
DTSTAMP:20260422T001252Z
DESCRIPTION:5/5 TJ SOKOL LETOVICE 'B' - TJ JUNIOR Brno B 2:0 (21\,22)
DTSTART;TZID=Europe/Berlin:20250201T141500
DTEND;TZID=Europe/Berlin:20250201T161500
LOCATION:Hala u ZŠ TGM Drásov\, Školní 167 Drásov
SUMMARY:JM-U16Z-VIF: TJ SOKOL LETOVICE 'B'-TJ JUNIOR Brno B
END:VEVENT
BEGIN:VEVENT
UID:38623361-3162-4137-b866-343437663163
DTSTAMP:20260422T001252Z
DESCRIPTION:4/4 VS Drásov - TJ SOKOL LETOVICE 'B' 0:2 (-23\,-23)
DTSTART;TZID=Europe/Berlin:20250201T130000
DTEND;TZID=Europe/Berlin:20250201T150000
LOCATION:Hala u ZŠ TGM Drásov\, Školní 167 Drásov
SUMMARY:JM-U16Z-VIF: VS Drásov-TJ SOKOL LETOVICE 'B'
END:VEVENT
BEGIN:VEVENT
UID:65313039-6162-4765-a132-306638643433
DTSTAMP:20260422T001252Z
DESCRIPTION:2/2 TJ SOKOL LETOVICE 'B' - ZŠ Milénova C 2:0 (13\,11)
DTSTART;TZID=Europe/Berlin:20250222T103000
DTEND;TZID=Europe/Berlin:20250222T123000
LOCATION:Tělocvična ZŠ Nádražní\, Nádražní 5 Vyškov - Vyškov-Město
SUMMARY:JM-U16Z-VIIE: TJ SOKOL LETOVICE 'B'-ZŠ Milénova C
END:VEVENT
BEGIN:VEVENT
UID:65306334-3264-4130-b932-666663633339
DTSTAMP:20260422T001252Z
DESCRIPTION:5/5 TJ SOKOL LETOVICE 'B' - B6 Brno 2:1 (-20\,6\,11)
DTSTART;TZID=Europe/Berlin:20250222T141500
DTEND;TZID=Europe/Berlin:20250222T161500
LOCATION:Tělocvična ZŠ Nádražní\, Nádražní 5 Vyškov - Vyškov-Město
SUMMARY:JM-U16Z-VIIE: TJ SOKOL LETOVICE 'B'-B6 Brno
END:VEVENT
BEGIN:VEVENT
UID:32666133-6534-4239-b539-653733303339
DTSTAMP:20260422T001252Z
DESCRIPTION:4/4 VOLEJBAL VYŠKOV\, z.s. - TJ SOKOL LETOVICE 'B' 2:0 (17\,18)
DTSTART;TZID=Europe/Berlin:20250222T130000
DTEND;TZID=Europe/Berlin:20250222T150000
LOCATION:Tělocvična ZŠ Nádražní\, Nádražní 5 Vyškov - Vyškov-Město
SUMMARY:JM-U16Z-VIIE: VOLEJBAL VYŠKOV\, z.s.-TJ SOKOL LETOVICE 'B'
END:VEVENT
BEGIN:VEVENT
UID:64336330-6533-4265-b361-376166316666
DTSTAMP:20260422T001252Z
DESCRIPTION:1/1 TJ SOKOL LETOVICE 'B' - KP Brno C 2:1 (-22\,24\,15)
DTSTART;TZID=Europe/Berlin:20250315T090000
DTEND;TZID=Europe/Berlin:20250315T110000
LOCATION:Sportovní hala Letovice\, V zahradách 831 Letovice
SUMMARY:JM-U16Z-VIIIE: TJ SOKOL LETOVICE 'B'-KP Brno C
END:VEVENT
BEGIN:VEVENT
UID:35333139-6335-4162-b139-353035646631
DTSTAMP:20260422T001252Z
DESCRIPTION:4/6 TJ SOKOL LETOVICE 'B' - TJ Agrotec Hustopeče z.s. 1:2 (-17\
 ,24\,-10)
DTSTART;TZID=Europe/Berlin:20250315T130000
DTEND;TZID=Europe/Berlin:20250315T150000
LOCATION:Sportovní hala Letovice\, V zahradách 831 Letovice
SUMMARY:JM-U16Z-VIIIE: TJ SOKOL LETOVICE 'B'-TJ Agrotec Hustopeče z.s.
END:VEVENT
BEGIN:VEVENT
UID:38396565-3363-4635-b533-396333626365
DTSTAMP:20260422T001252Z
DESCRIPTION:3/5 B6 Brno - TJ SOKOL LETOVICE 'B' 2:0 (15\,11)
DTSTART;TZID=Europe/Berlin:20250315T114500
DTEND;TZID=Europe/Berlin:20250315T134500
LOCATION:Sportovní hala Letovice\, V zahradách 831 Letovice
SUMMARY:JM-U16Z-VIIIE: B6 Brno-TJ SOKOL LETOVICE 'B'
END:VEVENT
END:VCALENDAR
