BEGIN:VCALENDAR
VERSION:2.0
PRODID:-//VK Karlovarsko, z.s.86790//NONSGML kigkonsult.se iCalcreator 2.41.80//
CALSCALE:GREGORIAN
UID:31336134-3039-4862-b739-396538366161
BEGIN:VEVENT
UID:61613136-6462-4439-a264-396234373539
DTSTAMP:20260423T190851Z
DESCRIPTION:1/1 VK Karlovarsko\, z.s. - Sokolov 0:3 (-16\,-19\,-21)
DTSTART;TZID=Europe/Berlin:20250123T183000
DTEND;TZID=Europe/Berlin:20250123T203000
LOCATION:Mattoni Arena Hala míčových sportů\, Západní 1812 Karlovy Vary
SUMMARY:KV-M: VK Karlovarsko\, z.s.-Sokolov
END:VEVENT
BEGIN:VEVENT
UID:62633762-3032-4931-a330-393533323738
DTSTAMP:20260423T190851Z
DESCRIPTION:2/2 Sokolov - VK Karlovarsko\, z.s. 3:0 (17\,13\,16)
DTSTART;TZID=Europe/Berlin:20250214T170000
DTEND;TZID=Europe/Berlin:20250214T190000
LOCATION:Jiskra\, Maxima Gorkého 280 Sokolov
SUMMARY:KV-M: Sokolov-VK Karlovarsko\, z.s.
END:VEVENT
END:VCALENDAR
