BEGIN:VCALENDAR
VERSION:2.0
PRODID:-//VK Karlovarsko86795//NONSGML kigkonsult.se iCalcreator 2.41.80//
CALSCALE:GREGORIAN
UID:36613166-6233-4564-b863-663936313163
BEGIN:VEVENT
UID:65333136-3563-4337-a535-363236353631
DTSTAMP:20260423T114722Z
DESCRIPTION:1/5 Karlovarsko - Klatovy 2:0 (16\,13)
DTSTART;TZID=Europe/Berlin:20240929T090000
DTEND;TZID=Europe/Berlin:20240929T110000
LOCATION:Mattoni Arena Hala míčových sportů\, Západní 1812 Karlovy Vary
SUMMARY:US-U16M-KVAL: Karlovarsko-Klatovy
END:VEVENT
BEGIN:VEVENT
UID:35333230-3662-4433-b264-306633343763
DTSTAMP:20260423T114722Z
DESCRIPTION:1/2 SKV Ústí n.L. - Karlovarsko 0:2 (-9\,-22)
DTSTART;TZID=Europe/Berlin:20240929T090000
DTEND;TZID=Europe/Berlin:20240929T110000
LOCATION:ZŠ Rabasova\, Rabasova 3282 Ústí nad Labem - Severní Terasa
SUMMARY:US-U16M-KVAL: SKV Ústí n.L.-Karlovarsko
END:VEVENT
BEGIN:VEVENT
UID:34303930-3330-4239-a438-333237343031
DTSTAMP:20260423T114722Z
DESCRIPTION:1/7 Volejbalový klub Teplice z.s. - Karlovarsko 1:2 (-17\,17\,-
 7)
DTSTART;TZID=Europe/Berlin:20240929T090000
DTEND;TZID=Europe/Berlin:20240929T110000
LOCATION:zš edisonova teplice Edisonova
SUMMARY:US-U16M-KVAL: Volejbalový klub Teplice z.s.-Karlovarsko
END:VEVENT
BEGIN:VEVENT
UID:61356364-6530-4631-a464-313439326262
DTSTAMP:20260423T114722Z
DESCRIPTION:1/9 Plzeň - Karlovarsko 2:0 (24\,13)
DTSTART;TZID=Europe/Berlin:20240929T090000
DTEND;TZID=Europe/Berlin:20240929T110000
LOCATION:Bolevecká základní škola ( 18.ZŠ)\, náměstí Odboje 550 Plzeň - Bol
 evec
SUMMARY:US-U16M-KVAL: Plzeň-Karlovarsko
END:VEVENT
BEGIN:VEVENT
UID:36343865-3231-4133-b831-346565653730
DTSTAMP:20260423T114722Z
DESCRIPTION:6/6 Karlovarsko - Příbram A 0:2 (-18\,-20)
DTSTART;TZID=Europe/Berlin:20241019T163000
DTEND;TZID=Europe/Berlin:20241019T183000
LOCATION:Mattoni Arena Hala míčových sportů\, Západní 1812 Karlovy Vary
SUMMARY:CP-U16M-Z1D: Karlovarsko-Příbram A
END:VEVENT
BEGIN:VEVENT
UID:63383230-3136-4433-b433-353731333831
DTSTAMP:20260423T114722Z
DESCRIPTION:2/2 TJ Slavia HK - Karlovarsko 2:0 (23\,14)
DTSTART;TZID=Europe/Berlin:20241019T123000
DTEND;TZID=Europe/Berlin:20241019T143000
LOCATION:TJ Slavia Hradec Králové\, Víta Nejedlého 1216 Hradec Králové
SUMMARY:CP-U16M-Z1D: TJ Slavia HK-Karlovarsko
END:VEVENT
BEGIN:VEVENT
UID:31613661-3237-4539-a133-636663623432
DTSTAMP:20260423T114722Z
DESCRIPTION:3/3 VK Lvi Praha B - Karlovarsko 0:2 (-18\,-13)
DTSTART;TZID=Europe/Berlin:20241019T133000
DTEND;TZID=Europe/Berlin:20241019T153000
LOCATION:FZŠ Brdičkova\, Brdičkova 1878 Praha - Stodůlky
SUMMARY:CP-U16M-Z1D: VK Lvi Praha B-Karlovarsko
END:VEVENT
BEGIN:VEVENT
UID:66653232-3837-4561-b038-623964383234
DTSTAMP:20260423T114722Z
DESCRIPTION:3/3 Orion A - Karlovarsko 2:0 (21\,18)\n2C-3D
DTSTART;TZID=Europe/Berlin:20241019T173000
DTEND;TZID=Europe/Berlin:20241019T193000
LOCATION:ZŠ prof. Švejcara\, Mráčkova\, Mráčkova 3090 Praha - Modřany
SUMMARY:CP-U16M-Z1I: Orion A-Karlovarsko
END:VEVENT
BEGIN:VEVENT
UID:39633832-3138-4666-b335-303261333033
DTSTAMP:20260423T114722Z
DESCRIPTION:1/1 Karlovarsko - Kladno 2:0 (18\,26)
DTSTART;TZID=Europe/Berlin:20241020T090000
DTEND;TZID=Europe/Berlin:20241020T110000
LOCATION:Mattoni Arena Hala míčových sportů\, Západní 1812 Karlovy Vary
SUMMARY:CP-U16M-Z1L: Karlovarsko-Kladno
END:VEVENT
BEGIN:VEVENT
UID:66656334-6462-4933-b665-353637336562
DTSTAMP:20260423T114722Z
DESCRIPTION:2/2 SK Meteor Praha - Karlovarsko 0:2 (-18\,-23)
DTSTART;TZID=Europe/Berlin:20241020T110000
DTEND;TZID=Europe/Berlin:20241020T130000
LOCATION:Sokol Bubeneč\, Korunovační 630 Praha - Bubeneč
SUMMARY:CP-U16M-Z1L: SK Meteor Praha-Karlovarsko
END:VEVENT
BEGIN:VEVENT
UID:35323038-3039-4339-b330-666562623031
DTSTAMP:20260423T114722Z
DESCRIPTION:2/7 Karlovarsko - Příbram B 1:2 (-22\,24\,-9)\nL1-M1 13.-14. mí
 sto
DTSTART;TZID=Europe/Berlin:20241020T140000
DTEND;TZID=Europe/Berlin:20241020T160000
LOCATION:Mattoni Arena Hala míčových sportů\, Západní 1812 Karlovy Vary
SUMMARY:CP-U16M-Z1UMIS: Karlovarsko-Příbram B
END:VEVENT
BEGIN:VEVENT
UID:62616134-3233-4834-a331-316261623935
DTSTAMP:20260423T114722Z
DESCRIPTION:1/4 Karlovarsko - Sokolov 2:0 (22\,20)
DTSTART;TZID=Europe/Berlin:20241027T090000
DTEND;TZID=Europe/Berlin:20241027T110000
LOCATION:Mattoni Arena Hala míčových sportů\, Západní 1812 Karlovy Vary
SUMMARY:US-U16M-1: Karlovarsko-Sokolov
END:VEVENT
BEGIN:VEVENT
UID:65666532-6231-4236-b066-336231616430
DTSTAMP:20260423T114722Z
DESCRIPTION:1/7 Karlovarsko - Tělovýchovná jednota Baník Most\, z.s. 2:1 (1
 4\,-18\,8)
DTSTART;TZID=Europe/Berlin:20241027T090000
DTEND;TZID=Europe/Berlin:20241027T110000
LOCATION:Mattoni Arena Hala míčových sportů\, Západní 1812 Karlovy Vary
SUMMARY:US-U16M-1: Karlovarsko-Tělovýchovná jednota Baník Most\, z.s.
END:VEVENT
BEGIN:VEVENT
UID:39636436-3032-4736-b934-396236336363
DTSTAMP:20260423T114722Z
DESCRIPTION:1/10 Karlovarsko - SKV Ústí n.L. 0:2 (-14\,-28)
DTSTART;TZID=Europe/Berlin:20241027T090000
DTEND;TZID=Europe/Berlin:20241027T110000
LOCATION:Mattoni Arena Hala míčových sportů\, Západní 1812 Karlovy Vary
SUMMARY:US-U16M-1: Karlovarsko-SKV Ústí n.L.
END:VEVENT
BEGIN:VEVENT
UID:64313430-3639-4262-b266-313837383631
DTSTAMP:20260423T114722Z
DESCRIPTION:1/1 Jirkov - Karlovarsko 2:1 (15\,-13\,10)
DTSTART;TZID=Europe/Berlin:20241027T090000
DTEND;TZID=Europe/Berlin:20241027T110000
LOCATION:Sportovní hala MG a ZŠ Jirkov\, Krušnohorská 1675 Jirkov
SUMMARY:US-U16M-1: Jirkov-Karlovarsko
END:VEVENT
BEGIN:VEVENT
UID:65626334-3662-4636-b333-653230653863
DTSTAMP:20260423T114722Z
DESCRIPTION:2/4 Karlovarsko - Kladno 2:0 (21\,24)
DTSTART;TZID=Europe/Berlin:20241102T103000
DTEND;TZID=Europe/Berlin:20241102T123000
LOCATION:Mattoni Arena Hala míčových sportů\, Západní 1812 Karlovy Vary
SUMMARY:CP-U16M-Z2B: Karlovarsko-Kladno
END:VEVENT
BEGIN:VEVENT
UID:34613638-6562-4737-a663-393132373634
DTSTAMP:20260423T114722Z
DESCRIPTION:5/10 Karlovarsko - Orion A 2:1 (-25\,12\,11)
DTSTART;TZID=Europe/Berlin:20241102T133000
DTEND;TZID=Europe/Berlin:20241102T153000
LOCATION:Mattoni Arena Hala míčových sportů\, Západní 1812 Karlovy Vary
SUMMARY:CP-U16M-Z2B: Karlovarsko-Orion A
END:VEVENT
BEGIN:VEVENT
UID:32336530-3665-4334-a638-373539386634
DTSTAMP:20260423T114722Z
DESCRIPTION:12/23 Karlovarsko - VK Dukla Liberec A 0:2 (-16\,-14)
DTSTART;TZID=Europe/Berlin:20241103T120000
DTEND;TZID=Europe/Berlin:20241103T140000
LOCATION:Mattoni Arena Hala míčových sportů\, Západní 1812 Karlovy Vary
SUMMARY:CP-U16M-Z2B: Karlovarsko-VK Dukla Liberec A
END:VEVENT
BEGIN:VEVENT
UID:32303962-3437-4664-b636-636637636263
DTSTAMP:20260423T114722Z
DESCRIPTION:4/7 Prosek B - Karlovarsko 0:2 (-14\,-18)
DTSTART;TZID=Europe/Berlin:20241102T123000
DTEND;TZID=Europe/Berlin:20241102T143000
SUMMARY:CP-U16M-Z2B: Prosek B-Karlovarsko
END:VEVENT
BEGIN:VEVENT
UID:65333034-3433-4662-a139-613031313765
DTSTAMP:20260423T114722Z
DESCRIPTION:7/13 Odolena Voda - Karlovarsko 2:1 (13\,-21\,8)
DTSTART;TZID=Europe/Berlin:20241102T153000
DTEND;TZID=Europe/Berlin:20241102T173000
LOCATION:Sportovní hala\, Ke Stadionu 375 Odolena Voda
SUMMARY:CP-U16M-Z2B: Odolena Voda-Karlovarsko
END:VEVENT
BEGIN:VEVENT
UID:64363565-3562-4031-b339-363935333462
DTSTAMP:20260423T114722Z
DESCRIPTION:9/18 SKV Ústí n.L. - Karlovarsko 1:2 (13\,-18\,-7)
DTSTART;TZID=Europe/Berlin:20241103T090000
DTEND;TZID=Europe/Berlin:20241103T110000
LOCATION:ZŠ Rabasova\, Rabasova 3282 Ústí nad Labem - Severní Terasa
SUMMARY:CP-U16M-Z2B: SKV Ústí n.L.-Karlovarsko
END:VEVENT
BEGIN:VEVENT
UID:35353238-3564-4638-b766-393539363565
DTSTAMP:20260423T114722Z
DESCRIPTION:13/26 Příbram B - Karlovarsko 1:2 (11\,-20\,-10)
DTSTART;TZID=Europe/Berlin:20241103T130000
DTEND;TZID=Europe/Berlin:20241103T150000
LOCATION:Tělocvična ZŠ Balbínova\, Balbínova 328 Příbram - Příbram II
SUMMARY:CP-U16M-Z2B: Příbram B-Karlovarsko
END:VEVENT
BEGIN:VEVENT
UID:64626233-3835-4564-b530-663333383462
DTSTAMP:20260423T114722Z
DESCRIPTION:1/2 Karlovarsko - Volejbal Sokolov\, z.s. 2:1 (20\,-18\,7)
DTSTART;TZID=Europe/Berlin:20241130T100000
DTEND;TZID=Europe/Berlin:20241130T120000
LOCATION:Mattoni Arena Hala míčových sportů\, Západní 1812 Karlovy Vary
SUMMARY:CP-U16M-Z3B: Karlovarsko-Volejbal Sokolov\, z.s.
END:VEVENT
BEGIN:VEVENT
UID:66653536-6363-4966-b362-353430376238
DTSTAMP:20260423T114722Z
DESCRIPTION:2/6 Karlovarsko - Jirkov 0:2 (-7\,-17)
DTSTART;TZID=Europe/Berlin:20241130T111000
DTEND;TZID=Europe/Berlin:20241130T131000
LOCATION:Mattoni Arena Hala míčových sportů\, Západní 1812 Karlovy Vary
SUMMARY:CP-U16M-Z3B: Karlovarsko-Jirkov
END:VEVENT
BEGIN:VEVENT
UID:37383239-3630-4066-b735-316263343964
DTSTAMP:20260423T114722Z
DESCRIPTION:3/8 Karlovarsko - SK Dansport Praha 2:1 (23\,-23\,10)
DTSTART;TZID=Europe/Berlin:20241130T122000
DTEND;TZID=Europe/Berlin:20241130T142000
LOCATION:Mattoni Arena Hala míčových sportů\, Západní 1812 Karlovy Vary
SUMMARY:CP-U16M-Z3B: Karlovarsko-SK Dansport Praha
END:VEVENT
BEGIN:VEVENT
UID:32646464-6363-4261-b233-303833616635
DTSTAMP:20260423T114722Z
DESCRIPTION:10/26 Karlovarsko - Odolena Voda 0:2 (-15\,-15)
DTSTART;TZID=Europe/Berlin:20241201T133000
DTEND;TZID=Europe/Berlin:20241201T153000
LOCATION:Mattoni Arena Hala míčových sportů\, Západní 1812 Karlovy Vary
SUMMARY:CP-U16M-Z3B: Karlovarsko-Odolena Voda
END:VEVENT
BEGIN:VEVENT
UID:34326163-3531-4462-b531-323330303135
DTSTAMP:20260423T114722Z
DESCRIPTION:5/14 SKV Ústí n.L. - Karlovarsko 2:1 (-19\,23\,11)
DTSTART;TZID=Europe/Berlin:20241130T154000
DTEND;TZID=Europe/Berlin:20241130T174000
LOCATION:ZŠ Rabasova\, Rabasova 3282 Ústí nad Labem - Severní Terasa
SUMMARY:CP-U16M-Z3B: SKV Ústí n.L.-Karlovarsko
END:VEVENT
BEGIN:VEVENT
UID:31653039-3561-4635-a666-383161613030
DTSTAMP:20260423T114722Z
DESCRIPTION:7/18 Kolín - Karlovarsko 2:1 (17\,-14\,11)
DTSTART;TZID=Europe/Berlin:20241201T090000
DTEND;TZID=Europe/Berlin:20241201T110000
LOCATION:hala STAV\, SOŠ Kolín\, Brankovická 1417 Kolín - Kolín V
SUMMARY:CP-U16M-Z3B: Kolín-Karlovarsko
END:VEVENT
BEGIN:VEVENT
UID:31333934-3435-4530-b631-373961656437
DTSTAMP:20260423T114722Z
DESCRIPTION:9/23 Orion A - Karlovarsko 2:1 (-22\,14\,13)
DTSTART;TZID=Europe/Berlin:20241201T120000
DTEND;TZID=Europe/Berlin:20241201T140000
LOCATION:ZŠ prof. Švejcara\, Mráčkova\, Mráčkova 3090 Praha - Modřany
SUMMARY:CP-U16M-Z3B: Orion A-Karlovarsko
END:VEVENT
BEGIN:VEVENT
UID:65636333-6361-4336-b663-653563646338
DTSTAMP:20260423T114722Z
DESCRIPTION:1/5 Karlovarsko - Plzeň 2:1 (20\,-19\,18)
DTSTART;TZID=Europe/Berlin:20241124T090000
DTEND;TZID=Europe/Berlin:20241124T110000
LOCATION:Mattoni Arena Hala míčových sportů\, Západní 1812 Karlovy Vary
SUMMARY:US-U16M-2: Karlovarsko-Plzeň
END:VEVENT
BEGIN:VEVENT
UID:32393766-3332-4433-b938-613862646130
DTSTAMP:20260423T114722Z
DESCRIPTION:1/2 Jirkov - Karlovarsko 2:0 (13\,15)
DTSTART;TZID=Europe/Berlin:20241124T090000
DTEND;TZID=Europe/Berlin:20241124T110000
LOCATION:Sportovní hala MG a ZŠ Jirkov\, Krušnohorská 1675 Jirkov
SUMMARY:US-U16M-2: Jirkov-Karlovarsko
END:VEVENT
BEGIN:VEVENT
UID:64653666-3563-4939-b430-633533626338
DTSTAMP:20260423T114722Z
DESCRIPTION:1/7 SKV Ústí n.L. - Karlovarsko 0:2 (-17\,-15)
DTSTART;TZID=Europe/Berlin:20241124T090000
DTEND;TZID=Europe/Berlin:20241124T110000
LOCATION:ZŠ Rabasova\, Rabasova 3282 Ústí nad Labem - Severní Terasa
SUMMARY:US-U16M-2: SKV Ústí n.L.-Karlovarsko
END:VEVENT
BEGIN:VEVENT
UID:35653139-3762-4461-a130-346133326233
DTSTAMP:20260423T114722Z
DESCRIPTION:1/9 VA-K z.s. - Karlovarsko 0:2 (-12\,-14)
DTSTART;TZID=Europe/Berlin:20241124T090000
DTEND;TZID=Europe/Berlin:20241124T110000
LOCATION:Sportovní hala Textilka\, Gustava Geipela 2713 Aš
SUMMARY:US-U16M-2: VA-K z.s.-Karlovarsko
END:VEVENT
BEGIN:VEVENT
UID:38653831-3438-4462-a633-313533356631
DTSTAMP:20260423T114722Z
DESCRIPTION:1/2 Karlovarsko - Plzeň 2:0 (23\,21)
DTSTART;TZID=Europe/Berlin:20241215T090000
DTEND;TZID=Europe/Berlin:20241215T110000
LOCATION:Mattoni Arena Hala míčových sportů\, Západní 1812 Karlovy Vary
SUMMARY:US-U16M-3: Karlovarsko-Plzeň
END:VEVENT
BEGIN:VEVENT
UID:66623564-3861-4232-a461-346530356363
DTSTAMP:20260423T114722Z
DESCRIPTION:1/4 Sokolov - Karlovarsko 0:2 (-13\,-15)
DTSTART;TZID=Europe/Berlin:20241215T090000
DTEND;TZID=Europe/Berlin:20241215T110000
LOCATION:Jiskra\, Maxima Gorkého 280 Sokolov
SUMMARY:US-U16M-3: Sokolov-Karlovarsko
END:VEVENT
BEGIN:VEVENT
UID:33323333-3763-4565-a231-353032313639
DTSTAMP:20260423T114722Z
DESCRIPTION:1/6 Jirkov - Karlovarsko 2:0 (22\,24)
DTSTART;TZID=Europe/Berlin:20241215T090000
DTEND;TZID=Europe/Berlin:20241215T110000
LOCATION:Sportovní hala MG a ZŠ Jirkov\, Krušnohorská 1675 Jirkov
SUMMARY:US-U16M-3: Jirkov-Karlovarsko
END:VEVENT
BEGIN:VEVENT
UID:66626635-6466-4463-b937-653636306562
DTSTAMP:20260423T114722Z
DESCRIPTION:1/8 Tělovýchovná jednota Baník Most\, z.s. - Karlovarsko 0:2 (-
 20\,-19)
DTSTART;TZID=Europe/Berlin:20241215T090000
DTEND;TZID=Europe/Berlin:20241215T110000
LOCATION:14. Základní škola Rozmarýnová 1692
SUMMARY:US-U16M-3: Tělovýchovná jednota Baník Most\, z.s.-Karlovarsko
END:VEVENT
BEGIN:VEVENT
UID:33336264-3338-4537-b930-353165323035
DTSTAMP:20260423T114722Z
DESCRIPTION:1/1 Karlovarsko - Odolena Voda 0:2 (-22\,-13)
DTSTART;TZID=Europe/Berlin:20250118T110000
DTEND;TZID=Europe/Berlin:20250118T130000
LOCATION:Mattoni Arena Hala míčových sportů\, Západní 1812 Karlovy Vary
SUMMARY:CP-U16M-4C: Karlovarsko-Odolena Voda
END:VEVENT
BEGIN:VEVENT
UID:32366431-3430-4233-b361-653330326335
DTSTAMP:20260423T114722Z
DESCRIPTION:2/5 Karlovarsko - Orion A 2:1 (19\,-24\,13)
DTSTART;TZID=Europe/Berlin:20250118T123000
DTEND;TZID=Europe/Berlin:20250118T143000
LOCATION:Mattoni Arena Hala míčových sportů\, Západní 1812 Karlovy Vary
SUMMARY:CP-U16M-4C: Karlovarsko-Orion A
END:VEVENT
BEGIN:VEVENT
UID:65613833-6532-4937-a630-333263346136
DTSTAMP:20260423T114722Z
DESCRIPTION:3/9 Karlovarsko - SKV Ústí n.L. 2:0 (15\,21)
DTSTART;TZID=Europe/Berlin:20250118T150000
DTEND;TZID=Europe/Berlin:20250118T170000
LOCATION:Mattoni Arena Hala míčových sportů\, Západní 1812 Karlovy Vary
SUMMARY:CP-U16M-4C: Karlovarsko-SKV Ústí n.L.
END:VEVENT
BEGIN:VEVENT
UID:32313864-6236-4366-b838-303265633636
DTSTAMP:20260423T114722Z
DESCRIPTION:4/13 Karlovarsko - Příbram B 1:2 (11\,-14\,-7)
DTSTART;TZID=Europe/Berlin:20250118T163000
DTEND;TZID=Europe/Berlin:20250118T183000
LOCATION:Mattoni Arena Hala míčových sportů\, Západní 1812 Karlovy Vary
SUMMARY:CP-U16M-4C: Karlovarsko-Příbram B
END:VEVENT
BEGIN:VEVENT
UID:31336166-3833-4031-a363-633963616130
DTSTAMP:20260423T114722Z
DESCRIPTION:5/17 Karlovarsko - Volejbalový klub Ostrava\, z.s. 1:2 (15\,-22
 \,-8)
DTSTART;TZID=Europe/Berlin:20250119T090000
DTEND;TZID=Europe/Berlin:20250119T110000
LOCATION:Mattoni Arena Hala míčových sportů\, Západní 1812 Karlovy Vary
SUMMARY:CP-U16M-4C: Karlovarsko-Volejbalový klub Ostrava\, z.s.
END:VEVENT
BEGIN:VEVENT
UID:35343161-6466-4365-b130-373631316238
DTSTAMP:20260423T114722Z
DESCRIPTION:6/21 Karlovarsko - Kojetín 0:2 (-20\,-24)
DTSTART;TZID=Europe/Berlin:20250119T103000
DTEND;TZID=Europe/Berlin:20250119T123000
LOCATION:Mattoni Arena Hala míčových sportů\, Západní 1812 Karlovy Vary
SUMMARY:CP-U16M-4C: Karlovarsko-Kojetín
END:VEVENT
BEGIN:VEVENT
UID:61613733-3762-4033-a262-303536313837
DTSTAMP:20260423T114722Z
DESCRIPTION:7/25 Karlovarsko - PFN Znojmo 0:2 (-23\,-23)
DTSTART;TZID=Europe/Berlin:20250119T120000
DTEND;TZID=Europe/Berlin:20250119T140000
LOCATION:Mattoni Arena Hala míčových sportů\, Západní 1812 Karlovy Vary
SUMMARY:CP-U16M-4C: Karlovarsko-PFN Znojmo
END:VEVENT
BEGIN:VEVENT
UID:35663831-3535-4230-a631-363764653835
DTSTAMP:20260423T114722Z
DESCRIPTION:1/2 Karlovarsko - Plzeň 2:0 (21\,21)
DTSTART;TZID=Europe/Berlin:20250126T090000
DTEND;TZID=Europe/Berlin:20250126T110000
LOCATION:Mattoni Arena Hala míčových sportů\, Západní 1812 Karlovy Vary
SUMMARY:US-U16M-4: Karlovarsko-Plzeň
END:VEVENT
BEGIN:VEVENT
UID:36626534-6265-4333-b865-383765633633
DTSTAMP:20260423T114722Z
DESCRIPTION:1/4 Volejbalový klub Teplice z.s. - Karlovarsko 2:0 (24\,10)
DTSTART;TZID=Europe/Berlin:20250126T090000
DTEND;TZID=Europe/Berlin:20250126T110000
LOCATION:zš edisonova teplice Edisonova
SUMMARY:US-U16M-4: Volejbalový klub Teplice z.s.-Karlovarsko
END:VEVENT
BEGIN:VEVENT
UID:30363038-3061-4763-b864-663531303531
DTSTAMP:20260423T114722Z
DESCRIPTION:1/6 Jirkov - Karlovarsko 0:2 (-10\,-10)
DTSTART;TZID=Europe/Berlin:20250126T090000
DTEND;TZID=Europe/Berlin:20250126T110000
LOCATION:Sportovní hala MG a ZŠ Jirkov\, Krušnohorská 1675 Jirkov
SUMMARY:US-U16M-4: Jirkov-Karlovarsko
END:VEVENT
BEGIN:VEVENT
UID:63663361-3938-4131-b763-373164386533
DTSTAMP:20260423T114722Z
DESCRIPTION:1/8 SKV Ústí n.L. - Karlovarsko 0:2 (-16\,-12)
DTSTART;TZID=Europe/Berlin:20250126T090000
DTEND;TZID=Europe/Berlin:20250126T110000
LOCATION:ZŠ Rabasova\, Rabasova 3282 Ústí nad Labem - Severní Terasa
SUMMARY:US-U16M-4: SKV Ústí n.L.-Karlovarsko
END:VEVENT
BEGIN:VEVENT
UID:39623736-3236-4832-a336-343433383335
DTSTAMP:20260423T114722Z
DESCRIPTION:3/5 Karlovarsko - Příbram B 0:2 (-18\,-19)
DTSTART;TZID=Europe/Berlin:20250208T123000
DTEND;TZID=Europe/Berlin:20250208T143000
LOCATION:Mattoni Arena Hala míčových sportů\, Západní 1812 Karlovy Vary
SUMMARY:CP-U16M-5C: Karlovarsko-Příbram B
END:VEVENT
BEGIN:VEVENT
UID:39613266-3133-4461-b938-636637323834
DTSTAMP:20260423T114722Z
DESCRIPTION:5/9 Karlovarsko - SK Dansport Praha 1:2 (19\,-19\,-8)
DTSTART;TZID=Europe/Berlin:20250208T150000
DTEND;TZID=Europe/Berlin:20250208T170000
LOCATION:Mattoni Arena Hala míčových sportů\, Západní 1812 Karlovy Vary
SUMMARY:CP-U16M-5C: Karlovarsko-SK Dansport Praha
END:VEVENT
BEGIN:VEVENT
UID:30323836-3564-4730-b962-613033306337
DTSTAMP:20260423T114722Z
DESCRIPTION:11/24 Karlovarsko - PFN Znojmo 2:0 (26\,20)
DTSTART;TZID=Europe/Berlin:20250209T113000
DTEND;TZID=Europe/Berlin:20250209T133000
LOCATION:Mattoni Arena Hala míčových sportů\, Západní 1812 Karlovy Vary
SUMMARY:CP-U16M-5C: Karlovarsko-PFN Znojmo
END:VEVENT
BEGIN:VEVENT
UID:64656238-6238-4462-b664-623866646331
DTSTAMP:20260423T114722Z
DESCRIPTION:12/26 Karlovarsko - VK Brno\, z.s. 2:1 (-16\,18\,10)
DTSTART;TZID=Europe/Berlin:20250209T124500
DTEND;TZID=Europe/Berlin:20250209T144500
LOCATION:Mattoni Arena Hala míčových sportů\, Západní 1812 Karlovy Vary
SUMMARY:CP-U16M-5C: Karlovarsko-VK Brno\, z.s.
END:VEVENT
BEGIN:VEVENT
UID:64386666-3365-4339-b162-666234326538
DTSTAMP:20260423T114722Z
DESCRIPTION:2/3 Volejbalový klub Ostrava\, z.s. - Karlovarsko 2:0 (23\,27)
DTSTART;TZID=Europe/Berlin:20250208T111500
DTEND;TZID=Europe/Berlin:20250208T131500
LOCATION:Hala Střední zdravotní školy\, 1. máje 2208 Ostrava - Mariánské Ho
 ry
SUMMARY:CP-U16M-5C: Volejbalový klub Ostrava\, z.s.-Karlovarsko
END:VEVENT
BEGIN:VEVENT
UID:30643138-3362-4461-b839-613137653464
DTSTAMP:20260423T114722Z
DESCRIPTION:7/14 VK Dukla Liberec A - Karlovarsko 0:2 (-13\,-19)
DTSTART;TZID=Europe/Berlin:20250208T170000
DTEND;TZID=Europe/Berlin:20250208T190000
LOCATION:Dukla Liberec\, Jeronýmova 558 Liberec - Liberec VII-Horní Růžodol
SUMMARY:CP-U16M-5C: VK Dukla Liberec A-Karlovarsko
END:VEVENT
BEGIN:VEVENT
UID:64333639-3835-4534-b932-346361313634
DTSTAMP:20260423T114722Z
DESCRIPTION:8/18 Tělovýchovná jednota Jiskra Havlíčkův Brod z.s. - Karlovar
 sko 0:2 (-9\,-14)
DTSTART;TZID=Europe/Berlin:20250209T090000
DTEND;TZID=Europe/Berlin:20250209T110000
LOCATION:Sportovní hala TJ Jiskra\, Ledečská 3028 Havlíčkův Brod
SUMMARY:CP-U16M-5C: Tělovýchovná jednota Jiskra Havlíčkův Brod z.s.-Karlova
 rsko
END:VEVENT
BEGIN:VEVENT
UID:63363165-3161-4938-b533-323530343939
DTSTAMP:20260423T114722Z
DESCRIPTION:1/1 PFN Znojmo - Karlovarsko 2:1 (23\,-23\,12)
DTSTART;TZID=Europe/Berlin:20250307T145000
DTEND;TZID=Europe/Berlin:20250307T165000
LOCATION:Tělocvična ZŠ Prokopa Diviše a MŠ\, Ke Škole 569 Znojmo - Přímětic
 e
SUMMARY:CP-U16M-6E: PFN Znojmo-Karlovarsko
END:VEVENT
BEGIN:VEVENT
UID:39316265-3965-4432-b737-633961626165
DTSTAMP:20260423T114722Z
DESCRIPTION:3/3 Prosek B - Karlovarsko 0:2 (-23\,-34)
DTSTART;TZID=Europe/Berlin:20250308T093000
DTEND;TZID=Europe/Berlin:20250308T113000
SUMMARY:CP-U16M-6E: Prosek B-Karlovarsko
END:VEVENT
BEGIN:VEVENT
UID:61656263-3236-4633-a532-633463653064
DTSTAMP:20260423T114722Z
DESCRIPTION:5/5 Velké Meziříčí - Karlovarsko 0:2 (-23\,-20)
DTSTART;TZID=Europe/Berlin:20250308T120000
DTEND;TZID=Europe/Berlin:20250308T140000
LOCATION:ZŠ Komenského\, Komenského 1 Velké Meziříčí
SUMMARY:CP-U16M-6E: Velké Meziříčí-Karlovarsko
END:VEVENT
BEGIN:VEVENT
UID:39613130-6536-4661-b333-366330343432
DTSTAMP:20260423T114722Z
DESCRIPTION:1/1 Karlovarsko - Orion A 2:0 (17\,17)\nE1-F4
DTSTART;TZID=Europe/Berlin:20250308T144500
DTEND;TZID=Europe/Berlin:20250308T164500
LOCATION:Mattoni Arena Hala míčových sportů\, Západní 1812 Karlovy Vary
SUMMARY:CP-U16M-P3: Karlovarsko-Orion A
END:VEVENT
BEGIN:VEVENT
UID:65363636-6263-4063-a133-363765316266
DTSTAMP:20260423T114722Z
DESCRIPTION:1/7 Karlovarsko - PFN Znojmo 1:2 (-21\,23\,-8)\nsemifinále 2 (3
 .os.)
DTSTART;TZID=Europe/Berlin:20250308T171500
DTEND;TZID=Europe/Berlin:20250308T191500
LOCATION:Mattoni Arena Hala míčových sportů\, Západní 1812 Karlovy Vary
SUMMARY:CP-U16M-P3: Karlovarsko-PFN Znojmo
END:VEVENT
BEGIN:VEVENT
UID:66623963-6538-4464-b435-323538613635
DTSTAMP:20260423T114722Z
DESCRIPTION:1/11 Odolena Voda - Karlovarsko 2:0 (15\,9)\nFinále 19-20
DTSTART;TZID=Europe/Berlin:20250309T103000
DTEND;TZID=Europe/Berlin:20250309T123000
LOCATION:Sportovní hala\, Ke Stadionu 375 Odolena Voda
SUMMARY:CP-U16M-P3: Odolena Voda-Karlovarsko
END:VEVENT
BEGIN:VEVENT
UID:62623563-3538-4437-b439-343730363362
DTSTAMP:20260423T114722Z
DESCRIPTION:1/1 Karlovarsko - Sokolov 1:2 (21\,-24\,-13)
DTSTART;TZID=Europe/Berlin:20250330T090000
DTEND;TZID=Europe/Berlin:20250330T110000
LOCATION:Mattoni Arena Hala míčových sportů\, Západní 1812 Karlovy Vary
SUMMARY:US-U16M-5: Karlovarsko-Sokolov
END:VEVENT
BEGIN:VEVENT
UID:34376131-3365-4635-a261-343336626131
DTSTAMP:20260423T114722Z
DESCRIPTION:1/6 Karlovarsko - Plzeň 2:0 (23\,16)
DTSTART;TZID=Europe/Berlin:20250330T090000
DTEND;TZID=Europe/Berlin:20250330T110000
LOCATION:Mattoni Arena Hala míčových sportů\, Západní 1812 Karlovy Vary
SUMMARY:US-U16M-5: Karlovarsko-Plzeň
END:VEVENT
BEGIN:VEVENT
UID:32653938-3762-4366-b635-613034343962
DTSTAMP:20260423T114722Z
DESCRIPTION:1/9 Karlovarsko - Volejbalový klub Teplice z.s. 2:0 (23\,19)
DTSTART;TZID=Europe/Berlin:20250330T090000
DTEND;TZID=Europe/Berlin:20250330T110000
LOCATION:Mattoni Arena Hala míčových sportů\, Západní 1812 Karlovy Vary
SUMMARY:US-U16M-5: Karlovarsko-Volejbalový klub Teplice z.s.
END:VEVENT
BEGIN:VEVENT
UID:66646137-6133-4334-a233-303234333966
DTSTAMP:20260423T114722Z
DESCRIPTION:1/3 Tělovýchovná jednota Baník Most\, z.s. - Karlovarsko 0:2 (-
 14\,-11)
DTSTART;TZID=Europe/Berlin:20250330T090000
DTEND;TZID=Europe/Berlin:20250330T110000
LOCATION:14. Základní škola Rozmarýnová 1692
SUMMARY:US-U16M-5: Tělovýchovná jednota Baník Most\, z.s.-Karlovarsko
END:VEVENT
BEGIN:VEVENT
UID:32316434-3735-4130-b166-356566343164
DTSTAMP:20260423T114722Z
DESCRIPTION:2/4 Karlovarsko - Lvi Praha A 0:2 (-10\,-20)
DTSTART;TZID=Europe/Berlin:20250503T112000
DTEND;TZID=Europe/Berlin:20250503T132000
LOCATION:Sportovní hala Na Střelnici\, Pražská 2162 Svitavy - Předměstí
SUMMARY:MCR-U16M-D: Karlovarsko-Lvi Praha A
END:VEVENT
BEGIN:VEVENT
UID:62636337-3731-4436-b731-303662313932
DTSTAMP:20260423T114722Z
DESCRIPTION:8/18 Karlovarsko - VSK Český Krumlov 2:0 (24\,21)
DTSTART;TZID=Europe/Berlin:20250504T105000
DTEND;TZID=Europe/Berlin:20250504T125000
LOCATION:Sportovní hala Na Střelnici\, Pražská 2162 Svitavy - Předměstí
SUMMARY:MCR-U16M-D: Karlovarsko-VSK Český Krumlov
END:VEVENT
BEGIN:VEVENT
UID:39316334-3635-4830-a230-326632363331
DTSTAMP:20260423T114722Z
DESCRIPTION:3/7 Kojetín - Karlovarsko 2:0 (17\,16)
DTSTART;TZID=Europe/Berlin:20250503T124000
DTEND;TZID=Europe/Berlin:20250503T144000
LOCATION:Sportovní hala Na Střelnici\, Pražská 2162 Svitavy - Předměstí
SUMMARY:MCR-U16M-D: Kojetín-Karlovarsko
END:VEVENT
BEGIN:VEVENT
UID:34323736-3838-4433-a133-316165313030
DTSTAMP:20260423T114722Z
DESCRIPTION:5/11 Svitavy A - Karlovarsko 2:0 (18\,13)
DTSTART;TZID=Europe/Berlin:20250503T155000
DTEND;TZID=Europe/Berlin:20250503T175000
LOCATION:Sportovní hala Na Střelnici\, Pražská 2162 Svitavy - Předměstí
SUMMARY:MCR-U16M-D: Svitavy A-Karlovarsko
END:VEVENT
BEGIN:VEVENT
UID:34623032-3833-4765-a433-656362646364
DTSTAMP:20260423T114722Z
DESCRIPTION:6/14 Česká Lípa - Karlovarsko 0:2 (-13\,-13)
DTSTART;TZID=Europe/Berlin:20250503T170000
DTEND;TZID=Europe/Berlin:20250503T190000
LOCATION:Sportovní hala Na Střelnici\, Pražská 2162 Svitavy - Předměstí
SUMMARY:MCR-U16M-D: Česká Lípa-Karlovarsko
END:VEVENT
BEGIN:VEVENT
UID:30663262-6266-4633-b662-396365383532
DTSTAMP:20260423T114722Z
DESCRIPTION:9/20 Brno - Karlovarsko 2:0 (23\,10)
DTSTART;TZID=Europe/Berlin:20250504T121000
DTEND;TZID=Europe/Berlin:20250504T141000
LOCATION:Sportovní hala Na Střelnici\, Pražská 2162 Svitavy - Předměstí
SUMMARY:MCR-U16M-D: Brno-Karlovarsko
END:VEVENT
END:VCALENDAR
