BEGIN:VCALENDAR
VERSION:2.0
PRODID:-//Green Volley Frýdek-Místek86809//NONSGML kigkonsult.se iCalcreator 2.41.80//
CALSCALE:GREGORIAN
UID:65396665-6264-4433-a638-666465623839
BEGIN:VEVENT
UID:63336363-3932-4364-b861-643032353164
DTSTAMP:20260422T150340Z
DESCRIPTION:1/1 Green F-M - VK Ostrava 'B' 0:2 (-21\,-22)
DTSTART;TZID=Europe/Berlin:20241006T090000
DTEND;TZID=Europe/Berlin:20241006T110000
LOCATION:Tělocvičny ZŠ Komenského 66\, Komenského 571 Nový Jičín
SUMMARY:MS-U16M-KVC: Green F-M-VK Ostrava 'B'
END:VEVENT
BEGIN:VEVENT
UID:38333830-3936-4236-b338-633431383737
DTSTAMP:20260422T150340Z
DESCRIPTION:4/8 Green F-M - VS Ostrava 'A' 0:2 (-9\,-6)
DTSTART;TZID=Europe/Berlin:20241006T133000
DTEND;TZID=Europe/Berlin:20241006T153000
LOCATION:Tělocvičny ZŠ Komenského 66\, Komenského 571 Nový Jičín
SUMMARY:MS-U16M-KVC: Green F-M-VS Ostrava 'A'
END:VEVENT
BEGIN:VEVENT
UID:35383638-3230-4364-a337-633262326233
DTSTAMP:20260422T150340Z
DESCRIPTION:2/4 HS Opava - Green F-M 2:0 (12\,13)
DTSTART;TZID=Europe/Berlin:20241006T103000
DTEND;TZID=Europe/Berlin:20241006T123000
LOCATION:Tělocvičny ZŠ Komenského 66\, Komenského 571 Nový Jičín
SUMMARY:MS-U16M-KVC: HS Opava-Green F-M
END:VEVENT
BEGIN:VEVENT
UID:61623939-3032-4566-a134-633133306365
DTSTAMP:20260422T150340Z
DESCRIPTION:5/9 Vlci NJ 'A' - Green F-M 2:0 (12\,18)
DTSTART;TZID=Europe/Berlin:20241006T150000
DTEND;TZID=Europe/Berlin:20241006T170000
LOCATION:Tělocvičny ZŠ Komenského 66\, Komenského 571 Nový Jičín
SUMMARY:MS-U16M-KVC: Vlci NJ 'A'-Green F-M
END:VEVENT
BEGIN:VEVENT
UID:39656266-3062-4061-b234-313665313961
DTSTAMP:20260422T150340Z
DESCRIPTION:1/1 Green F-M - Vlci NJ 'B' 2:0 (17\,18)
DTSTART;TZID=Europe/Berlin:20241110T090000
DTEND;TZID=Europe/Berlin:20241110T110000
LOCATION:Sportovní hala Ostrava -Třebovice\, 5. května 5649 Ostrava - Třebo
 vice
SUMMARY:MS-U16M-T1C: Green F-M-Vlci NJ 'B'
END:VEVENT
BEGIN:VEVENT
UID:32306461-6634-4262-b534-383734303037
DTSTAMP:20260422T150340Z
DESCRIPTION:4/8 Green F-M - VK Ostrava 'B' 1:2 (-12\,16\,-10)
DTSTART;TZID=Europe/Berlin:20241110T133000
DTEND;TZID=Europe/Berlin:20241110T153000
LOCATION:Sportovní hala Ostrava -Třebovice\, 5. května 5649 Ostrava - Třebo
 vice
SUMMARY:MS-U16M-T1C: Green F-M-VK Ostrava 'B'
END:VEVENT
BEGIN:VEVENT
UID:61396236-3231-4961-a666-326439313865
DTSTAMP:20260422T150340Z
DESCRIPTION:2/4 TJ Hlučín - Green F-M 2:0 (8\,23)
DTSTART;TZID=Europe/Berlin:20241110T103000
DTEND;TZID=Europe/Berlin:20241110T123000
LOCATION:Sportovní hala Ostrava -Třebovice\, 5. května 5649 Ostrava - Třebo
 vice
SUMMARY:MS-U16M-T1C: TJ Hlučín-Green F-M
END:VEVENT
BEGIN:VEVENT
UID:37663738-3664-4138-a436-633030633838
DTSTAMP:20260422T150340Z
DESCRIPTION:5/9 Blue Ostrava 'A' - Green F-M 1:2 (-25\,13\,-14)
DTSTART;TZID=Europe/Berlin:20241110T150000
DTEND;TZID=Europe/Berlin:20241110T170000
LOCATION:Sportovní hala Ostrava -Třebovice\, 5. května 5649 Ostrava - Třebo
 vice
SUMMARY:MS-U16M-T1C: Blue Ostrava 'A'-Green F-M
END:VEVENT
BEGIN:VEVENT
UID:31336531-3331-4439-b439-356262353463
DTSTAMP:20260422T150340Z
DESCRIPTION:1/2 Green F-M - Blue Ostrava 'A' 2:0 (20\,20)
DTSTART;TZID=Europe/Berlin:20241124T090000
DTEND;TZID=Europe/Berlin:20241124T110000
LOCATION:ZŠ Kylešovice\, U Hřiště 1242 Opava - Kylešovice
SUMMARY:MS-U16M-T2C: Green F-M-Blue Ostrava 'A'
END:VEVENT
BEGIN:VEVENT
UID:37323766-3863-4430-b038-663330663562
DTSTAMP:20260422T150340Z
DESCRIPTION:3/5 Green F-M - HS Opava 0:2 (-18\,-7)
DTSTART;TZID=Europe/Berlin:20241124T120000
DTEND;TZID=Europe/Berlin:20241124T140000
LOCATION:ZŠ Kylešovice\, U Hřiště 1242 Opava - Kylešovice
SUMMARY:MS-U16M-T2C: Green F-M-HS Opava
END:VEVENT
BEGIN:VEVENT
UID:62353233-3634-4433-a166-373236393532
DTSTAMP:20260422T150340Z
DESCRIPTION:2/3 Vlci NJ 'B' - Green F-M 1:2 (21\,-16\,-7)
DTSTART;TZID=Europe/Berlin:20241124T103000
DTEND;TZID=Europe/Berlin:20241124T123000
LOCATION:ZŠ Kylešovice\, U Hřiště 1242 Opava - Kylešovice
SUMMARY:MS-U16M-T2C: Vlci NJ 'B'-Green F-M
END:VEVENT
BEGIN:VEVENT
UID:30396664-3437-4337-a630-373536386331
DTSTAMP:20260422T150340Z
DESCRIPTION:4/8 VAM Havířov - Green F-M 0:2 (-20\,-5)
DTSTART;TZID=Europe/Berlin:20241124T133000
DTEND;TZID=Europe/Berlin:20241124T153000
LOCATION:ZŠ Kylešovice\, U Hřiště 1242 Opava - Kylešovice
SUMMARY:MS-U16M-T2C: VAM Havířov-Green F-M
END:VEVENT
BEGIN:VEVENT
UID:37303964-3834-4664-b765-396136313838
DTSTAMP:20260422T150340Z
DESCRIPTION:2/3 Green F-M - Red Frýdlant n/O 0:2 (-15\,-13)
DTSTART;TZID=Europe/Berlin:20241214T103000
DTEND;TZID=Europe/Berlin:20241214T123000
LOCATION:Hala ABC\, Purkyňova 116 Nový Jičín
SUMMARY:MS-U16M-T3B: Green F-M-Red Frýdlant n/O
END:VEVENT
BEGIN:VEVENT
UID:32383466-6663-4264-b362-333430376435
DTSTAMP:20260422T150340Z
DESCRIPTION:5/10 Green F-M - HS Opava 2:0 (23\,13)
DTSTART;TZID=Europe/Berlin:20241214T150000
DTEND;TZID=Europe/Berlin:20241214T170000
LOCATION:Hala ABC\, Purkyňova 116 Nový Jičín
SUMMARY:MS-U16M-T3B: Green F-M-HS Opava
END:VEVENT
BEGIN:VEVENT
UID:31343765-3739-4365-a261-333465326538
DTSTAMP:20260422T150340Z
DESCRIPTION:1/1 VS Ostrava 'B' - Green F-M 2:0 (7\,17)
DTSTART;TZID=Europe/Berlin:20241214T090000
DTEND;TZID=Europe/Berlin:20241214T110000
LOCATION:Hala ABC\, Purkyňova 116 Nový Jičín
SUMMARY:MS-U16M-T3B: VS Ostrava 'B'-Green F-M
END:VEVENT
BEGIN:VEVENT
UID:31363132-3537-4061-a137-393664343339
DTSTAMP:20260422T150340Z
DESCRIPTION:3/6 Vlci NJ 'A' - Green F-M 2:0 (22\,22)
DTSTART;TZID=Europe/Berlin:20241214T120000
DTEND;TZID=Europe/Berlin:20241214T140000
LOCATION:Hala ABC\, Purkyňova 116 Nový Jičín
SUMMARY:MS-U16M-T3B: Vlci NJ 'A'-Green F-M
END:VEVENT
BEGIN:VEVENT
UID:65383461-6362-4166-a663-316531663333
DTSTAMP:20260422T150340Z
DESCRIPTION:1/2 Green F-M - Vlci NJ 'B' 0:2 (-18\,-18)
DTSTART;TZID=Europe/Berlin:20250111T090000
DTEND;TZID=Europe/Berlin:20250111T110000
LOCATION:Hala ABC\, Purkyňova 116 Nový Jičín
SUMMARY:MS-U16M-T4C: Green F-M-Vlci NJ 'B'
END:VEVENT
BEGIN:VEVENT
UID:31383365-6530-4637-a662-353963336664
DTSTAMP:20260422T150340Z
DESCRIPTION:3/5 Green F-M - Blue Ostrava 'A' 2:X
DTSTART;TZID=Europe/Berlin:20250111T120000
DTEND;TZID=Europe/Berlin:20250111T140000
LOCATION:Hala ABC\, Purkyňova 116 Nový Jičín
SUMMARY:MS-U16M-T4C: Green F-M-Blue Ostrava 'A'
END:VEVENT
BEGIN:VEVENT
UID:64616561-6163-4462-a139-656630393039
DTSTAMP:20260422T150340Z
DESCRIPTION:2/3 VAM Havířov - Green F-M 2:0 (19\,16)
DTSTART;TZID=Europe/Berlin:20250111T103000
DTEND;TZID=Europe/Berlin:20250111T123000
LOCATION:Hala ABC\, Purkyňova 116 Nový Jičín
SUMMARY:MS-U16M-T4C: VAM Havířov-Green F-M
END:VEVENT
BEGIN:VEVENT
UID:66643764-3433-4934-a231-353232656663
DTSTAMP:20260422T150340Z
DESCRIPTION:4/8 HS Opava - Green F-M 2:1 (16\,-26\,14)
DTSTART;TZID=Europe/Berlin:20250111T120000
DTEND;TZID=Europe/Berlin:20250111T140000
LOCATION:Hala ABC\, Purkyňova 116 Nový Jičín
SUMMARY:MS-U16M-T4C: HS Opava-Green F-M
END:VEVENT
BEGIN:VEVENT
UID:37376465-3634-4332-b665-643566306437
DTSTAMP:20260422T150340Z
DESCRIPTION:3/6 Green F-M - Blue Ostrava 'A' 2:0 (14\,16)
DTSTART;TZID=Europe/Berlin:20250202T120000
DTEND;TZID=Europe/Berlin:20250202T140000
LOCATION:Sportovní hala\, Tyršova 1668 Hlučín
SUMMARY:MS-U16M-T5C: Green F-M-Blue Ostrava 'A'
END:VEVENT
BEGIN:VEVENT
UID:35373938-6665-4962-a134-656561626437
DTSTAMP:20260422T150340Z
DESCRIPTION:5/9 Green F-M - VAM Havířov 2:0 (8\,25)
DTSTART;TZID=Europe/Berlin:20250202T150000
DTEND;TZID=Europe/Berlin:20250202T170000
LOCATION:Sportovní hala\, Tyršova 1668 Hlučín
SUMMARY:MS-U16M-T5C: Green F-M-VAM Havířov
END:VEVENT
BEGIN:VEVENT
UID:38613738-3462-4330-b637-623534373938
DTSTAMP:20260422T150340Z
DESCRIPTION:1/2 TJ Hlučín - Green F-M 0:2 (-19\,-19)
DTSTART;TZID=Europe/Berlin:20250202T090000
DTEND;TZID=Europe/Berlin:20250202T110000
LOCATION:Sportovní hala\, Tyršova 1668 Hlučín
SUMMARY:MS-U16M-T5C: TJ Hlučín-Green F-M
END:VEVENT
BEGIN:VEVENT
UID:35613963-6537-4533-a331-616137633763
DTSTAMP:20260422T150340Z
DESCRIPTION:4/7 Vlci NJ 'B' - Green F-M 0:2 (-14\,-25)
DTSTART;TZID=Europe/Berlin:20250202T133000
DTEND;TZID=Europe/Berlin:20250202T153000
LOCATION:Sportovní hala\, Tyršova 1668 Hlučín
SUMMARY:MS-U16M-T5C: Vlci NJ 'B'-Green F-M
END:VEVENT
BEGIN:VEVENT
UID:30616165-3939-4434-b839-383532643035
DTSTAMP:20260422T150340Z
DESCRIPTION:2/3 Green F-M - VK Ostrava 'A' 0:2 (-5\,-14)
DTSTART;TZID=Europe/Berlin:20250223T103000
DTEND;TZID=Europe/Berlin:20250223T123000
LOCATION:ZŠ Kylešovice\, U Hřiště 1242 Opava - Kylešovice
SUMMARY:MS-U16M-T6B: Green F-M-VK Ostrava 'A'
END:VEVENT
BEGIN:VEVENT
UID:61666531-6239-4534-b136-323463376436
DTSTAMP:20260422T150340Z
DESCRIPTION:5/10 Green F-M - Kojetín 0:2 (-8\,-8)
DTSTART;TZID=Europe/Berlin:20250223T150000
DTEND;TZID=Europe/Berlin:20250223T170000
LOCATION:ZŠ Kylešovice\, U Hřiště 1242 Opava - Kylešovice
SUMMARY:MS-U16M-T6B: Green F-M-Kojetín
END:VEVENT
BEGIN:VEVENT
UID:66383930-6461-4538-b361-666335663431
DTSTAMP:20260422T150340Z
DESCRIPTION:1/1 Vlci NJ 'A' - Green F-M 2:0 (13\,6)
DTSTART;TZID=Europe/Berlin:20250223T090000
DTEND;TZID=Europe/Berlin:20250223T110000
LOCATION:ZŠ Kylešovice\, U Hřiště 1242 Opava - Kylešovice
SUMMARY:MS-U16M-T6B: Vlci NJ 'A'-Green F-M
END:VEVENT
BEGIN:VEVENT
UID:63336162-3036-4365-b865-623264633638
DTSTAMP:20260422T150340Z
DESCRIPTION:3/6 HS Opava - Green F-M 2:0 (11\,14)
DTSTART;TZID=Europe/Berlin:20250223T120000
DTEND;TZID=Europe/Berlin:20250223T140000
LOCATION:ZŠ Kylešovice\, U Hřiště 1242 Opava - Kylešovice
SUMMARY:MS-U16M-T6B: HS Opava-Green F-M
END:VEVENT
BEGIN:VEVENT
UID:66323831-3135-4364-a134-303639393738
DTSTAMP:20260422T150340Z
DESCRIPTION:2/4 Green F-M - VK Ostrava 'B' 1:2 (-16\,9\,-11)
DTSTART;TZID=Europe/Berlin:20250330T103000
DTEND;TZID=Europe/Berlin:20250330T123000
LOCATION:ZŠ ALBRECHTICE\, Školní 20 Albrechtice
SUMMARY:MS-U16M-T7C: Green F-M-VK Ostrava 'B'
END:VEVENT
BEGIN:VEVENT
UID:38323432-6538-4266-b436-663763613431
DTSTAMP:20260422T150340Z
DESCRIPTION:4/7 Green F-M - Vlci NJ 'B' 2:0 (10\,15)
DTSTART;TZID=Europe/Berlin:20250330T133000
DTEND;TZID=Europe/Berlin:20250330T153000
LOCATION:ZŠ ALBRECHTICE\, Školní 20 Albrechtice
SUMMARY:MS-U16M-T7C: Green F-M-Vlci NJ 'B'
END:VEVENT
BEGIN:VEVENT
UID:37613532-3830-4466-a638-623962386439
DTSTAMP:20260422T150340Z
DESCRIPTION:3/5 Blue Ostrava 'A' - Green F-M 0:2 (-15\,-14)
DTSTART;TZID=Europe/Berlin:20250330T120000
DTEND;TZID=Europe/Berlin:20250330T140000
LOCATION:ZŠ ALBRECHTICE\, Školní 20 Albrechtice
SUMMARY:MS-U16M-T7C: Blue Ostrava 'A'-Green F-M
END:VEVENT
BEGIN:VEVENT
UID:39666636-3431-4935-a662-623530376535
DTSTAMP:20260422T150340Z
DESCRIPTION:5/10 VAM Havířov - Green F-M 0:2 (-20\,-17)
DTSTART;TZID=Europe/Berlin:20250330T150000
DTEND;TZID=Europe/Berlin:20250330T170000
LOCATION:ZŠ ALBRECHTICE\, Školní 20 Albrechtice
SUMMARY:MS-U16M-T7C: VAM Havířov-Green F-M
END:VEVENT
END:VCALENDAR
