BEGIN:VCALENDAR
VERSION:2.0
PRODID:-//Blue Volley Ostrava B86814//NONSGML kigkonsult.se iCalcreator 2.41.80//
CALSCALE:GREGORIAN
UID:35613137-3064-4362-a639-386534653435
BEGIN:VEVENT
UID:37346236-3138-4830-b161-643235663362
DTSTAMP:20260422T164711Z
DESCRIPTION:3/6 Blue Ostrava 'B' - VAM Havířov 2:0 (9\,13)
DTSTART;TZID=Europe/Berlin:20241006T120000
DTEND;TZID=Europe/Berlin:20241006T140000
LOCATION:ZŠ ALBRECHTICE\, Školní 20 Albrechtice
SUMMARY:MS-U16M-KVA: Blue Ostrava 'B'-VAM Havířov
END:VEVENT
BEGIN:VEVENT
UID:38376438-3633-4265-b466-336439316131
DTSTAMP:20260422T164711Z
DESCRIPTION:5/9 Blue Ostrava 'B' - Red Frýdlant n/O 2:0 (9\,15)
DTSTART;TZID=Europe/Berlin:20241006T150000
DTEND;TZID=Europe/Berlin:20241006T170000
LOCATION:ZŠ ALBRECHTICE\, Školní 20 Albrechtice
SUMMARY:MS-U16M-KVA: Blue Ostrava 'B'-Red Frýdlant n/O
END:VEVENT
BEGIN:VEVENT
UID:30643635-3636-4333-a262-366532346639
DTSTAMP:20260422T164711Z
DESCRIPTION:1/2 Vlci NJ 'B' - Blue Ostrava 'B' 0:2 (-9\,-3)
DTSTART;TZID=Europe/Berlin:20241006T090000
DTEND;TZID=Europe/Berlin:20241006T110000
LOCATION:ZŠ ALBRECHTICE\, Školní 20 Albrechtice
SUMMARY:MS-U16M-KVA: Vlci NJ 'B'-Blue Ostrava 'B'
END:VEVENT
BEGIN:VEVENT
UID:65383032-3665-4631-a264-636361376638
DTSTAMP:20260422T164711Z
DESCRIPTION:4/7 Kojetín - Blue Ostrava 'B' 1:2 (-20\,21\,-9)
DTSTART;TZID=Europe/Berlin:20241006T133000
DTEND;TZID=Europe/Berlin:20241006T153000
LOCATION:ZŠ ALBRECHTICE\, Školní 20 Albrechtice
SUMMARY:MS-U16M-KVA: Kojetín-Blue Ostrava 'B'
END:VEVENT
BEGIN:VEVENT
UID:33616163-3561-4032-b537-353461656236
DTSTAMP:20260422T164711Z
DESCRIPTION:2/4 Blue Ostrava 'B' - Kojetín 0:2 (-20\,-17)
DTSTART;TZID=Europe/Berlin:20241110T103000
DTEND;TZID=Europe/Berlin:20241110T123000
LOCATION:Sportovní hala Palkovice\,  Palkovice20
SUMMARY:MS-U16M-T1A: Blue Ostrava 'B'-Kojetín
END:VEVENT
BEGIN:VEVENT
UID:33653262-3435-4661-b264-633065623730
DTSTAMP:20260422T164711Z
DESCRIPTION:3/5 Blue Ostrava 'B' - VS Ostrava 'A' 0:2 (-12\,-17)
DTSTART;TZID=Europe/Berlin:20241110T120000
DTEND;TZID=Europe/Berlin:20241110T140000
LOCATION:Sportovní hala Palkovice\,  Palkovice20
SUMMARY:MS-U16M-T1A: Blue Ostrava 'B'-VS Ostrava 'A'
END:VEVENT
BEGIN:VEVENT
UID:37306663-6664-4134-a534-646133646364
DTSTAMP:20260422T164711Z
DESCRIPTION:1/1 TJ S. Palkovice - Blue Ostrava 'B' 0:2 (-23\,-20)
DTSTART;TZID=Europe/Berlin:20241110T090000
DTEND;TZID=Europe/Berlin:20241110T110000
LOCATION:Sportovní hala Palkovice\,  Palkovice20
SUMMARY:MS-U16M-T1A: TJ S. Palkovice-Blue Ostrava 'B'
END:VEVENT
BEGIN:VEVENT
UID:64303262-6561-4165-b261-313930353531
DTSTAMP:20260422T164711Z
DESCRIPTION:4/8 VK Ostrava 'A' - Blue Ostrava 'B' 1:2 (22\,-21\,-11)
DTSTART;TZID=Europe/Berlin:20241110T133000
DTEND;TZID=Europe/Berlin:20241110T153000
LOCATION:Sportovní hala Palkovice\,  Palkovice20
SUMMARY:MS-U16M-T1A: VK Ostrava 'A'-Blue Ostrava 'B'
END:VEVENT
BEGIN:VEVENT
UID:35376132-3234-4361-a238-313032613937
DTSTAMP:20260422T164711Z
DESCRIPTION:1/2 Blue Ostrava 'B' - VS Ostrava 'B' 2:0 (3\,12)
DTSTART;TZID=Europe/Berlin:20241124T090000
DTEND;TZID=Europe/Berlin:20241124T110000
LOCATION:Sportovní hala Ostrava -Třebovice\, 5. května 5649 Ostrava - Třebo
 vice
SUMMARY:MS-U16M-T2A: Blue Ostrava 'B'-VS Ostrava 'B'
END:VEVENT
BEGIN:VEVENT
UID:64613435-6538-4934-a137-656536363663
DTSTAMP:20260422T164711Z
DESCRIPTION:3/5 Blue Ostrava 'B' - Kojetín 2:0 (15\,22)
DTSTART;TZID=Europe/Berlin:20241124T120000
DTEND;TZID=Europe/Berlin:20241124T140000
LOCATION:Sportovní hala Ostrava -Třebovice\, 5. května 5649 Ostrava - Třebo
 vice
SUMMARY:MS-U16M-T2A: Blue Ostrava 'B'-Kojetín
END:VEVENT
BEGIN:VEVENT
UID:61376366-3633-4566-a432-653965396363
DTSTAMP:20260422T164711Z
DESCRIPTION:2/3 Vlci NJ 'A' - Blue Ostrava 'B' 1:2 (-18\,24\,-10)
DTSTART;TZID=Europe/Berlin:20241124T103000
DTEND;TZID=Europe/Berlin:20241124T123000
LOCATION:Sportovní hala Ostrava -Třebovice\, 5. května 5649 Ostrava - Třebo
 vice
SUMMARY:MS-U16M-T2A: Vlci NJ 'A'-Blue Ostrava 'B'
END:VEVENT
BEGIN:VEVENT
UID:32383037-3862-4635-a161-353338626534
DTSTAMP:20260422T164711Z
DESCRIPTION:4/8 VS Ostrava 'A' - Blue Ostrava 'B' 2:0 (10\,14)
DTSTART;TZID=Europe/Berlin:20241124T133000
DTEND;TZID=Europe/Berlin:20241124T153000
LOCATION:Sportovní hala Ostrava -Třebovice\, 5. května 5649 Ostrava - Třebo
 vice
SUMMARY:MS-U16M-T2A: VS Ostrava 'A'-Blue Ostrava 'B'
END:VEVENT
BEGIN:VEVENT
UID:32643730-3063-4465-b635-363931366532
DTSTAMP:20260422T164711Z
DESCRIPTION:4/8 Blue Ostrava 'B' - Kojetín 0:2 (-20\,-21)
DTSTART;TZID=Europe/Berlin:20241215T133000
DTEND;TZID=Europe/Berlin:20241215T153000
LOCATION:Sportovní hala Palkovice\,  Palkovice20
SUMMARY:MS-U16M-T3A: Blue Ostrava 'B'-Kojetín
END:VEVENT
BEGIN:VEVENT
UID:65316238-3737-4334-a434-613532393331
DTSTAMP:20260422T164711Z
DESCRIPTION:5/9 Blue Ostrava 'B' - VK Ostrava 'A' 2:0 (11\,13)
DTSTART;TZID=Europe/Berlin:20241215T150000
DTEND;TZID=Europe/Berlin:20241215T170000
LOCATION:Sportovní hala Palkovice\,  Palkovice20
SUMMARY:MS-U16M-T3A: Blue Ostrava 'B'-VK Ostrava 'A'
END:VEVENT
BEGIN:VEVENT
UID:38613939-6166-4335-b861-656133313338
DTSTAMP:20260422T164711Z
DESCRIPTION:1/1 TJ S. Palkovice - Blue Ostrava 'B' 0:2 (-14\,-18)
DTSTART;TZID=Europe/Berlin:20241215T090000
DTEND;TZID=Europe/Berlin:20241215T110000
LOCATION:Sportovní hala Palkovice\,  Palkovice20
SUMMARY:MS-U16M-T3A: TJ S. Palkovice-Blue Ostrava 'B'
END:VEVENT
BEGIN:VEVENT
UID:34373231-6264-4233-b663-373034316464
DTSTAMP:20260422T164711Z
DESCRIPTION:2/4 VS Ostrava 'A' - Blue Ostrava 'B' 2:0 (12\,15)
DTSTART;TZID=Europe/Berlin:20241215T103000
DTEND;TZID=Europe/Berlin:20241215T123000
LOCATION:Sportovní hala Palkovice\,  Palkovice20
SUMMARY:MS-U16M-T3A: VS Ostrava 'A'-Blue Ostrava 'B'
END:VEVENT
BEGIN:VEVENT
UID:35656331-3338-4430-a337-643139356666
DTSTAMP:20260422T164711Z
DESCRIPTION:1/2 Blue Ostrava 'B' - Vlci NJ 'A' 2:0 (23\,14)\nZŠ Jugoslávská
  2906/23 Ostrava-Zábřeh
DTSTART;TZID=Europe/Berlin:20250112T090000
DTEND;TZID=Europe/Berlin:20250112T110000
LOCATION:SPŠ Stavební Ostrava\, Středoškolská 2992 Ostrava - Zábřeh
SUMMARY:MS-U16M-T4A: Blue Ostrava 'B'-Vlci NJ 'A'
END:VEVENT
BEGIN:VEVENT
UID:32636665-6665-4166-b461-323234346437
DTSTAMP:20260422T164711Z
DESCRIPTION:3/5 Blue Ostrava 'B' - Kojetín 1:2 (-19\,20\,-10)
DTSTART;TZID=Europe/Berlin:20250112T120000
DTEND;TZID=Europe/Berlin:20250112T140000
LOCATION:SPŠ Stavební Ostrava\, Středoškolská 2992 Ostrava - Zábřeh
SUMMARY:MS-U16M-T4A: Blue Ostrava 'B'-Kojetín
END:VEVENT
BEGIN:VEVENT
UID:37663330-3332-4532-a635-323439313936
DTSTAMP:20260422T164711Z
DESCRIPTION:2/4 Red Frýdlant n/O - Blue Ostrava 'B' 0:2 (-18\,-16)\nZŠ Jugo
 slávská 2906/23 Ostrava-Zábřeh
DTSTART;TZID=Europe/Berlin:20250112T103000
DTEND;TZID=Europe/Berlin:20250112T123000
LOCATION:SPŠ Stavební Ostrava\, Středoškolská 2992 Ostrava - Zábřeh
SUMMARY:MS-U16M-T4A: Red Frýdlant n/O-Blue Ostrava 'B'
END:VEVENT
BEGIN:VEVENT
UID:34623236-3865-4237-a635-343838353737
DTSTAMP:20260422T164711Z
DESCRIPTION:4/7 VS Ostrava 'A' - Blue Ostrava 'B' 2:0 (24\,22)
DTSTART;TZID=Europe/Berlin:20250112T133000
DTEND;TZID=Europe/Berlin:20250112T153000
LOCATION:SPŠ Stavební Ostrava\, Středoškolská 2992 Ostrava - Zábřeh
SUMMARY:MS-U16M-T4A: VS Ostrava 'A'-Blue Ostrava 'B'
END:VEVENT
BEGIN:VEVENT
UID:33346137-6532-4465-b562-653535616662
DTSTAMP:20260422T164711Z
DESCRIPTION:1/2 Blue Ostrava 'B' - Red Frýdlant n/O 2:0 (12\,14)
DTSTART;TZID=Europe/Berlin:20250202T090000
DTEND;TZID=Europe/Berlin:20250202T110000
LOCATION:Sportovní hala Palkovice\,  Palkovice20
SUMMARY:MS-U16M-T5A: Blue Ostrava 'B'-Red Frýdlant n/O
END:VEVENT
BEGIN:VEVENT
UID:62656432-3832-4364-a161-373539613137
DTSTAMP:20260422T164711Z
DESCRIPTION:3/5 Blue Ostrava 'B' - Kojetín 2:X
DTSTART;TZID=Europe/Berlin:20250202T120000
DTEND;TZID=Europe/Berlin:20250202T140000
LOCATION:Sportovní hala Palkovice\,  Palkovice20
SUMMARY:MS-U16M-T5A: Blue Ostrava 'B'-Kojetín
END:VEVENT
BEGIN:VEVENT
UID:30666631-3137-4035-b361-653936663538
DTSTAMP:20260422T164711Z
DESCRIPTION:2/3 TJ S. Palkovice - Blue Ostrava 'B' 2:0 (8\,16)
DTSTART;TZID=Europe/Berlin:20250202T103000
DTEND;TZID=Europe/Berlin:20250202T123000
LOCATION:Sportovní hala Palkovice\,  Palkovice20
SUMMARY:MS-U16M-T5A: TJ S. Palkovice-Blue Ostrava 'B'
END:VEVENT
BEGIN:VEVENT
UID:65623838-6233-4336-b335-646538333666
DTSTAMP:20260422T164711Z
DESCRIPTION:4/8 VS Ostrava 'A' - Blue Ostrava 'B' 2:0 (15\,9)
DTSTART;TZID=Europe/Berlin:20250202T120000
DTEND;TZID=Europe/Berlin:20250202T140000
LOCATION:Sportovní hala Palkovice\,  Palkovice20
SUMMARY:MS-U16M-T5A: VS Ostrava 'A'-Blue Ostrava 'B'
END:VEVENT
BEGIN:VEVENT
UID:33333234-3135-4861-b533-653438363230
DTSTAMP:20260422T164711Z
DESCRIPTION:1/2 Blue Ostrava 'B' - Red Frýdlant n/O 2:0 (16\,20)
DTSTART;TZID=Europe/Berlin:20250223T090000
DTEND;TZID=Europe/Berlin:20250223T110000
LOCATION:Sportovní hala Palkovice\,  Palkovice20
SUMMARY:MS-U16M-T6A: Blue Ostrava 'B'-Red Frýdlant n/O
END:VEVENT
BEGIN:VEVENT
UID:34306530-6131-4030-a665-616238333035
DTSTAMP:20260422T164711Z
DESCRIPTION:3/5 Blue Ostrava 'B' - VS Ostrava 'A' 0:2 (-9\,-13)
DTSTART;TZID=Europe/Berlin:20250223T120000
DTEND;TZID=Europe/Berlin:20250223T140000
LOCATION:Sportovní hala Palkovice\,  Palkovice20
SUMMARY:MS-U16M-T6A: Blue Ostrava 'B'-VS Ostrava 'A'
END:VEVENT
BEGIN:VEVENT
UID:39326238-3963-4936-b332-643637396531
DTSTAMP:20260422T164711Z
DESCRIPTION:2/3 VS Ostrava 'B' - Blue Ostrava 'B' 0:2 (-10\,-18)
DTSTART;TZID=Europe/Berlin:20250223T103000
DTEND;TZID=Europe/Berlin:20250223T123000
LOCATION:Sportovní hala Palkovice\,  Palkovice20
SUMMARY:MS-U16M-T6A: VS Ostrava 'B'-Blue Ostrava 'B'
END:VEVENT
BEGIN:VEVENT
UID:36326430-3739-4463-b465-643331666635
DTSTAMP:20260422T164711Z
DESCRIPTION:4/8 TJ S. Palkovice - Blue Ostrava 'B' 2:0 (19\,21)
DTSTART;TZID=Europe/Berlin:20250223T133000
DTEND;TZID=Europe/Berlin:20250223T153000
LOCATION:Sportovní hala Palkovice\,  Palkovice20
SUMMARY:MS-U16M-T6A: TJ S. Palkovice-Blue Ostrava 'B'
END:VEVENT
BEGIN:VEVENT
UID:65383933-6565-4466-b935-343336666361
DTSTAMP:20260422T164711Z
DESCRIPTION:1/2 Blue Ostrava 'B' - VS Ostrava 'B' 1:2 (-22\,20\,-10)
DTSTART;TZID=Europe/Berlin:20250330T090000
DTEND;TZID=Europe/Berlin:20250330T110000
LOCATION:Sportovní hala Palkovice\,  Palkovice20
SUMMARY:MS-U16M-T7A: Blue Ostrava 'B'-VS Ostrava 'B'
END:VEVENT
BEGIN:VEVENT
UID:34393431-3732-4766-a162-633437633236
DTSTAMP:20260422T164711Z
DESCRIPTION:3/5 Blue Ostrava 'B' - Kojetín 2:0 (23\,17)
DTSTART;TZID=Europe/Berlin:20250330T120000
DTEND;TZID=Europe/Berlin:20250330T140000
LOCATION:Sportovní hala Palkovice\,  Palkovice20
SUMMARY:MS-U16M-T7A: Blue Ostrava 'B'-Kojetín
END:VEVENT
BEGIN:VEVENT
UID:63383766-3839-4335-b631-646633346365
DTSTAMP:20260422T164711Z
DESCRIPTION:2/3 VS Ostrava 'A' - Blue Ostrava 'B' 2:0 (25\,12)
DTSTART;TZID=Europe/Berlin:20250330T103000
DTEND;TZID=Europe/Berlin:20250330T123000
LOCATION:Sportovní hala Palkovice\,  Palkovice20
SUMMARY:MS-U16M-T7A: VS Ostrava 'A'-Blue Ostrava 'B'
END:VEVENT
BEGIN:VEVENT
UID:32643264-3235-4330-a165-646432323136
DTSTAMP:20260422T164711Z
DESCRIPTION:4/8 TJ S. Palkovice - Blue Ostrava 'B' 0:2 (-19\,-12)
DTSTART;TZID=Europe/Berlin:20250330T133000
DTEND;TZID=Europe/Berlin:20250330T153000
LOCATION:Sportovní hala Palkovice\,  Palkovice20
SUMMARY:MS-U16M-T7A: TJ S. Palkovice-Blue Ostrava 'B'
END:VEVENT
BEGIN:VEVENT
UID:62323433-3337-4561-b230-316266643937
DTSTAMP:20260422T164711Z
DESCRIPTION:6/16 Blue Ostrava 'B' - Havlíčkův Brod 2:0 (11\,9)
DTSTART;TZID=Europe/Berlin:20250503T173000
DTEND;TZID=Europe/Berlin:20250503T193000
LOCATION:Sportovní hala MG a ZŠ Jirkov\, Krušnohorská 1675 Jirkov
SUMMARY:MCR-U16M-B: Blue Ostrava 'B'-Havlíčkův Brod
END:VEVENT
BEGIN:VEVENT
UID:31383937-3862-4235-b538-316364303232
DTSTAMP:20260422T164711Z
DESCRIPTION:9/23 Blue Ostrava 'B' - VK Choceň 2:0 (19\,19)
DTSTART;TZID=Europe/Berlin:20250504T121500
DTEND;TZID=Europe/Berlin:20250504T141500
LOCATION:Sportovní hala MG a ZŠ Jirkov\, Krušnohorská 1675 Jirkov
SUMMARY:MCR-U16M-B: Blue Ostrava 'B'-VK Choceň
END:VEVENT
BEGIN:VEVENT
UID:32313235-6562-4530-a664-643937653537
DTSTAMP:20260422T164711Z
DESCRIPTION:2/4 Jirkov - Blue Ostrava 'B' 2:1 (-26\,20\,14)
DTSTART;TZID=Europe/Berlin:20250503T113000
DTEND;TZID=Europe/Berlin:20250503T133000
LOCATION:Sportovní hala MG a ZŠ Jirkov\, Krušnohorská 1675 Jirkov
SUMMARY:MCR-U16M-B: Jirkov-Blue Ostrava 'B'
END:VEVENT
BEGIN:VEVENT
UID:62326662-6562-4038-b663-316536646537
DTSTAMP:20260422T164711Z
DESCRIPTION:3/7 Prosek A - Blue Ostrava 'B' 2:0 (18\,11)
DTSTART;TZID=Europe/Berlin:20250503T133000
DTEND;TZID=Europe/Berlin:20250503T153000
LOCATION:Sportovní hala MG a ZŠ Jirkov\, Krušnohorská 1675 Jirkov
SUMMARY:MCR-U16M-B: Prosek A-Blue Ostrava 'B'
END:VEVENT
BEGIN:VEVENT
UID:33383031-6463-4964-a534-313866383961
DTSTAMP:20260422T164711Z
DESCRIPTION:5/13 Sokolov - Blue Ostrava 'B' 0:2 (-7\,-16)
DTSTART;TZID=Europe/Berlin:20250503T163000
DTEND;TZID=Europe/Berlin:20250503T183000
LOCATION:Sportovní hala MG a ZŠ Jirkov\, Krušnohorská 1675 Jirkov
SUMMARY:MCR-U16M-B: Sokolov-Blue Ostrava 'B'
END:VEVENT
BEGIN:VEVENT
UID:63323138-3764-4932-a332-626333616366
DTSTAMP:20260422T164711Z
DESCRIPTION:8/21 Kolín - Blue Ostrava 'B' 2:0 (17\,21)
DTSTART;TZID=Europe/Berlin:20250504T101500
DTEND;TZID=Europe/Berlin:20250504T121500
LOCATION:Sportovní hala MG a ZŠ Jirkov\, Krušnohorská 1675 Jirkov
SUMMARY:MCR-U16M-B: Kolín-Blue Ostrava 'B'
END:VEVENT
BEGIN:VEVENT
UID:63316631-6434-4666-a163-626135396431
DTSTAMP:20260422T164711Z
DESCRIPTION:10/27 Klatovy - Blue Ostrava 'B' 0:2 (-20\,-16)
DTSTART;TZID=Europe/Berlin:20250504T133000
DTEND;TZID=Europe/Berlin:20250504T153000
LOCATION:Sportovní hala MG a ZŠ Jirkov\, Krušnohorská 1675 Jirkov
SUMMARY:MCR-U16M-B: Klatovy-Blue Ostrava 'B'
END:VEVENT
BEGIN:VEVENT
UID:61636133-3566-4834-b462-316537643538
DTSTAMP:20260422T164711Z
DESCRIPTION:2/3 Blue Ostrava 'B' - České Budějovice A 0:2 (-9\,-15)
DTSTART;TZID=Europe/Berlin:20250530T154500
DTEND;TZID=Europe/Berlin:20250530T174500
LOCATION:TJ Slavia Hradec Králové\, Víta Nejedlého 1216 Hradec Králové
SUMMARY:MCR-U16M-FD: Blue Ostrava 'B'-České Budějovice A
END:VEVENT
BEGIN:VEVENT
UID:35313638-3338-4231-b232-386135336165
DTSTAMP:20260422T164711Z
DESCRIPTION:1/1 Lvi Praha A - Blue Ostrava 'B' 2:0 (21\,20)
DTSTART;TZID=Europe/Berlin:20250530T130500
DTEND;TZID=Europe/Berlin:20250530T150500
LOCATION:TJ Slavia Hradec Králové\, Víta Nejedlého 1216 Hradec Králové
SUMMARY:MCR-U16M-FD: Lvi Praha A-Blue Ostrava 'B'
END:VEVENT
BEGIN:VEVENT
UID:61643937-3832-4836-b361-333335363434
DTSTAMP:20260422T164711Z
DESCRIPTION:3/5 Sokol Mn. Hradiště - Blue Ostrava 'B' 2:0 (10\,17)
DTSTART;TZID=Europe/Berlin:20250530T182500
DTEND;TZID=Europe/Berlin:20250530T202500
LOCATION:TJ Slavia Hradec Králové\, Víta Nejedlého 1216 Hradec Králové
SUMMARY:MCR-U16M-FD: Sokol Mn. Hradiště-Blue Ostrava 'B'
END:VEVENT
BEGIN:VEVENT
UID:37666162-6633-4162-a433-303362373464
DTSTAMP:20260422T164711Z
DESCRIPTION:2/4 Blue Ostrava 'B' - Orion A 2:0 (16\,25)\nD4 - C4
DTSTART;TZID=Europe/Berlin:20250531T160000
DTEND;TZID=Europe/Berlin:20250531T180000
LOCATION:TJ Slavia Hradec Králové\, Víta Nejedlého 1216 Hradec Králové
SUMMARY:MCR-U16M-FG: Blue Ostrava 'B'-Orion A
END:VEVENT
BEGIN:VEVENT
UID:39666636-3663-4833-b961-646434353363
DTSTAMP:20260422T164711Z
DESCRIPTION:1/2 Zlín - Blue Ostrava 'B' 2:0 (16\,22)\nB4 - D4
DTSTART;TZID=Europe/Berlin:20250531T113000
DTEND;TZID=Europe/Berlin:20250531T133000
LOCATION:TJ Slavia Hradec Králové\, Víta Nejedlého 1216 Hradec Králové
SUMMARY:MCR-U16M-FG: Zlín-Blue Ostrava 'B'
END:VEVENT
BEGIN:VEVENT
UID:30323537-3631-4766-b635-393763353935
DTSTAMP:20260422T164711Z
DESCRIPTION:3/6 Hradec Králové - Blue Ostrava 'B' 0:2 (-20\,-20)\nA4 - D4
DTSTART;TZID=Europe/Berlin:20250601T110500
DTEND;TZID=Europe/Berlin:20250601T130500
LOCATION:TJ Slavia Hradec Králové\, Víta Nejedlého 1216 Hradec Králové
SUMMARY:MCR-U16M-FG: Hradec Králové-Blue Ostrava 'B'
END:VEVENT
END:VCALENDAR
