BEGIN:VCALENDAR
VERSION:2.0
PRODID:-//TJ ODRY, z.s.86834//NONSGML kigkonsult.se iCalcreator 2.41.80//
CALSCALE:GREGORIAN
UID:65393862-6133-4763-b262-393036393933
BEGIN:VEVENT
UID:66373935-3439-4139-b734-613538613964
DTSTAMP:20260421T230228Z
DESCRIPTION:2/4 TJ ODRY - N.Jičín 'B' 0:2 (-4\,-10)
DTSTART;TZID=Europe/Berlin:20240929T103000
DTEND;TZID=Europe/Berlin:20240929T123000
LOCATION:Hala ZŠ Komenského\, Komenského 701 Bílovec
SUMMARY:MS-U16Z-KVC: TJ ODRY-N.Jičín 'B'
END:VEVENT
BEGIN:VEVENT
UID:32666662-6539-4663-a239-336430666262
DTSTAMP:20260421T230228Z
DESCRIPTION:6/10 TJ ODRY - Hlučín 'B' 0:2 (-18\,-10)
DTSTART;TZID=Europe/Berlin:20240929T163000
DTEND;TZID=Europe/Berlin:20240929T183000
LOCATION:Hala ZŠ Komenského\, Komenského 701 Bílovec
SUMMARY:MS-U16Z-KVC: TJ ODRY-Hlučín 'B'
END:VEVENT
BEGIN:VEVENT
UID:33616563-6336-4630-b830-643332656563
DTSTAMP:20260421T230228Z
DESCRIPTION:1/1 Bílovec 'A' - TJ ODRY 2:0 (9\,6)
DTSTART;TZID=Europe/Berlin:20240929T090000
DTEND;TZID=Europe/Berlin:20240929T110000
LOCATION:Hala ZŠ Komenského\, Komenského 701 Bílovec
SUMMARY:MS-U16Z-KVC: Bílovec 'A'-TJ ODRY
END:VEVENT
BEGIN:VEVENT
UID:32386638-6237-4330-b861-366361383833
DTSTAMP:20260421T230228Z
DESCRIPTION:4/7 Kopřivnice - TJ ODRY 2:0 (8\,3)
DTSTART;TZID=Europe/Berlin:20240929T133000
DTEND;TZID=Europe/Berlin:20240929T153000
LOCATION:Hala ZŠ Komenského\, Komenského 701 Bílovec
SUMMARY:MS-U16Z-KVC: Kopřivnice-TJ ODRY
END:VEVENT
BEGIN:VEVENT
UID:37303536-6364-4531-a430-323630666363
DTSTAMP:20260421T230228Z
DESCRIPTION:7/13 Frenštát p.R. - TJ ODRY 2:0 (13\,11)
DTSTART;TZID=Europe/Berlin:20240929T180000
DTEND;TZID=Europe/Berlin:20240929T200000
LOCATION:Hala ZŠ Komenského\, Komenského 701 Bílovec
SUMMARY:MS-U16Z-KVC: Frenštát p.R.-TJ ODRY
END:VEVENT
BEGIN:VEVENT
UID:30363263-3830-4134-b335-316262343335
DTSTAMP:20260421T230228Z
DESCRIPTION:1/1 TJ ODRY - HS Opava 'B' 2:1 (-13\,16\,10)
DTSTART;TZID=Europe/Berlin:20241020T090000
DTEND;TZID=Europe/Berlin:20241020T110000
LOCATION:Tělocvična\, Pohořská 1010 Odry
SUMMARY:MS-U16Z-T1G: TJ ODRY-HS Opava 'B'
END:VEVENT
BEGIN:VEVENT
UID:33643431-3364-4365-a430-626533333634
DTSTAMP:20260421T230228Z
DESCRIPTION:3/3 TJ ODRY - TJ S. Bohumín 1:2 (19\,-22\,-9)
DTSTART;TZID=Europe/Berlin:20241020T120000
DTEND;TZID=Europe/Berlin:20241020T140000
LOCATION:Tělocvična\, Pohořská 1010 Odry
SUMMARY:MS-U16Z-T1G: TJ ODRY-TJ S. Bohumín
END:VEVENT
BEGIN:VEVENT
UID:66623138-3436-4664-b834-633662323166
DTSTAMP:20260421T230228Z
DESCRIPTION:6/6 TJ ODRY - TJ S. St. Bělá 0:2 (-15\,-11)
DTSTART;TZID=Europe/Berlin:20241020T163000
DTEND;TZID=Europe/Berlin:20241020T183000
LOCATION:Tělocvična\, Pohořská 1010 Odry
SUMMARY:MS-U16Z-T1G: TJ ODRY-TJ S. St. Bělá
END:VEVENT
BEGIN:VEVENT
UID:63316531-3263-4164-a465-323461393331
DTSTAMP:20260421T230228Z
DESCRIPTION:5/5 TJ ODRY - HS Opava 'B' 0:2 (-12\,-14)
DTSTART;TZID=Europe/Berlin:20241110T150000
DTEND;TZID=Europe/Berlin:20241110T170000
LOCATION:Hala ABC\, Purkyňova 116 Nový Jičín
SUMMARY:MS-U16Z-T2G: TJ ODRY-HS Opava 'B'
END:VEVENT
BEGIN:VEVENT
UID:33363762-6162-4538-b663-646562343934
DTSTAMP:20260421T230228Z
DESCRIPTION:1/1 N.Jičín 'C' - TJ ODRY 2:0 (20\,19)
DTSTART;TZID=Europe/Berlin:20241110T090000
DTEND;TZID=Europe/Berlin:20241110T110000
LOCATION:Hala ABC\, Purkyňova 116 Nový Jičín
SUMMARY:MS-U16Z-T2G: N.Jičín 'C'-TJ ODRY
END:VEVENT
BEGIN:VEVENT
UID:61303532-3439-4761-a166-663132656230
DTSTAMP:20260421T230228Z
DESCRIPTION:3/3 TJ Sokol F-M 'C' - TJ ODRY 2:1 (-24\,17\,8)
DTSTART;TZID=Europe/Berlin:20241110T120000
DTEND;TZID=Europe/Berlin:20241110T140000
LOCATION:Hala ABC\, Purkyňova 116 Nový Jičín
SUMMARY:MS-U16Z-T2G: TJ Sokol F-M 'C'-TJ ODRY
END:VEVENT
BEGIN:VEVENT
UID:32643131-3933-4538-a262-393536396565
DTSTAMP:20260421T230228Z
DESCRIPTION:1/1 TJ S. St. Bělá - TJ ODRY 2:0 (5\,20)
DTSTART;TZID=Europe/Berlin:20241201T090000
DTEND;TZID=Europe/Berlin:20241201T110000
LOCATION:ZŠ Kylešovice\, U Hřiště 1242 Opava - Kylešovice
SUMMARY:MS-U16Z-T3G: TJ S. St. Bělá-TJ ODRY
END:VEVENT
BEGIN:VEVENT
UID:33336537-3233-4638-b739-333432306634
DTSTAMP:20260421T230228Z
DESCRIPTION:2/3 TJ S. Bohumín - TJ ODRY 0:2 (-19\,-12)
DTSTART;TZID=Europe/Berlin:20241201T103000
DTEND;TZID=Europe/Berlin:20241201T123000
LOCATION:ZŠ Kylešovice\, U Hřiště 1242 Opava - Kylešovice
SUMMARY:MS-U16Z-T3G: TJ S. Bohumín-TJ ODRY
END:VEVENT
BEGIN:VEVENT
UID:31376230-6339-4434-b431-333631653336
DTSTAMP:20260421T230228Z
DESCRIPTION:3/5 HS Opava 'B' - TJ ODRY 2:0 (8\,14)
DTSTART;TZID=Europe/Berlin:20241201T120000
DTEND;TZID=Europe/Berlin:20241201T140000
LOCATION:ZŠ Kylešovice\, U Hřiště 1242 Opava - Kylešovice
SUMMARY:MS-U16Z-T3G: HS Opava 'B'-TJ ODRY
END:VEVENT
BEGIN:VEVENT
UID:38646630-3138-4631-b463-346431626666
DTSTAMP:20260421T230228Z
DESCRIPTION:6/6 TJ ODRY - TJ S. Bohumín 2:0 (16\,20)
DTSTART;TZID=Europe/Berlin:20250112T163000
DTEND;TZID=Europe/Berlin:20250112T183000
LOCATION:Tělocvična\, Pohořská 1010 Odry
SUMMARY:MS-U16Z-T4G: TJ ODRY-TJ S. Bohumín
END:VEVENT
BEGIN:VEVENT
UID:35633565-6135-4737-a635-623965623737
DTSTAMP:20260421T230228Z
DESCRIPTION:1/1 N.Jičín 'C' - TJ ODRY 2:0 (21\,19)
DTSTART;TZID=Europe/Berlin:20250112T090000
DTEND;TZID=Europe/Berlin:20250112T110000
LOCATION:Tělocvična\, Pohořská 1010 Odry
SUMMARY:MS-U16Z-T4G: N.Jičín 'C'-TJ ODRY
END:VEVENT
BEGIN:VEVENT
UID:34336365-6138-4634-b436-623832336461
DTSTAMP:20260421T230228Z
DESCRIPTION:4/4 TJ Sokol F-M 'C' - TJ ODRY 2:0 (17\,11)
DTSTART;TZID=Europe/Berlin:20250112T133000
DTEND;TZID=Europe/Berlin:20250112T153000
LOCATION:Tělocvična\, Pohořská 1010 Odry
SUMMARY:MS-U16Z-T4G: TJ Sokol F-M 'C'-TJ ODRY
END:VEVENT
BEGIN:VEVENT
UID:35363937-3565-4636-a361-626334363065
DTSTAMP:20260421T230228Z
DESCRIPTION:3/5 TJ ODRY - TJ S. Bohumín 2:0 (13\,22)
DTSTART;TZID=Europe/Berlin:20250209T120000
DTEND;TZID=Europe/Berlin:20250209T140000
LOCATION:ZŠ Jiřího z Poděbrad Frýdek-Místek\, Jiřího z Poděbrad 3109 Frýdek
 -Místek - Frýdek
SUMMARY:MS-U16Z-T5G: TJ ODRY-TJ S. Bohumín
END:VEVENT
BEGIN:VEVENT
UID:31373462-3834-4131-b961-356632613635
DTSTAMP:20260421T230228Z
DESCRIPTION:1/2 TJ Sokol F-M 'C' - TJ ODRY 2:0 (14\,28)
DTSTART;TZID=Europe/Berlin:20250209T090000
DTEND;TZID=Europe/Berlin:20250209T110000
LOCATION:ZŠ Jiřího z Poděbrad Frýdek-Místek\, Jiřího z Poděbrad 3109 Frýdek
 -Místek - Frýdek
SUMMARY:MS-U16Z-T5G: TJ Sokol F-M 'C'-TJ ODRY
END:VEVENT
BEGIN:VEVENT
UID:31386336-3634-4766-a661-376138653563
DTSTAMP:20260421T230228Z
DESCRIPTION:2/4 HS Opava 'B' - TJ ODRY 1:2 (-16\,24\,-12)
DTSTART;TZID=Europe/Berlin:20250209T103000
DTEND;TZID=Europe/Berlin:20250209T123000
LOCATION:ZŠ Jiřího z Poděbrad Frýdek-Místek\, Jiřího z Poděbrad 3109 Frýdek
 -Místek - Frýdek
SUMMARY:MS-U16Z-T5G: HS Opava 'B'-TJ ODRY
END:VEVENT
BEGIN:VEVENT
UID:65633965-6333-4932-a232-393761383232
DTSTAMP:20260421T230228Z
DESCRIPTION:2/2 TJ ODRY - HS Opava 'B' 2:0 (21\,22)
DTSTART;TZID=Europe/Berlin:20250302T103000
DTEND;TZID=Europe/Berlin:20250302T123000
LOCATION:ZŠ ČSA Bohumín\, Čs. armády 1026 Bohumín - Nový Bohumín
SUMMARY:MS-U16Z-T6G: TJ ODRY-HS Opava 'B'
END:VEVENT
BEGIN:VEVENT
UID:37636230-3036-4531-b331-343938323964
DTSTAMP:20260421T230228Z
DESCRIPTION:4/4 TJ ODRY - TJ S. Bohumín 2:0 (16\,11)
DTSTART;TZID=Europe/Berlin:20250302T133000
DTEND;TZID=Europe/Berlin:20250302T153000
LOCATION:ZŠ ČSA Bohumín\, Čs. armády 1026 Bohumín - Nový Bohumín
SUMMARY:MS-U16Z-T6G: TJ ODRY-TJ S. Bohumín
END:VEVENT
BEGIN:VEVENT
UID:61353234-3832-4962-a131-613032663536
DTSTAMP:20260421T230228Z
DESCRIPTION:5/5 Polanka 'B' - TJ ODRY 2:0 (14\,17)
DTSTART;TZID=Europe/Berlin:20250302T150000
DTEND;TZID=Europe/Berlin:20250302T170000
LOCATION:ZŠ ČSA Bohumín\, Čs. armády 1026 Bohumín - Nový Bohumín
SUMMARY:MS-U16Z-T6G: Polanka 'B'-TJ ODRY
END:VEVENT
BEGIN:VEVENT
UID:36303766-3636-4636-a337-323463613034
DTSTAMP:20260421T230228Z
DESCRIPTION:1/1 TJ ODRY - HS Opava 'B' 0:2 (-15\,-7)
DTSTART;TZID=Europe/Berlin:20250323T090000
DTEND;TZID=Europe/Berlin:20250323T110000
LOCATION:ZŠ Jiřího z Poděbrad Frýdek-Místek\, Jiřího z Poděbrad 3109 Frýdek
 -Místek - Frýdek
SUMMARY:MS-U16Z-T7G: TJ ODRY-HS Opava 'B'
END:VEVENT
BEGIN:VEVENT
UID:62393635-3834-4661-a661-336562663863
DTSTAMP:20260421T230228Z
DESCRIPTION:2/4 TJ ODRY - TJ S. Bohumín 2:0 (17\,17)
DTSTART;TZID=Europe/Berlin:20250323T103000
DTEND;TZID=Europe/Berlin:20250323T123000
LOCATION:ZŠ Jiřího z Poděbrad Frýdek-Místek\, Jiřího z Poděbrad 3109 Frýdek
 -Místek - Frýdek
SUMMARY:MS-U16Z-T7G: TJ ODRY-TJ S. Bohumín
END:VEVENT
BEGIN:VEVENT
UID:32613237-3463-4937-a230-313638393766
DTSTAMP:20260421T230228Z
DESCRIPTION:3/5 TJ Sokol F-M 'C' - TJ ODRY 2:0 (22\,13)
DTSTART;TZID=Europe/Berlin:20250323T120000
DTEND;TZID=Europe/Berlin:20250323T140000
LOCATION:ZŠ Jiřího z Poděbrad Frýdek-Místek\, Jiřího z Poděbrad 3109 Frýdek
 -Místek - Frýdek
SUMMARY:MS-U16Z-T7G: TJ Sokol F-M 'C'-TJ ODRY
END:VEVENT
END:VCALENDAR
