BEGIN:VCALENDAR
VERSION:2.0
PRODID:-//TJ Frenštát pod Radhoštěm, spolek86835//NONSGML kigkonsult.se iCalcreator 2.41.80//
CALSCALE:GREGORIAN
UID:39376263-6630-4263-b364-323666343936
BEGIN:VEVENT
UID:33373030-3139-4632-a132-353332623162
DTSTAMP:20260421T230302Z
DESCRIPTION:1/2 Frenštát p.R. - N.Jičín 'B' 0:2 (-16\,-11)
DTSTART;TZID=Europe/Berlin:20240929T090000
DTEND;TZID=Europe/Berlin:20240929T110000
LOCATION:Hala ZŠ Komenského\, Komenského 701 Bílovec
SUMMARY:MS-U16Z-KVC: Frenštát p.R.-N.Jičín 'B'
END:VEVENT
BEGIN:VEVENT
UID:64393939-3932-4535-a336-663239396463
DTSTAMP:20260421T230302Z
DESCRIPTION:4/8 Frenštát p.R. - Bílovec 'A' 0:2 (-7\,-12)
DTSTART;TZID=Europe/Berlin:20240929T133000
DTEND;TZID=Europe/Berlin:20240929T153000
LOCATION:Hala ZŠ Komenského\, Komenského 701 Bílovec
SUMMARY:MS-U16Z-KVC: Frenštát p.R.-Bílovec 'A'
END:VEVENT
BEGIN:VEVENT
UID:36366431-3233-4435-b736-353337343936
DTSTAMP:20260421T230302Z
DESCRIPTION:7/13 Frenštát p.R. - TJ ODRY 2:0 (13\,11)
DTSTART;TZID=Europe/Berlin:20240929T180000
DTEND;TZID=Europe/Berlin:20240929T200000
LOCATION:Hala ZŠ Komenského\, Komenského 701 Bílovec
SUMMARY:MS-U16Z-KVC: Frenštát p.R.-TJ ODRY
END:VEVENT
BEGIN:VEVENT
UID:64316337-3233-4237-b734-643135363835
DTSTAMP:20260421T230302Z
DESCRIPTION:3/5 Hlučín 'B' - Frenštát p.R. 0:2 (-14\,-16)
DTSTART;TZID=Europe/Berlin:20240929T120000
DTEND;TZID=Europe/Berlin:20240929T140000
LOCATION:Hala ZŠ Komenského\, Komenského 701 Bílovec
SUMMARY:MS-U16Z-KVC: Hlučín 'B'-Frenštát p.R.
END:VEVENT
BEGIN:VEVENT
UID:36613862-6630-4862-b337-326433393465
DTSTAMP:20260421T230302Z
DESCRIPTION:6/11 Kopřivnice - Frenštát p.R. 2:1 (-23\,8\,7)
DTSTART;TZID=Europe/Berlin:20240929T163000
DTEND;TZID=Europe/Berlin:20240929T183000
LOCATION:Hala ZŠ Komenského\, Komenského 701 Bílovec
SUMMARY:MS-U16Z-KVC: Kopřivnice-Frenštát p.R.
END:VEVENT
BEGIN:VEVENT
UID:33316133-3432-4362-a432-316566396362
DTSTAMP:20260421T230302Z
DESCRIPTION:3/6 Frenštát p.R. - Polanka 'C' 2:0 (22\,18)
DTSTART;TZID=Europe/Berlin:20241020T120000
DTEND;TZID=Europe/Berlin:20241020T140000
LOCATION:ZŠ K.Dvořáčka\, Karla Dvořáčka 1230 Orlová - Lutyně
SUMMARY:MS-U16Z-T1D: Frenštát p.R.-Polanka 'C'
END:VEVENT
BEGIN:VEVENT
UID:39626266-3466-4631-b661-343631633630
DTSTAMP:20260421T230302Z
DESCRIPTION:5/9 Frenštát p.R. - Ostrava 'B' 2:0 (11\,19)
DTSTART;TZID=Europe/Berlin:20241020T150000
DTEND;TZID=Europe/Berlin:20241020T170000
LOCATION:ZŠ K.Dvořáčka\, Karla Dvořáčka 1230 Orlová - Lutyně
SUMMARY:MS-U16Z-T1D: Frenštát p.R.-Ostrava 'B'
END:VEVENT
BEGIN:VEVENT
UID:65393632-6163-4261-a433-663265306539
DTSTAMP:20260421T230302Z
DESCRIPTION:2/3 Orlová - Frenštát p.R. 2:1 (23\,-26\,14)
DTSTART;TZID=Europe/Berlin:20241020T103000
DTEND;TZID=Europe/Berlin:20241020T123000
LOCATION:ZŠ K.Dvořáčka\, Karla Dvořáčka 1230 Orlová - Lutyně
SUMMARY:MS-U16Z-T1D: Orlová-Frenštát p.R.
END:VEVENT
BEGIN:VEVENT
UID:31303338-6265-4531-b138-356535316132
DTSTAMP:20260421T230302Z
DESCRIPTION:4/8 Ostrava  'C' - Frenštát p.R. 0:2 (-23\,-7)
DTSTART;TZID=Europe/Berlin:20241020T133000
DTEND;TZID=Europe/Berlin:20241020T153000
LOCATION:ZŠ K.Dvořáčka\, Karla Dvořáčka 1230 Orlová - Lutyně
SUMMARY:MS-U16Z-T1D: Ostrava  'C'-Frenštát p.R.
END:VEVENT
BEGIN:VEVENT
UID:65336439-6535-4633-a665-323266633566
DTSTAMP:20260421T230302Z
DESCRIPTION:2/4 Frenštát p.R. - Orlová 1:2 (18\,-23\,-9)
DTSTART;TZID=Europe/Berlin:20241110T103000
DTEND;TZID=Europe/Berlin:20241110T123000
LOCATION:SH GaSPŠEI Frenštát\, Křižíkova 2204 Frenštát pod Radhoštěm
SUMMARY:MS-U16Z-T2C: Frenštát p.R.-Orlová
END:VEVENT
BEGIN:VEVENT
UID:62306464-3139-4935-b430-663535653237
DTSTAMP:20260421T230302Z
DESCRIPTION:4/7 Frenštát p.R. - Polanka 'A' 1:2 (14\,-11\,-9)
DTSTART;TZID=Europe/Berlin:20241110T133000
DTEND;TZID=Europe/Berlin:20241110T153000
LOCATION:SH GaSPŠEI Frenštát\, Křižíkova 2204 Frenštát pod Radhoštěm
SUMMARY:MS-U16Z-T2C: Frenštát p.R.-Polanka 'A'
END:VEVENT
BEGIN:VEVENT
UID:35323266-3730-4234-b835-636132313734
DTSTAMP:20260421T230302Z
DESCRIPTION:1/2 N.Jičín 'B' - Frenštát p.R. 2:1 (20\,-20\,12)
DTSTART;TZID=Europe/Berlin:20241110T090000
DTEND;TZID=Europe/Berlin:20241110T110000
LOCATION:SH GaSPŠEI Frenštát\, Křižíkova 2204 Frenštát pod Radhoštěm
SUMMARY:MS-U16Z-T2C: N.Jičín 'B'-Frenštát p.R.
END:VEVENT
BEGIN:VEVENT
UID:61303164-6361-4539-a463-326437633939
DTSTAMP:20260421T230302Z
DESCRIPTION:5/9 N.Jičín 'A' - Frenštát p.R. 2:0 (18\,19)
DTSTART;TZID=Europe/Berlin:20241110T150000
DTEND;TZID=Europe/Berlin:20241110T170000
LOCATION:SH GaSPŠEI Frenštát\, Křižíkova 2204 Frenštát pod Radhoštěm
SUMMARY:MS-U16Z-T2C: N.Jičín 'A'-Frenštát p.R.
END:VEVENT
BEGIN:VEVENT
UID:34336230-6661-4032-a266-626637626131
DTSTAMP:20260421T230302Z
DESCRIPTION:1/1 Frenštát p.R. - Vratimov 2:0 (14\,19)
DTSTART;TZID=Europe/Berlin:20241201T090000
DTEND;TZID=Europe/Berlin:20241201T110000
LOCATION:SH GaSPŠEI Frenštát\, Křižíkova 2204 Frenštát pod Radhoštěm
SUMMARY:MS-U16Z-T3D: Frenštát p.R.-Vratimov
END:VEVENT
BEGIN:VEVENT
UID:32613232-3832-4939-a230-373665643730
DTSTAMP:20260421T230302Z
DESCRIPTION:4/8 Frenštát p.R. - TJ Sokol F-M 'B' 2:1 (-19\,20\,16)
DTSTART;TZID=Europe/Berlin:20241201T133000
DTEND;TZID=Europe/Berlin:20241201T153000
LOCATION:SH GaSPŠEI Frenštát\, Křižíkova 2204 Frenštát pod Radhoštěm
SUMMARY:MS-U16Z-T3D: Frenštát p.R.-TJ Sokol F-M 'B'
END:VEVENT
BEGIN:VEVENT
UID:39643339-3963-4234-b033-373033663030
DTSTAMP:20260421T230302Z
DESCRIPTION:3/6 N.Jičín 'B' - Frenštát p.R. 0:2 (-17\,-17)
DTSTART;TZID=Europe/Berlin:20241201T120000
DTEND;TZID=Europe/Berlin:20241201T140000
LOCATION:SH GaSPŠEI Frenštát\, Křižíkova 2204 Frenštát pod Radhoštěm
SUMMARY:MS-U16Z-T3D: N.Jičín 'B'-Frenštát p.R.
END:VEVENT
BEGIN:VEVENT
UID:32636566-3634-4561-a531-303038636237
DTSTAMP:20260421T230302Z
DESCRIPTION:5/9 Ostrava 'B' - Frenštát p.R. 0:2 (-13\,-16)
DTSTART;TZID=Europe/Berlin:20241201T150000
DTEND;TZID=Europe/Berlin:20241201T170000
LOCATION:SH GaSPŠEI Frenštát\, Křižíkova 2204 Frenštát pod Radhoštěm
SUMMARY:MS-U16Z-T3D: Ostrava 'B'-Frenštát p.R.
END:VEVENT
BEGIN:VEVENT
UID:38303964-6232-4462-b738-653765643862
DTSTAMP:20260421T230302Z
DESCRIPTION:2/4 Frenštát p.R. - TJ Sokol F-M 'B' 1:2 (-25\,23\,-4)
DTSTART;TZID=Europe/Berlin:20250112T103000
DTEND;TZID=Europe/Berlin:20250112T123000
LOCATION:Sportovní hala Žákovská\, Komunardů 1548 Havířov - Město
SUMMARY:MS-U16Z-T4C: Frenštát p.R.-TJ Sokol F-M 'B'
END:VEVENT
BEGIN:VEVENT
UID:36623232-6464-4434-a131-333363316163
DTSTAMP:20260421T230302Z
DESCRIPTION:4/7 Frenštát p.R. - Polanka 'A' 0:2 (-18\,-7)
DTSTART;TZID=Europe/Berlin:20250112T133000
DTEND;TZID=Europe/Berlin:20250112T153000
LOCATION:Sportovní hala Žákovská\, Komunardů 1548 Havířov - Město
SUMMARY:MS-U16Z-T4C: Frenštát p.R.-Polanka 'A'
END:VEVENT
BEGIN:VEVENT
UID:34306266-3333-4231-b432-316166633835
DTSTAMP:20260421T230302Z
DESCRIPTION:1/2 VAM Havířov - Frenštát p.R. 2:0 (20\,18)
DTSTART;TZID=Europe/Berlin:20250112T090000
DTEND;TZID=Europe/Berlin:20250112T110000
LOCATION:Sportovní hala Žákovská\, Komunardů 1548 Havířov - Město
SUMMARY:MS-U16Z-T4C: VAM Havířov-Frenštát p.R.
END:VEVENT
BEGIN:VEVENT
UID:66383266-6534-4566-b664-353437386364
DTSTAMP:20260421T230302Z
DESCRIPTION:5/9 VKB Frýdlant 'A' - Frenštát p.R. 2:0 (12\,23)
DTSTART;TZID=Europe/Berlin:20250112T150000
DTEND;TZID=Europe/Berlin:20250112T170000
LOCATION:Sportovní hala Žákovská\, Komunardů 1548 Havířov - Město
SUMMARY:MS-U16Z-T4C: VKB Frýdlant 'A'-Frenštát p.R.
END:VEVENT
BEGIN:VEVENT
UID:37316364-6465-4732-b263-343637626361
DTSTAMP:20260421T230302Z
DESCRIPTION:2/4 Frenštát p.R. - N.Jičín 'B' 2:0 (15\,24)
DTSTART;TZID=Europe/Berlin:20250209T103000
DTEND;TZID=Europe/Berlin:20250209T123000
LOCATION:SH GaSPŠEI Frenštát\, Křižíkova 2204 Frenštát pod Radhoštěm
SUMMARY:MS-U16Z-T5D: Frenštát p.R.-N.Jičín 'B'
END:VEVENT
BEGIN:VEVENT
UID:35623130-3833-4031-b661-626131656330
DTSTAMP:20260421T230302Z
DESCRIPTION:5/9 Frenštát p.R. - Ostrava 'B' 2:0 (8\,20)
DTSTART;TZID=Europe/Berlin:20250209T150000
DTEND;TZID=Europe/Berlin:20250209T170000
LOCATION:SH GaSPŠEI Frenštát\, Křižíkova 2204 Frenštát pod Radhoštěm
SUMMARY:MS-U16Z-T5D: Frenštát p.R.-Ostrava 'B'
END:VEVENT
BEGIN:VEVENT
UID:61363137-6564-4032-a461-653263613431
DTSTAMP:20260421T230302Z
DESCRIPTION:1/2 Hlučín 'B' - Frenštát p.R. 1:2 (23\,-9\,-14)
DTSTART;TZID=Europe/Berlin:20250209T090000
DTEND;TZID=Europe/Berlin:20250209T110000
LOCATION:SH GaSPŠEI Frenštát\, Křižíkova 2204 Frenštát pod Radhoštěm
SUMMARY:MS-U16Z-T5D: Hlučín 'B'-Frenštát p.R.
END:VEVENT
BEGIN:VEVENT
UID:30376163-6166-4963-b464-363466393361
DTSTAMP:20260421T230302Z
DESCRIPTION:4/7 Slez. Orlice 'A' - Frenštát p.R. 0:2 (-17\,-22)
DTSTART;TZID=Europe/Berlin:20250209T133000
DTEND;TZID=Europe/Berlin:20250209T153000
LOCATION:SH GaSPŠEI Frenštát\, Křižíkova 2204 Frenštát pod Radhoštěm
SUMMARY:MS-U16Z-T5D: Slez. Orlice 'A'-Frenštát p.R.
END:VEVENT
BEGIN:VEVENT
UID:32613166-3232-4231-b561-656666623534
DTSTAMP:20260421T230302Z
DESCRIPTION:3/5 Frenštát p.R. - Orlová 0:2 (-23\,-18)
DTSTART;TZID=Europe/Berlin:20250302T120000
DTEND;TZID=Europe/Berlin:20250302T140000
LOCATION:Sportovní hala\, Heleny Salichové 1275 Ostrava - Polanka nad Odrou
SUMMARY:MS-U16Z-T6C: Frenštát p.R.-Orlová
END:VEVENT
BEGIN:VEVENT
UID:36653430-3462-4938-a461-643936353932
DTSTAMP:20260421T230302Z
DESCRIPTION:4/8 Frenštát p.R. - Polanka 'A' 0:2 (-13\,-22)
DTSTART;TZID=Europe/Berlin:20250302T133000
DTEND;TZID=Europe/Berlin:20250302T153000
LOCATION:Sportovní hala\, Heleny Salichové 1275 Ostrava - Polanka nad Odrou
SUMMARY:MS-U16Z-T6C: Frenštát p.R.-Polanka 'A'
END:VEVENT
BEGIN:VEVENT
UID:63616238-6236-4937-b139-346366653664
DTSTAMP:20260421T230302Z
DESCRIPTION:1/2 VK Karviná - Frenštát p.R. 2:0 (17\,18)
DTSTART;TZID=Europe/Berlin:20250302T090000
DTEND;TZID=Europe/Berlin:20250302T110000
LOCATION:Sportovní hala\, Heleny Salichové 1275 Ostrava - Polanka nad Odrou
SUMMARY:MS-U16Z-T6C: VK Karviná-Frenštát p.R.
END:VEVENT
BEGIN:VEVENT
UID:38393131-6335-4561-a564-323534366233
DTSTAMP:20260421T230302Z
DESCRIPTION:2/3 VAM Havířov - Frenštát p.R. 2:0 (12\,23)
DTSTART;TZID=Europe/Berlin:20250302T103000
DTEND;TZID=Europe/Berlin:20250302T123000
LOCATION:Sportovní hala\, Heleny Salichové 1275 Ostrava - Polanka nad Odrou
SUMMARY:MS-U16Z-T6C: VAM Havířov-Frenštát p.R.
END:VEVENT
BEGIN:VEVENT
UID:33666630-3863-4230-a439-343265373930
DTSTAMP:20260421T230302Z
DESCRIPTION:3/6 Frenštát p.R. - TJ Sokol F-M 'B' 2:1 (-23\,24\,13)
DTSTART;TZID=Europe/Berlin:20250323T120000
DTEND;TZID=Europe/Berlin:20250323T140000
LOCATION:SH GaSPŠEI Frenštát\, Křižíkova 2204 Frenštát pod Radhoštěm
SUMMARY:MS-U16Z-T7D: Frenštát p.R.-TJ Sokol F-M 'B'
END:VEVENT
BEGIN:VEVENT
UID:30383965-3838-4539-b032-643463656562
DTSTAMP:20260421T230302Z
DESCRIPTION:5/9 Frenštát p.R. - Bílovec 'B' 2:0 (16\,19)
DTSTART;TZID=Europe/Berlin:20250323T150000
DTEND;TZID=Europe/Berlin:20250323T170000
LOCATION:SH GaSPŠEI Frenštát\, Křižíkova 2204 Frenštát pod Radhoštěm
SUMMARY:MS-U16Z-T7D: Frenštát p.R.-Bílovec 'B'
END:VEVENT
BEGIN:VEVENT
UID:66346464-6466-4537-a331-613534353865
DTSTAMP:20260421T230302Z
DESCRIPTION:1/2 Ostrava  'C' - Frenštát p.R. 2:1 (20\,-16\,6)
DTSTART;TZID=Europe/Berlin:20250323T090000
DTEND;TZID=Europe/Berlin:20250323T110000
LOCATION:SH GaSPŠEI Frenštát\, Křižíkova 2204 Frenštát pod Radhoštěm
SUMMARY:MS-U16Z-T7D: Ostrava  'C'-Frenštát p.R.
END:VEVENT
BEGIN:VEVENT
UID:38316566-3234-4862-b934-343666343865
DTSTAMP:20260421T230302Z
DESCRIPTION:2/3 Slez. Orlice 'A' - Frenštát p.R. 0:2 (-18\,-20)
DTSTART;TZID=Europe/Berlin:20250323T103000
DTEND;TZID=Europe/Berlin:20250323T123000
LOCATION:SH GaSPŠEI Frenštát\, Křižíkova 2204 Frenštát pod Radhoštěm
SUMMARY:MS-U16Z-T7D: Slez. Orlice 'A'-Frenštát p.R.
END:VEVENT
END:VCALENDAR
