BEGIN:VCALENDAR
VERSION:2.0
PRODID:-//TJ Sokol Stará Bělá"B"86841//NONSGML kigkonsult.se iCalcreator 2.41.80//
CALSCALE:GREGORIAN
UID:39643733-3137-4339-b933-666530643939
BEGIN:VEVENT
UID:65333462-3838-4538-a335-623264653235
DTSTAMP:20260422T033933Z
DESCRIPTION:3/12 TJ Sokol Stará Bělá 'B' - VK Vratimov 3:2 (-20\,21\,17\,-2
 6\,10)
DTSTART;TZID=Europe/Berlin:20241211T200000
DTEND;TZID=Europe/Berlin:20241211T220000
LOCATION:Hala mládeže\, Gajdošova 1893 Ostrava - Moravská Ostrava
SUMMARY:OV-Z: TJ Sokol Stará Bělá 'B'-VK Vratimov
END:VEVENT
BEGIN:VEVENT
UID:33303935-3137-4563-a265-373634323364
DTSTAMP:20260422T033933Z
DESCRIPTION:8/39 TJ Sokol Stará Bělá 'B' - TJ Sokol Poruba 3:0 (18\,17\,22)
DTSTART;TZID=Europe/Berlin:20241120T200000
DTEND;TZID=Europe/Berlin:20241120T220000
LOCATION:Hala mládeže\, Gajdošova 1893 Ostrava - Moravská Ostrava
SUMMARY:OV-Z: TJ Sokol Stará Bělá 'B'-TJ Sokol Poruba
END:VEVENT
BEGIN:VEVENT
UID:35663263-3830-4536-b230-326431663363
DTSTAMP:20260422T033933Z
DESCRIPTION:10/48 TJ Sokol Stará Bělá 'B' - TJ Sokol Svinov B 0:3 (-16\,-19
 \,-14)
DTSTART;TZID=Europe/Berlin:20250122T200000
DTEND;TZID=Europe/Berlin:20250122T220000
LOCATION:Hala mládeže\, Gajdošova 1893 Ostrava - Moravská Ostrava
SUMMARY:OV-Z: TJ Sokol Stará Bělá 'B'-TJ Sokol Svinov B
END:VEVENT
BEGIN:VEVENT
UID:38353263-6363-4432-b863-646565366564
DTSTAMP:20260422T033933Z
DESCRIPTION:11/54 TJ Sokol Stará Bělá 'B' - TJ Sokol Bohumín 3:2 (18\,-21\,
 17\,-15\,12)
DTSTART;TZID=Europe/Berlin:20250205T200000
DTEND;TZID=Europe/Berlin:20250205T220000
LOCATION:Hala mládeže\, Gajdošova 1893 Ostrava - Moravská Ostrava
SUMMARY:OV-Z: TJ Sokol Stará Bělá 'B'-TJ Sokol Bohumín
END:VEVENT
BEGIN:VEVENT
UID:31623735-3433-4933-a663-326134393932
DTSTAMP:20260422T033933Z
DESCRIPTION:13/65 TJ Sokol Stará Bělá 'B' - VK Polanka n/O 2:3 (-23\,21\,-1
 9\,23\,-9)
DTSTART;TZID=Europe/Berlin:20250226T191500
DTEND;TZID=Europe/Berlin:20250226T211500
LOCATION:Hala mládeže\, Gajdošova 1893 Ostrava - Moravská Ostrava
SUMMARY:OV-Z: TJ Sokol Stará Bělá 'B'-VK Polanka n/O
END:VEVENT
BEGIN:VEVENT
UID:31613139-6135-4266-a337-333930613063
DTSTAMP:20260422T033933Z
DESCRIPTION:16/77 TJ Sokol Stará Bělá 'B' - TJ Sokol Stará Bělá 'C' 3:0 (10
 \,17\,11)
DTSTART;TZID=Europe/Berlin:20250319T200000
DTEND;TZID=Europe/Berlin:20250319T220000
LOCATION:Hala mládeže\, Gajdošova 1893 Ostrava - Moravská Ostrava
SUMMARY:OV-Z: TJ Sokol Stará Bělá 'B'-TJ Sokol Stará Bělá 'C'
END:VEVENT
BEGIN:VEVENT
UID:35643637-3237-4633-b061-643530326463
DTSTAMP:20260422T033933Z
DESCRIPTION:18/88 TJ Sokol Stará Bělá 'B' - TJ Sokol Svinov A 0:3 (-9\,-18\
 ,-24)
DTSTART;TZID=Europe/Berlin:20250409T200000
DTEND;TZID=Europe/Berlin:20250409T220000
LOCATION:Hala mládeže\, Gajdošova 1893 Ostrava - Moravská Ostrava
SUMMARY:OV-Z: TJ Sokol Stará Bělá 'B'-TJ Sokol Svinov A
END:VEVENT
BEGIN:VEVENT
UID:63353931-3533-4739-a338-653235343462
DTSTAMP:20260422T033933Z
DESCRIPTION:1/3 TJ Sokol Svinov B - TJ Sokol Stará Bělá 'B' 3:0 (17\,12\,22
 )
DTSTART;TZID=Europe/Berlin:20241204T191500
DTEND;TZID=Europe/Berlin:20241204T211500
LOCATION:MH Svinov\, Stanislavského 1270 Ostrava - Svinov
SUMMARY:OV-Z: TJ Sokol Svinov B-TJ Sokol Stará Bělá 'B'
END:VEVENT
BEGIN:VEVENT
UID:35343465-6335-4132-a636-343961666431
DTSTAMP:20260422T033933Z
DESCRIPTION:2/9 TJ Sokol Bohumín - TJ Sokol Stará Bělá 'B' 3:0 (20\,16\,23)
DTSTART;TZID=Europe/Berlin:20240910T200000
DTEND;TZID=Europe/Berlin:20240910T220000
LOCATION:Dům dětí a mládeže Bohumín\, Janáčkova 715 Bohumín - Nový Bohumín
SUMMARY:OV-Z: TJ Sokol Bohumín-TJ Sokol Stará Bělá 'B'
END:VEVENT
BEGIN:VEVENT
UID:32353432-6134-4936-b037-623561613839
DTSTAMP:20260422T033933Z
DESCRIPTION:4/20 VK Polanka n/O - TJ Sokol Stará Bělá 'B' 3:0 (22\,12\,23)
DTSTART;TZID=Europe/Berlin:20241008T185000
DTEND;TZID=Europe/Berlin:20241008T205000
LOCATION:Sportovní hala\, Heleny Salichové 1275 Ostrava - Polanka nad Odrou
SUMMARY:OV-Z: VK Polanka n/O-TJ Sokol Stará Bělá 'B'
END:VEVENT
BEGIN:VEVENT
UID:35623532-3637-4338-b066-666663383838
DTSTAMP:20260422T033933Z
DESCRIPTION:7/32 TJ Sokol Stará Bělá 'C' - TJ Sokol Stará Bělá 'B' 1:3 (16\
 ,-22\,-17\,-12)
DTSTART;TZID=Europe/Berlin:20241113T181500
DTEND;TZID=Europe/Berlin:20241113T201500
LOCATION:Sportovní hala Nová Bělá\, Krmelínská 750 Ostrava - Nová Bělá
SUMMARY:OV-Z: TJ Sokol Stará Bělá 'C'-TJ Sokol Stará Bělá 'B'
END:VEVENT
BEGIN:VEVENT
UID:36656131-6437-4536-b030-306663323461
DTSTAMP:20260422T033933Z
DESCRIPTION:9/43 TJ Sokol Svinov A - TJ Sokol Stará Bělá 'B' 3:0 (14\,22\,2
 6)
DTSTART;TZID=Europe/Berlin:20241127T191500
DTEND;TZID=Europe/Berlin:20241127T211500
LOCATION:MH Svinov\, Stanislavského 1270 Ostrava - Svinov
SUMMARY:OV-Z: TJ Sokol Svinov A-TJ Sokol Stará Bělá 'B'
END:VEVENT
BEGIN:VEVENT
UID:64353931-6662-4561-b935-353631666665
DTSTAMP:20260422T033933Z
DESCRIPTION:12/57 VK Vratimov - TJ Sokol Stará Bělá 'B' 0:3 (-19\,-17\,-19)
DTSTART;TZID=Europe/Berlin:20250429T184500
DTEND;TZID=Europe/Berlin:20250429T204500
LOCATION:Sportovní hala Nová Bělá\, Krmelínská 750 Ostrava - Nová Bělá
SUMMARY:OV-Z: VK Vratimov-TJ Sokol Stará Bělá 'B'
END:VEVENT
BEGIN:VEVENT
UID:62393833-6339-4561-b365-396334306561
DTSTAMP:20260422T033933Z
DESCRIPTION:17/84 TJ Sokol Poruba - TJ Sokol Stará Bělá 'B' 2:3 (14\,-22\,-
 20\,17\,-11)
DTSTART;TZID=Europe/Berlin:20250327T190000
DTEND;TZID=Europe/Berlin:20250327T210000
LOCATION:TJ Sokol Poruba\, Vřesinská 121 Ostrava - Poruba
SUMMARY:OV-Z: TJ Sokol Poruba-TJ Sokol Stará Bělá 'B'
END:VEVENT
END:VCALENDAR
