BEGIN:VCALENDAR
VERSION:2.0
PRODID:-//TJ Jiskra Humpolec, z.s.86872//NONSGML kigkonsult.se iCalcreator 2.41.80//
CALSCALE:GREGORIAN
UID:38346264-3366-4830-b564-613136386237
BEGIN:VEVENT
UID:34396235-3735-4332-a631-356136393536
DTSTAMP:20260421T210058Z
DESCRIPTION:1/9 Humpolec - Přibyslav 0:2 (-12\,-15)
DTSTART;TZID=Europe/Berlin:20240929T090000
DTEND;TZID=Europe/Berlin:20240929T110000
LOCATION:TJ Jiskra Humpolec\, Tyršovo náměstí 745 Humpolec
SUMMARY:VY-U16Z: Humpolec-Přibyslav
END:VEVENT
BEGIN:VEVENT
UID:39366130-6665-4765-b635-303531333166
DTSTAMP:20260421T210058Z
DESCRIPTION:1/11 Humpolec - Žďár nad Sázavou 0:2 (-6\,-7)
DTSTART;TZID=Europe/Berlin:20240929T090000
DTEND;TZID=Europe/Berlin:20240929T110000
LOCATION:TJ Jiskra Humpolec\, Tyršovo náměstí 745 Humpolec
SUMMARY:VY-U16Z: Humpolec-Žďár nad Sázavou
END:VEVENT
BEGIN:VEVENT
UID:31316330-6462-4530-b066-663764356632
DTSTAMP:20260421T210058Z
DESCRIPTION:2/57 Humpolec - POLNÁ 0:2 (-17\,-17)
DTSTART;TZID=Europe/Berlin:20241013T090000
DTEND;TZID=Europe/Berlin:20241013T110000
LOCATION:TJ Jiskra Humpolec\, Tyršovo náměstí 745 Humpolec
SUMMARY:VY-U16Z: Humpolec-POLNÁ
END:VEVENT
BEGIN:VEVENT
UID:30356163-6635-4333-a336-383865346538
DTSTAMP:20260421T210058Z
DESCRIPTION:2/59 Humpolec - Demlova 0:2 (-8\,-10)
DTSTART;TZID=Europe/Berlin:20241013T090000
DTEND;TZID=Europe/Berlin:20241013T110000
LOCATION:TJ Jiskra Humpolec\, Tyršovo náměstí 745 Humpolec
SUMMARY:VY-U16Z: Humpolec-Demlova
END:VEVENT
BEGIN:VEVENT
UID:37633839-3333-4635-a637-323636623366
DTSTAMP:20260421T210058Z
DESCRIPTION:3/75 Humpolec - Telč 0:2 (-13\,-9)
DTSTART;TZID=Europe/Berlin:20241020T090000
DTEND;TZID=Europe/Berlin:20241020T110000
LOCATION:TJ Jiskra Humpolec\, Tyršovo náměstí 745 Humpolec
SUMMARY:VY-U16Z: Humpolec-Telč
END:VEVENT
BEGIN:VEVENT
UID:33613766-3038-4435-a635-313565303631
DTSTAMP:20260421T210058Z
DESCRIPTION:3/77 Humpolec - Náměšť nad Oslavou 2:1 (-18\,16\,10)
DTSTART;TZID=Europe/Berlin:20241020T090000
DTEND;TZID=Europe/Berlin:20241020T110000
LOCATION:TJ Jiskra Humpolec\, Tyršovo náměstí 745 Humpolec
SUMMARY:VY-U16Z: Humpolec-Náměšť nad Oslavou
END:VEVENT
BEGIN:VEVENT
UID:66343534-6136-4565-a533-373964323562
DTSTAMP:20260421T210058Z
DESCRIPTION:4/93 Humpolec - Světlá nad Sázavou 0:2 (-14\,-15)
DTSTART;TZID=Europe/Berlin:20241110T090000
DTEND;TZID=Europe/Berlin:20241110T110000
LOCATION:TJ Jiskra Humpolec\, Tyršovo náměstí 745 Humpolec
SUMMARY:VY-U16Z: Humpolec-Světlá nad Sázavou
END:VEVENT
BEGIN:VEVENT
UID:36653731-6331-4166-b166-383466653831
DTSTAMP:20260421T210058Z
DESCRIPTION:5/141 Humpolec - Chotěboř 'B' 0:2 (-20\,-15)
DTSTART;TZID=Europe/Berlin:20241117T090000
DTEND;TZID=Europe/Berlin:20241117T110000
LOCATION:TJ Jiskra Humpolec\, Tyršovo náměstí 745 Humpolec
SUMMARY:VY-U16Z: Humpolec-Chotěboř 'B'
END:VEVENT
BEGIN:VEVENT
UID:35376234-3461-4935-b537-383561383133
DTSTAMP:20260421T210058Z
DESCRIPTION:5/143 Humpolec - Pelhřimov 0:2 (-10\,-10)
DTSTART;TZID=Europe/Berlin:20241117T090000
DTEND;TZID=Europe/Berlin:20241117T110000
LOCATION:TJ Jiskra Humpolec\, Tyršovo náměstí 745 Humpolec
SUMMARY:VY-U16Z: Humpolec-Pelhřimov
END:VEVENT
BEGIN:VEVENT
UID:62636666-6130-4664-a430-616262356566
DTSTAMP:20260421T210058Z
DESCRIPTION:6/164 Humpolec - Nové Veselí 'B' 0:2 (-11\,-7)
DTSTART;TZID=Europe/Berlin:20241201T100000
DTEND;TZID=Europe/Berlin:20241201T120000
LOCATION:TJ Jiskra Humpolec\, Tyršovo náměstí 745 Humpolec
SUMMARY:VY-U16Z: Humpolec-Nové Veselí 'B'
END:VEVENT
BEGIN:VEVENT
UID:64653930-6239-4136-a633-363232343865
DTSTAMP:20260421T210058Z
DESCRIPTION:7/182 Humpolec - Jiskra Havlíčkův Brod 'B' 1:2 (11\,-23\,-8)
DTSTART;TZID=Europe/Berlin:20241215T090000
DTEND;TZID=Europe/Berlin:20241215T110000
LOCATION:TJ Jiskra Humpolec\, Tyršovo náměstí 745 Humpolec
SUMMARY:VY-U16Z: Humpolec-Jiskra Havlíčkův Brod 'B'
END:VEVENT
BEGIN:VEVENT
UID:36626330-3166-4336-a337-303535306664
DTSTAMP:20260421T210058Z
DESCRIPTION:7/185 Humpolec - Bedřichov 'B' 0:2 (-10\,-9)
DTSTART;TZID=Europe/Berlin:20241215T090000
DTEND;TZID=Europe/Berlin:20241215T110000
LOCATION:TJ Jiskra Humpolec\, Tyršovo náměstí 745 Humpolec
SUMMARY:VY-U16Z: Humpolec-Bedřichov 'B'
END:VEVENT
BEGIN:VEVENT
UID:34613835-6666-4665-b266-343966656431
DTSTAMP:20260421T210058Z
DESCRIPTION:1/8 Nové Veselí A - Humpolec 2:0 (3\,3)
DTSTART;TZID=Europe/Berlin:20240929T090000
DTEND;TZID=Europe/Berlin:20240929T110000
LOCATION:Víceúčelová sportovní hala Nové Veselí\, Žďárská 356 Nové Veselí
SUMMARY:VY-U16Z: Nové Veselí A-Humpolec
END:VEVENT
BEGIN:VEVENT
UID:32386361-3362-4436-b464-323365376230
DTSTAMP:20260421T210058Z
DESCRIPTION:2/56 Třebíč - Humpolec 2:0 (7\,4)
DTSTART;TZID=Europe/Berlin:20241013T090000
DTEND;TZID=Europe/Berlin:20241013T110000
LOCATION:hala ZŠ TGM\, Komenského nám. 61 Třebíč - Horka-Domky
SUMMARY:VY-U16Z: Třebíč-Humpolec
END:VEVENT
BEGIN:VEVENT
UID:37343463-6165-4564-a331-646430306235
DTSTAMP:20260421T210058Z
DESCRIPTION:3/74 Bedřichov 'A' - Humpolec 2:0 (3\,5)
DTSTART;TZID=Europe/Berlin:20241020T090000
DTEND;TZID=Europe/Berlin:20241020T110000
LOCATION:TJ Sokol Bedřichov\, Jihlava\, Sokolovská 4656 Jihlava
SUMMARY:VY-U16Z: Bedřichov 'A'-Humpolec
END:VEVENT
BEGIN:VEVENT
UID:66626330-3661-4233-a233-323762616139
DTSTAMP:20260421T210058Z
DESCRIPTION:4/92 Jiskra Havlíčkův Brod 'A' - Humpolec 2:0 (9\,18)
DTSTART;TZID=Europe/Berlin:20241110T090000
DTEND;TZID=Europe/Berlin:20241110T110000
LOCATION:Sportovní hala TJ Jiskra\, Ledečská 3028 Havlíčkův Brod
SUMMARY:VY-U16Z: Jiskra Havlíčkův Brod 'A'-Humpolec
END:VEVENT
BEGIN:VEVENT
UID:65393437-3063-4433-a439-383266393266
DTSTAMP:20260421T210058Z
DESCRIPTION:5/140 Chotěboř 'A' - Humpolec 2:0 (9\,6)
DTSTART;TZID=Europe/Berlin:20241117T090000
DTEND;TZID=Europe/Berlin:20241117T110000
LOCATION:Sportovní hala \, Tyršova 794 Chotěboř
SUMMARY:VY-U16Z: Chotěboř 'A'-Humpolec
END:VEVENT
BEGIN:VEVENT
UID:34306433-3832-4361-b162-633830653963
DTSTAMP:20260421T210058Z
DESCRIPTION:6/161 Štoky - Humpolec 2:0 (13\,19)\nPořadatel N.V. 'B'
DTSTART;TZID=Europe/Berlin:20241201T120000
DTEND;TZID=Europe/Berlin:20241201T140000
LOCATION:Sportovní hala Základní škola a mateřská škola Štoky\,  Štoky220
SUMMARY:VY-U16Z: Štoky-Humpolec
END:VEVENT
BEGIN:VEVENT
UID:34626137-6462-4031-a562-623435303465
DTSTAMP:20260421T210058Z
DESCRIPTION:1/2 Humpolec - Chotěboř 'B' 3:2 (-15\,23\,-15\,19\,16)
DTSTART;TZID=Europe/Berlin:20250119T090000
DTEND;TZID=Europe/Berlin:20250119T110000
LOCATION:TJ Jiskra Humpolec\, Tyršovo náměstí 745 Humpolec
SUMMARY:VY-U16Z-C: Humpolec-Chotěboř 'B'
END:VEVENT
BEGIN:VEVENT
UID:39623531-3439-4832-a634-663231323064
DTSTAMP:20260421T210058Z
DESCRIPTION:2/5 Humpolec - Náměšť nad Oslavou 0:3 (-13\,-14\,-20)
DTSTART;TZID=Europe/Berlin:20250208T090000
DTEND;TZID=Europe/Berlin:20250208T110000
LOCATION:TJ Jiskra Humpolec\, Tyršovo náměstí 745 Humpolec
SUMMARY:VY-U16Z-C: Humpolec-Náměšť nad Oslavou
END:VEVENT
BEGIN:VEVENT
UID:33663838-3232-4565-b163-313961363464
DTSTAMP:20260421T210058Z
DESCRIPTION:3/7 Humpolec - Náměšť nad Oslavou 0:3 (-18\,-22\,-22)\nPořadate
 l Humpolec
DTSTART;TZID=Europe/Berlin:20250223T090000
DTEND;TZID=Europe/Berlin:20250223T110000
LOCATION:TJ Jiskra Humpolec\, Tyršovo náměstí 745 Humpolec
SUMMARY:VY-U16Z-C: Humpolec-Náměšť nad Oslavou
END:VEVENT
BEGIN:VEVENT
UID:64343031-3339-4936-a166-363034386666
DTSTAMP:20260421T210058Z
DESCRIPTION:1/1 Náměšť nad Oslavou - Humpolec 3:0 (15\,15\,22)\nPořadatel C
 hotěboř 'B'
DTSTART;TZID=Europe/Berlin:20250119T090000
DTEND;TZID=Europe/Berlin:20250119T110000
LOCATION:ZŠ Komenského\, Komenského nám. 53 Náměšť nad Oslavou
SUMMARY:VY-U16Z-C: Náměšť nad Oslavou-Humpolec
END:VEVENT
BEGIN:VEVENT
UID:37646535-3861-4638-b439-396333663637
DTSTAMP:20260421T210058Z
DESCRIPTION:2/4 Chotěboř 'B' - Humpolec 3:0 (15\,13\,15)\nPořadatel Náměšť
DTSTART;TZID=Europe/Berlin:20250208T090000
DTEND;TZID=Europe/Berlin:20250208T110000
LOCATION:Sportovní hala \, Tyršova 794 Chotěboř
SUMMARY:VY-U16Z-C: Chotěboř 'B'-Humpolec
END:VEVENT
BEGIN:VEVENT
UID:35363131-3135-4931-a538-356365316662
DTSTAMP:20260421T210058Z
DESCRIPTION:3/8 Chotěboř 'B' - Humpolec 3:2 (-15\,17\,18\,-19\,10)
DTSTART;TZID=Europe/Berlin:20250320T090000
DTEND;TZID=Europe/Berlin:20250320T110000
LOCATION:Sportovní hala \, Tyršova 794 Chotěboř
SUMMARY:VY-U16Z-C: Chotěboř 'B'-Humpolec
END:VEVENT
END:VCALENDAR
