BEGIN:VCALENDAR
VERSION:2.0
PRODID:-//SLAVOJ POLNÁ z.s.86882//NONSGML kigkonsult.se iCalcreator 2.41.80//
CALSCALE:GREGORIAN
UID:64616462-6431-4034-b132-613730346438
BEGIN:VEVENT
UID:66343665-3333-4265-a466-323166613531
DTSTAMP:20260421T210120Z
DESCRIPTION:2/55 POLNÁ - Demlova 0:2 (-14\,-22)\nPořadatel Třebíč
DTSTART;TZID=Europe/Berlin:20241013T090000
DTEND;TZID=Europe/Berlin:20241013T110000
LOCATION:Školní tělocvična\, Poděbradova 76 Polná
SUMMARY:VY-U16Z: POLNÁ-Demlova
END:VEVENT
BEGIN:VEVENT
UID:65326239-6331-4634-b437-653864363838
DTSTAMP:20260421T210120Z
DESCRIPTION:3/85 POLNÁ - Pelhřimov 0:2 (-17\,-13)\nPořadatel N.V. 'A'
DTSTART;TZID=Europe/Berlin:20241020T100000
DTEND;TZID=Europe/Berlin:20241020T120000
LOCATION:Školní tělocvična\, Poděbradova 76 Polná
SUMMARY:VY-U16Z: POLNÁ-Pelhřimov
END:VEVENT
BEGIN:VEVENT
UID:62623633-3564-4861-a538-353831326231
DTSTAMP:20260421T210120Z
DESCRIPTION:4/115 POLNÁ - Náměšť nad Oslavou 2:1 (24\,-6\,8)\nPořadatel Što
 ky
DTSTART;TZID=Europe/Berlin:20241110T090000
DTEND;TZID=Europe/Berlin:20241110T110000
LOCATION:Školní tělocvična\, Poděbradova 76 Polná
SUMMARY:VY-U16Z: POLNÁ-Náměšť nad Oslavou
END:VEVENT
BEGIN:VEVENT
UID:65333263-6633-4462-b236-343162346334
DTSTAMP:20260421T210120Z
DESCRIPTION:5/145 POLNÁ - Žďár nad Sázavou 1:2 (21\,-22\,-10)\nPořadatel Žď
 ár
DTSTART;TZID=Europe/Berlin:20241117T090000
DTEND;TZID=Europe/Berlin:20241117T110000
LOCATION:Školní tělocvična\, Poděbradova 76 Polná
SUMMARY:VY-U16Z: POLNÁ-Žďár nad Sázavou
END:VEVENT
BEGIN:VEVENT
UID:39336665-3836-4538-a434-343930303434
DTSTAMP:20260421T210120Z
DESCRIPTION:6/153 POLNÁ - Světlá nad Sázavou 0:2 (-13\,-8)
DTSTART;TZID=Europe/Berlin:20241201T090000
DTEND;TZID=Europe/Berlin:20241201T110000
LOCATION:Školní tělocvična\, Poděbradova 76 Polná
SUMMARY:VY-U16Z: POLNÁ-Světlá nad Sázavou
END:VEVENT
BEGIN:VEVENT
UID:35613531-3834-4233-a265-316339666465
DTSTAMP:20260421T210120Z
DESCRIPTION:7/173 POLNÁ - Telč 0:2 (-15\,-8)
DTSTART;TZID=Europe/Berlin:20241215T090000
DTEND;TZID=Europe/Berlin:20241215T110000
LOCATION:Školní tělocvična\, Poděbradova 76 Polná
SUMMARY:VY-U16Z: POLNÁ-Telč
END:VEVENT
BEGIN:VEVENT
UID:39383532-3362-4964-b438-636266393463
DTSTAMP:20260421T210120Z
DESCRIPTION:1/27 Bedřichov 'B' - POLNÁ 2:0 (10\,11)
DTSTART;TZID=Europe/Berlin:20240929T090000
DTEND;TZID=Europe/Berlin:20240929T110000
LOCATION:TJ Sokol Bedřichov\, Jihlava\, Sokolovská 4656 Jihlava
SUMMARY:VY-U16Z: Bedřichov 'B'-POLNÁ
END:VEVENT
BEGIN:VEVENT
UID:64326230-3032-4562-b039-396366353433
DTSTAMP:20260421T210120Z
DESCRIPTION:1/30 Bedřichov 'A' - POLNÁ 2:0 (5\,13)
DTSTART;TZID=Europe/Berlin:20240929T090000
DTEND;TZID=Europe/Berlin:20240929T110000
LOCATION:TJ Sokol Bedřichov\, Jihlava\, Sokolovská 4656 Jihlava
SUMMARY:VY-U16Z: Bedřichov 'A'-POLNÁ
END:VEVENT
BEGIN:VEVENT
UID:36623965-3137-4130-b662-636432306138
DTSTAMP:20260421T210120Z
DESCRIPTION:2/57 Humpolec - POLNÁ 0:2 (-17\,-17)
DTSTART;TZID=Europe/Berlin:20241013T090000
DTEND;TZID=Europe/Berlin:20241013T110000
LOCATION:TJ Jiskra Humpolec\, Tyršovo náměstí 745 Humpolec
SUMMARY:VY-U16Z: Humpolec-POLNÁ
END:VEVENT
BEGIN:VEVENT
UID:38343636-3464-4562-b138-373536373933
DTSTAMP:20260421T210120Z
DESCRIPTION:2/60 Třebíč - POLNÁ 2:0 (7\,11)
DTSTART;TZID=Europe/Berlin:20241013T090000
DTEND;TZID=Europe/Berlin:20241013T110000
LOCATION:hala ZŠ TGM\, Komenského nám. 61 Třebíč - Horka-Domky
SUMMARY:VY-U16Z: Třebíč-POLNÁ
END:VEVENT
BEGIN:VEVENT
UID:33343830-6132-4663-a136-343066663331
DTSTAMP:20260421T210120Z
DESCRIPTION:3/87 Jiskra Havlíčkův Brod 'B' - POLNÁ 1:2 (17\,-17\,-15)
DTSTART;TZID=Europe/Berlin:20241020T110000
DTEND;TZID=Europe/Berlin:20241020T130000
LOCATION:Sportovní hala TJ Jiskra\, Ledečská 3028 Havlíčkův Brod
SUMMARY:VY-U16Z: Jiskra Havlíčkův Brod 'B'-POLNÁ
END:VEVENT
BEGIN:VEVENT
UID:33663536-6130-4234-b436-393161323132
DTSTAMP:20260421T210120Z
DESCRIPTION:3/90 Nové Veselí A - POLNÁ 2:0 (13\,8)
DTSTART;TZID=Europe/Berlin:20241020T140000
DTEND;TZID=Europe/Berlin:20241020T160000
LOCATION:Víceúčelová sportovní hala Nové Veselí\, Žďárská 356 Nové Veselí
SUMMARY:VY-U16Z: Nové Veselí A-POLNÁ
END:VEVENT
BEGIN:VEVENT
UID:66633965-6561-4263-a534-373532666561
DTSTAMP:20260421T210120Z
DESCRIPTION:4/117 Štoky - POLNÁ 2:0 (22\,21)
DTSTART;TZID=Europe/Berlin:20241110T090000
DTEND;TZID=Europe/Berlin:20241110T110000
LOCATION:Sportovní hala Základní škola a mateřská škola Štoky\,  Štoky220
SUMMARY:VY-U16Z: Štoky-POLNÁ
END:VEVENT
BEGIN:VEVENT
UID:35303463-3433-4730-b931-383562646432
DTSTAMP:20260421T210120Z
DESCRIPTION:4/120 Chotěboř 'A' - POLNÁ 2:1 (-20\,12\,10)
DTSTART;TZID=Europe/Berlin:20241110T090000
DTEND;TZID=Europe/Berlin:20241110T110000
LOCATION:Sportovní hala \, Tyršova 794 Chotěboř
SUMMARY:VY-U16Z: Chotěboř 'A'-POLNÁ
END:VEVENT
BEGIN:VEVENT
UID:62303065-6330-4131-b066-313164643831
DTSTAMP:20260421T210120Z
DESCRIPTION:5/147 Nové Veselí 'B' - POLNÁ 2:1 (-21\,13\,11)
DTSTART;TZID=Europe/Berlin:20241117T090000
DTEND;TZID=Europe/Berlin:20241117T110000
LOCATION:Víceúčelová sportovní hala Nové Veselí\, Žďárská 356 Nové Veselí
SUMMARY:VY-U16Z: Nové Veselí 'B'-POLNÁ
END:VEVENT
BEGIN:VEVENT
UID:32633061-6365-4462-b739-386335366239
DTSTAMP:20260421T210120Z
DESCRIPTION:5/150 Jiskra Havlíčkův Brod 'A' - POLNÁ 2:0 (6\,2)
DTSTART;TZID=Europe/Berlin:20241117T090000
DTEND;TZID=Europe/Berlin:20241117T110000
LOCATION:Sportovní hala TJ Jiskra\, Ledečská 3028 Havlíčkův Brod
SUMMARY:VY-U16Z: Jiskra Havlíčkův Brod 'A'-POLNÁ
END:VEVENT
BEGIN:VEVENT
UID:33626666-6131-4538-b032-343738326264
DTSTAMP:20260421T210120Z
DESCRIPTION:6/155 Chotěboř 'B' - POLNÁ 0:2 (-20\,-19)
DTSTART;TZID=Europe/Berlin:20241201T090000
DTEND;TZID=Europe/Berlin:20241201T110000
LOCATION:Sportovní hala \, Tyršova 794 Chotěboř
SUMMARY:VY-U16Z: Chotěboř 'B'-POLNÁ
END:VEVENT
BEGIN:VEVENT
UID:34646534-3437-4964-b135-623938366630
DTSTAMP:20260421T210120Z
DESCRIPTION:7/175 Přibyslav - POLNÁ 2:0 (22\,19)
DTSTART;TZID=Europe/Berlin:20241221T090000
DTEND;TZID=Europe/Berlin:20241221T110000
LOCATION:Sportovní hala Přibyslav\, Česká 34 Přibyslav
SUMMARY:VY-U16Z: Přibyslav-POLNÁ
END:VEVENT
BEGIN:VEVENT
UID:30633930-3439-4238-b236-326462633331
DTSTAMP:20260421T210120Z
DESCRIPTION:1/9 POLNÁ - Nové Veselí 'B' 2:0 (18\,20)
DTSTART;TZID=Europe/Berlin:20250112T090000
DTEND;TZID=Europe/Berlin:20250112T110000
LOCATION:Školní tělocvična\, Poděbradova 76 Polná
SUMMARY:VY-U16Z-B: POLNÁ-Nové Veselí 'B'
END:VEVENT
BEGIN:VEVENT
UID:66303637-3563-4661-b638-636362306165
DTSTAMP:20260421T210120Z
DESCRIPTION:1/11 POLNÁ - Jiskra Havlíčkův Brod 'B' 2:0 (16\,10)
DTSTART;TZID=Europe/Berlin:20250112T090000
DTEND;TZID=Europe/Berlin:20250112T110000
LOCATION:Školní tělocvična\, Poděbradova 76 Polná
SUMMARY:VY-U16Z-B: POLNÁ-Jiskra Havlíčkův Brod 'B'
END:VEVENT
BEGIN:VEVENT
UID:36383763-3966-4931-a435-313837636662
DTSTAMP:20260421T210120Z
DESCRIPTION:2/15 POLNÁ - Žďár nad Sázavou 2:0 (23\,20)
DTSTART;TZID=Europe/Berlin:20250119T090000
DTEND;TZID=Europe/Berlin:20250119T110000
LOCATION:Školní tělocvična\, Poděbradova 76 Polná
SUMMARY:VY-U16Z-B: POLNÁ-Žďár nad Sázavou
END:VEVENT
BEGIN:VEVENT
UID:38353036-3637-4339-b939-336337366161
DTSTAMP:20260421T210120Z
DESCRIPTION:2/17 POLNÁ - Jiskra Havlíčkův Brod 'B' 2:1 (-22\,24\,8)
DTSTART;TZID=Europe/Berlin:20250119T090000
DTEND;TZID=Europe/Berlin:20250119T110000
LOCATION:Školní tělocvična\, Poděbradova 76 Polná
SUMMARY:VY-U16Z-B: POLNÁ-Jiskra Havlíčkův Brod 'B'
END:VEVENT
BEGIN:VEVENT
UID:62373438-3562-4130-b836-316164356537
DTSTAMP:20260421T210120Z
DESCRIPTION:3/30 POLNÁ - Chotěboř 'A' 0:2 (-20\,-22)
DTSTART;TZID=Europe/Berlin:20250220T090000
DTEND;TZID=Europe/Berlin:20250220T110000
LOCATION:Školní tělocvična\, Poděbradova 76 Polná
SUMMARY:VY-U16Z-B: POLNÁ-Chotěboř 'A'
END:VEVENT
BEGIN:VEVENT
UID:66313430-3665-4062-b234-316537663961
DTSTAMP:20260421T210120Z
DESCRIPTION:4/35 POLNÁ - Žďár nad Sázavou 0:2 (-23\,-21)
DTSTART;TZID=Europe/Berlin:20250223T090000
DTEND;TZID=Europe/Berlin:20250223T110000
LOCATION:Školní tělocvična\, Poděbradova 76 Polná
SUMMARY:VY-U16Z-B: POLNÁ-Žďár nad Sázavou
END:VEVENT
BEGIN:VEVENT
UID:66666139-3630-4261-b465-626664626431
DTSTAMP:20260421T210120Z
DESCRIPTION:4/37 POLNÁ - Bedřichov 'B' 2:1 (17\,-11\,6)
DTSTART;TZID=Europe/Berlin:20250223T090000
DTEND;TZID=Europe/Berlin:20250223T110000
LOCATION:Školní tělocvična\, Poděbradova 76 Polná
SUMMARY:VY-U16Z-B: POLNÁ-Bedřichov 'B'
END:VEVENT
BEGIN:VEVENT
UID:65383962-6431-4335-a361-386635323031
DTSTAMP:20260421T210120Z
DESCRIPTION:5/53 POLNÁ - Přibyslav 1:2 (23\,-21\,-7)
DTSTART;TZID=Europe/Berlin:20250316T090000
DTEND;TZID=Europe/Berlin:20250316T110000
LOCATION:Školní tělocvična\, Poděbradova 76 Polná
SUMMARY:VY-U16Z-B: POLNÁ-Přibyslav
END:VEVENT
BEGIN:VEVENT
UID:34326336-6537-4631-b837-356662393666
DTSTAMP:20260421T210120Z
DESCRIPTION:5/55 POLNÁ - Bedřichov 'B' 2:1 (24\,-22\,13)
DTSTART;TZID=Europe/Berlin:20250316T090000
DTEND;TZID=Europe/Berlin:20250316T110000
LOCATION:Školní tělocvična\, Poděbradova 76 Polná
SUMMARY:VY-U16Z-B: POLNÁ-Bedřichov 'B'
END:VEVENT
BEGIN:VEVENT
UID:36326532-3238-4532-a237-313936636361
DTSTAMP:20260421T210120Z
DESCRIPTION:1/8 Štoky - POLNÁ 0:2 (-17\,-14)
DTSTART;TZID=Europe/Berlin:20250112T090000
DTEND;TZID=Europe/Berlin:20250112T110000
LOCATION:Sportovní hala Základní škola a mateřská škola Štoky\,  Štoky220
SUMMARY:VY-U16Z-B: Štoky-POLNÁ
END:VEVENT
BEGIN:VEVENT
UID:39323035-6165-4837-a533-663935313833
DTSTAMP:20260421T210120Z
DESCRIPTION:2/14 Přibyslav - POLNÁ 2:0 (21\,23)
DTSTART;TZID=Europe/Berlin:20250119T090000
DTEND;TZID=Europe/Berlin:20250119T110000
LOCATION:Sportovní hala Přibyslav\, Česká 34 Přibyslav
SUMMARY:VY-U16Z-B: Přibyslav-POLNÁ
END:VEVENT
BEGIN:VEVENT
UID:65626464-6239-4336-b264-616633633966
DTSTAMP:20260421T210120Z
DESCRIPTION:3/29 Chotěboř 'A' - POLNÁ 2:0 (17\,23)\nPořadatel Polná
DTSTART;TZID=Europe/Berlin:20250220T090000
DTEND;TZID=Europe/Berlin:20250220T110000
LOCATION:Sportovní hala \, Tyršova 794 Chotěboř
SUMMARY:VY-U16Z-B: Chotěboř 'A'-POLNÁ
END:VEVENT
BEGIN:VEVENT
UID:64623364-3139-4139-b238-373139633664
DTSTAMP:20260421T210120Z
DESCRIPTION:4/34 Nové Veselí 'B' - POLNÁ 2:0 (25\,11)
DTSTART;TZID=Europe/Berlin:20250223T090000
DTEND;TZID=Europe/Berlin:20250223T110000
LOCATION:Víceúčelová sportovní hala Nové Veselí\, Žďárská 356 Nové Veselí
SUMMARY:VY-U16Z-B: Nové Veselí 'B'-POLNÁ
END:VEVENT
BEGIN:VEVENT
UID:64316636-3663-4562-b538-353838343937
DTSTAMP:20260421T210120Z
DESCRIPTION:5/52 Štoky - POLNÁ 2:0 (22\,20)
DTSTART;TZID=Europe/Berlin:20250316T090000
DTEND;TZID=Europe/Berlin:20250316T110000
LOCATION:Sportovní hala Základní škola a mateřská škola Štoky\,  Štoky220
SUMMARY:VY-U16Z-B: Štoky-POLNÁ
END:VEVENT
END:VCALENDAR
