BEGIN:VCALENDAR
VERSION:2.0
PRODID:-//T.J. Sokol Pardubice I. B86885//NONSGML kigkonsult.se iCalcreator 2.41.80//
CALSCALE:GREGORIAN
UID:62653565-3765-4136-b763-353839646232
BEGIN:VEVENT
UID:36653039-3231-4461-a165-353063333163
DTSTAMP:20260421T161243Z
DESCRIPTION:1/2 Sokol Pardubice I. B - Sokol Česká Třebová 2:1 (15\,-20\,12
 )
DTSTART;TZID=Europe/Berlin:20240921T103000
DTEND;TZID=Europe/Berlin:20240921T123000
LOCATION:TJ Slavia Hradec Králové\, Víta Nejedlého 1216 Hradec Králové
SUMMARY:CP-U16Z-V1C: Sokol Pardubice I. B-Sokol Česká Třebová
END:VEVENT
BEGIN:VEVENT
UID:38383966-3733-4064-a432-616631623130
DTSTAMP:20260421T161243Z
DESCRIPTION:2/6 Sokol Pardubice I. B - Žďár nad Sázavou 2:1 (-23\,20\,10)
DTSTART;TZID=Europe/Berlin:20240921T123000
DTEND;TZID=Europe/Berlin:20240921T143000
LOCATION:TJ Slavia Hradec Králové\, Víta Nejedlého 1216 Hradec Králové
SUMMARY:CP-U16Z-V1C: Sokol Pardubice I. B-Žďár nad Sázavou
END:VEVENT
BEGIN:VEVENT
UID:39643661-3538-4365-b963-353436303538
DTSTAMP:20260421T161243Z
DESCRIPTION:3/11 Sokol Pardubice I. B - Junior Brno 1:2 (16\,-15\,-8)
DTSTART;TZID=Europe/Berlin:20240921T143000
DTEND;TZID=Europe/Berlin:20240921T163000
LOCATION:TJ Slavia Hradec Králové\, Víta Nejedlého 1216 Hradec Králové
SUMMARY:CP-U16Z-V1C: Sokol Pardubice I. B-Junior Brno
END:VEVENT
BEGIN:VEVENT
UID:64383133-3966-4463-b961-353435323036
DTSTAMP:20260421T161243Z
DESCRIPTION:4/14 Sokol Pardubice I. B - VK Znojmo - Přímětice - A 0:2 (-23\
 ,-13)
DTSTART;TZID=Europe/Berlin:20240921T163000
DTEND;TZID=Europe/Berlin:20240921T183000
LOCATION:TJ Slavia Hradec Králové\, Víta Nejedlého 1216 Hradec Králové
SUMMARY:CP-U16Z-V1C: Sokol Pardubice I. B-VK Znojmo - Přímětice - A
END:VEVENT
BEGIN:VEVENT
UID:32343533-3236-4233-b434-386637353266
DTSTAMP:20260421T161243Z
DESCRIPTION:5/19 Sokol Pardubice I. B - KP Brno A 0:2 (-16\,-17)
DTSTART;TZID=Europe/Berlin:20240922T090000
DTEND;TZID=Europe/Berlin:20240922T110000
LOCATION:TJ Slavia Hradec Králové\, Víta Nejedlého 1216 Hradec Králové
SUMMARY:CP-U16Z-V1C: Sokol Pardubice I. B-KP Brno A
END:VEVENT
BEGIN:VEVENT
UID:32303261-6131-4534-b933-313261373131
DTSTAMP:20260421T161243Z
DESCRIPTION:6/24 Sokol Pardubice I. B - Bedřichov Jihlava 0:2 (-13\,-8)
DTSTART;TZID=Europe/Berlin:20240922T110000
DTEND;TZID=Europe/Berlin:20240922T130000
LOCATION:TJ Slavia Hradec Králové\, Víta Nejedlého 1216 Hradec Králové
SUMMARY:CP-U16Z-V1C: Sokol Pardubice I. B-Bedřichov Jihlava
END:VEVENT
BEGIN:VEVENT
UID:32303264-6636-4232-a630-373135666135
DTSTAMP:20260421T161243Z
DESCRIPTION:7/25 Jiskra Havlíčkův Brod 'A' - Sokol Pardubice I. B 2:0 (13\,
 5)
DTSTART;TZID=Europe/Berlin:20240922T130000
DTEND;TZID=Europe/Berlin:20240922T150000
LOCATION:TJ Slavia Hradec Králové\, Víta Nejedlého 1216 Hradec Králové
SUMMARY:CP-U16Z-V1C: Jiskra Havlíčkův Brod 'A'-Sokol Pardubice I. B
END:VEVENT
BEGIN:VEVENT
UID:38313331-3831-4535-b839-643434333733
DTSTAMP:20260421T161243Z
DESCRIPTION:3/5 Sokol Pardubice I. B - VK Hronov 0:2 (-8\,-15)
DTSTART;TZID=Europe/Berlin:20241102T123000
DTEND;TZID=Europe/Berlin:20241102T143000
LOCATION:Sportovní hala\, Masarykovo nám. 108 Lázně Bohdaneč
SUMMARY:CP-U16Z-V2D: Sokol Pardubice I. B-VK Hronov
END:VEVENT
BEGIN:VEVENT
UID:33303138-6333-4130-a337-353063376239
DTSTAMP:20260421T161243Z
DESCRIPTION:7/14 Sokol Pardubice I. B - VSC Zlín 0:2 (-7\,-14)
DTSTART;TZID=Europe/Berlin:20241102T163000
DTEND;TZID=Europe/Berlin:20241102T183000
LOCATION:Sportovní hala\, Masarykovo nám. 108 Lázně Bohdaneč
SUMMARY:CP-U16Z-V2D: Sokol Pardubice I. B-VSC Zlín
END:VEVENT
BEGIN:VEVENT
UID:33326662-3132-4331-b036-363463626135
DTSTAMP:20260421T161243Z
DESCRIPTION:11/21 Sokol Pardubice I. B - Třebíč 0:2 (-14\,-17)
DTSTART;TZID=Europe/Berlin:20241103T123000
DTEND;TZID=Europe/Berlin:20241103T143000
LOCATION:Sportovní hala\, Masarykovo nám. 108 Lázně Bohdaneč
SUMMARY:CP-U16Z-V2D: Sokol Pardubice I. B-Třebíč
END:VEVENT
BEGIN:VEVENT
UID:34336637-6362-4263-a161-376332303431
DTSTAMP:20260421T161243Z
DESCRIPTION:1/2 Volejbal Kolín - Sokol Pardubice I. B 2:0 (9\,21)
DTSTART;TZID=Europe/Berlin:20241102T100000
DTEND;TZID=Europe/Berlin:20241102T120000
LOCATION:Sportovní hala\, Masarykovo nám. 108 Lázně Bohdaneč
SUMMARY:CP-U16Z-V2D: Volejbal Kolín-Sokol Pardubice I. B
END:VEVENT
BEGIN:VEVENT
UID:64326361-3535-4663-b461-336438393433
DTSTAMP:20260421T161243Z
DESCRIPTION:5/9 Žďár nad Sázavou - Sokol Pardubice I. B 2:1 (-23\,25\,7)
DTSTART;TZID=Europe/Berlin:20241102T143000
DTEND;TZID=Europe/Berlin:20241102T163000
LOCATION:Sportovní hala\, Masarykovo nám. 108 Lázně Bohdaneč
SUMMARY:CP-U16Z-V2D: Žďár nad Sázavou-Sokol Pardubice I. B
END:VEVENT
BEGIN:VEVENT
UID:64643063-3533-4562-a364-353737343734
DTSTAMP:20260421T161243Z
DESCRIPTION:8/15 Volejbal Vyškov - Sokol Pardubice I. B 2:0 (18\,21)
DTSTART;TZID=Europe/Berlin:20241103T090000
DTEND;TZID=Europe/Berlin:20241103T110000
LOCATION:Sportovní hala\, Masarykovo nám. 108 Lázně Bohdaneč
SUMMARY:CP-U16Z-V2D: Volejbal Vyškov-Sokol Pardubice I. B
END:VEVENT
BEGIN:VEVENT
UID:66646531-3563-4233-b137-346238396438
DTSTAMP:20260421T161243Z
DESCRIPTION:3/6 Sokol Pardubice I. B - Šlapanice 0:2 (-13\,-21)
DTSTART;TZID=Europe/Berlin:20241123T120000
DTEND;TZID=Europe/Berlin:20241123T140000
LOCATION:Sportovní hala na Bouchalkách\, Jungmannova 1495 Žďár nad Sázavou 
 - Žďár nad Sázavou 1
SUMMARY:CP-U16Z-V3E: Sokol Pardubice I. B-Šlapanice
END:VEVENT
BEGIN:VEVENT
UID:63373966-6162-4935-a137-363638626464
DTSTAMP:20260421T161243Z
DESCRIPTION:5/10 Sokol Pardubice I. B - Junior Brno 2:0 (17\,7)
DTSTART;TZID=Europe/Berlin:20241123T143000
DTEND;TZID=Europe/Berlin:20241123T163000
LOCATION:Sportovní hala na Bouchalkách\, Jungmannova 1495 Žďár nad Sázavou 
 - Žďár nad Sázavou 1
SUMMARY:CP-U16Z-V3E: Sokol Pardubice I. B-Junior Brno
END:VEVENT
BEGIN:VEVENT
UID:37336364-3632-4333-a565-373735336137
DTSTAMP:20260421T161243Z
DESCRIPTION:2/3 Sokol Česká Třebová - Sokol Pardubice I. B 2:1 (-20\,17\,10
 )
DTSTART;TZID=Europe/Berlin:20241123T104500
DTEND;TZID=Europe/Berlin:20241123T124500
LOCATION:Sportovní hala na Bouchalkách\, Jungmannova 1495 Žďár nad Sázavou 
 - Žďár nad Sázavou 1
SUMMARY:CP-U16Z-V3E: Sokol Česká Třebová-Sokol Pardubice I. B
END:VEVENT
BEGIN:VEVENT
UID:32613464-6432-4930-a163-316332326563
DTSTAMP:20260421T161243Z
DESCRIPTION:7/14 Napajedla - Sokol Pardubice I. B 1:2 (-13\,24\,-8)
DTSTART;TZID=Europe/Berlin:20241123T170000
DTEND;TZID=Europe/Berlin:20241123T190000
LOCATION:Sportovní hala na Bouchalkách\, Jungmannova 1495 Žďár nad Sázavou 
 - Žďár nad Sázavou 1
SUMMARY:CP-U16Z-V3E: Napajedla-Sokol Pardubice I. B
END:VEVENT
BEGIN:VEVENT
UID:31313663-3731-4765-a232-623663306330
DTSTAMP:20260421T161243Z
DESCRIPTION:10/20 Pelhřimov - Sokol Pardubice I. B 2:1 (-20\,13\,8)
DTSTART;TZID=Europe/Berlin:20241124T113000
DTEND;TZID=Europe/Berlin:20241124T133000
LOCATION:Sportovní hala na Bouchalkách\, Jungmannova 1495 Žďár nad Sázavou 
 - Žďár nad Sázavou 1
SUMMARY:CP-U16Z-V3E: Pelhřimov-Sokol Pardubice I. B
END:VEVENT
BEGIN:VEVENT
UID:32316632-6261-4366-b331-306230323131
DTSTAMP:20260421T161243Z
DESCRIPTION:11/21 Žďár nad Sázavou - Sokol Pardubice I. B 2:0 (19\,26)
DTSTART;TZID=Europe/Berlin:20241124T124500
DTEND;TZID=Europe/Berlin:20241124T144500
LOCATION:Sportovní hala na Bouchalkách\, Jungmannova 1495 Žďár nad Sázavou 
 - Žďár nad Sázavou 1
SUMMARY:CP-U16Z-V3E: Žďár nad Sázavou-Sokol Pardubice I. B
END:VEVENT
BEGIN:VEVENT
UID:61623038-6563-4665-a665-633064383733
DTSTAMP:20260421T161243Z
DESCRIPTION:3/6 Sokol Pardubice I. B - Šlapanice 0:2 (-21\,-18)
DTSTART;TZID=Europe/Berlin:20250125T120000
DTEND;TZID=Europe/Berlin:20250125T140000
LOCATION:Sportovní hala\, Masarykovo nám. 108 Lázně Bohdaneč
SUMMARY:CP-U16Z-F1J: Sokol Pardubice I. B-Šlapanice
END:VEVENT
BEGIN:VEVENT
UID:39613835-3164-4737-b362-323863393735
DTSTAMP:20260421T161243Z
DESCRIPTION:5/10 Sokol Pardubice I. B - TŘEBÍN 0:2 (-18\,-22)
DTSTART;TZID=Europe/Berlin:20250125T143000
DTEND;TZID=Europe/Berlin:20250125T163000
LOCATION:Sportovní hala\, Masarykovo nám. 108 Lázně Bohdaneč
SUMMARY:CP-U16Z-F1J: Sokol Pardubice I. B-TŘEBÍN
END:VEVENT
BEGIN:VEVENT
UID:62306633-3262-4662-a531-643966656132
DTSTAMP:20260421T161243Z
DESCRIPTION:2/3 TJ Sokol Mnichovo Hradiště - Sokol Pardubice I. B 0:2 (-10\
 ,-18)
DTSTART;TZID=Europe/Berlin:20250125T104500
DTEND;TZID=Europe/Berlin:20250125T124500
LOCATION:Sportovní hala BIOS\, Sokolovská 254 Mnichovo Hradiště
SUMMARY:CP-U16Z-F1J: TJ Sokol Mnichovo Hradiště-Sokol Pardubice I. B
END:VEVENT
BEGIN:VEVENT
UID:31346565-3034-4231-b462-396336313835
DTSTAMP:20260421T161243Z
DESCRIPTION:7/14 Tuchlovice - Sokol Pardubice I. B 2:1 (17\,-17\,10)
DTSTART;TZID=Europe/Berlin:20250125T170000
DTEND;TZID=Europe/Berlin:20250125T190000
LOCATION:ZŠ Tuchlovice\, Školní 277 Tuchlovice
SUMMARY:CP-U16Z-F1J: Tuchlovice-Sokol Pardubice I. B
END:VEVENT
BEGIN:VEVENT
UID:62353564-6435-4536-b265-616561303030
DTSTAMP:20260421T161243Z
DESCRIPTION:10/20 Škola volejbalu - Sokol Pardubice I. B 2:0 (16\,18)
DTSTART;TZID=Europe/Berlin:20250126T113000
DTEND;TZID=Europe/Berlin:20250126T133000
LOCATION:Sportovní hala Hrdějovice\,  Hrdějovice597
SUMMARY:CP-U16Z-F1J: Škola volejbalu-Sokol Pardubice I. B
END:VEVENT
BEGIN:VEVENT
UID:38336165-6135-4635-b762-363166326236
DTSTAMP:20260421T161243Z
DESCRIPTION:11/21 Pelhřimov - Sokol Pardubice I. B 2:0 (21\,14)
DTSTART;TZID=Europe/Berlin:20250126T124500
DTEND;TZID=Europe/Berlin:20250126T144500
LOCATION:Základní škola Pelhřimov\, Osvobození\, Osvobození 1881 Pelhřimov
SUMMARY:CP-U16Z-F1J: Pelhřimov-Sokol Pardubice I. B
END:VEVENT
BEGIN:VEVENT
UID:61393238-6462-4561-b063-373538353632
DTSTAMP:20260421T161243Z
DESCRIPTION:2/4 Sokol Pardubice I. B - TJ SLAVIA Liberec 2:1 (-14\,14\,12)
DTSTART;TZID=Europe/Berlin:20250215T101500
DTEND;TZID=Europe/Berlin:20250215T121500
LOCATION:Sportovní hala\, Masarykovo nám. 108 Lázně Bohdaneč
SUMMARY:CP-U16Z-F2K: Sokol Pardubice I. B-TJ SLAVIA Liberec
END:VEVENT
BEGIN:VEVENT
UID:30666133-3636-4632-b334-366161613730
DTSTAMP:20260421T161243Z
DESCRIPTION:6/12 Sokol Pardubice I. B - Napajedla 1:2 (-19\,9\,-7)
DTSTART;TZID=Europe/Berlin:20250215T151500
DTEND;TZID=Europe/Berlin:20250215T171500
LOCATION:Sportovní hala\, Masarykovo nám. 108 Lázně Bohdaneč
SUMMARY:CP-U16Z-F2K: Sokol Pardubice I. B-Napajedla
END:VEVENT
BEGIN:VEVENT
UID:62383566-6137-4864-a436-313163643663
DTSTAMP:20260421T161243Z
DESCRIPTION:9/16 Sokol Pardubice I. B - TJ Lokomotiva Česká Lípa\, z.s. 2:0
  (0\,0)
DTSTART;TZID=Europe/Berlin:20250216T110000
DTEND;TZID=Europe/Berlin:20250216T130000
LOCATION:Sportovní hala\, Masarykovo nám. 108 Lázně Bohdaneč
SUMMARY:CP-U16Z-F2K: Sokol Pardubice I. B-TJ Lokomotiva Česká Lípa\, z.s.
END:VEVENT
BEGIN:VEVENT
UID:32333338-3638-4537-a531-336463353339
DTSTAMP:20260421T161243Z
DESCRIPTION:3/5 Junior Brno - Sokol Pardubice I. B 1:2 (18\,-23\,-15)
DTSTART;TZID=Europe/Berlin:20250215T113000
DTEND;TZID=Europe/Berlin:20250215T133000
LOCATION:tělocvičny ZŠ Novolíšeňská\, Brno\, Novolíšeňská 2411 Brno - Líšeň
SUMMARY:CP-U16Z-F2K: Junior Brno-Sokol Pardubice I. B
END:VEVENT
BEGIN:VEVENT
UID:65313538-3165-4339-b766-313730643964
DTSTAMP:20260421T161243Z
DESCRIPTION:5/9 TJ Sokol Mnichovo Hradiště - Sokol Pardubice I. B 2:1 (11\,
 -18\,12)
DTSTART;TZID=Europe/Berlin:20250215T140000
DTEND;TZID=Europe/Berlin:20250215T160000
LOCATION:Sportovní hala BIOS\, Sokolovská 254 Mnichovo Hradiště
SUMMARY:CP-U16Z-F2K: TJ Sokol Mnichovo Hradiště-Sokol Pardubice I. B
END:VEVENT
BEGIN:VEVENT
UID:39623361-3338-4564-a536-343963343330
DTSTAMP:20260421T161243Z
DESCRIPTION:7/14 Kunice - Sokol Pardubice I. B 2:0 (25\,23)
DTSTART;TZID=Europe/Berlin:20250216T090000
DTEND;TZID=Europe/Berlin:20250216T110000
LOCATION:ZŠ Kunice\, Na Návsi 60 Kunice
SUMMARY:CP-U16Z-F2K: Kunice-Sokol Pardubice I. B
END:VEVENT
BEGIN:VEVENT
UID:62363837-3665-4632-b930-323236343437
DTSTAMP:20260421T161243Z
DESCRIPTION:2/4 Sokol Pardubice I. B - Napajedla 1:2 (-21\,15\,-9)
DTSTART;TZID=Europe/Berlin:20250308T101500
DTEND;TZID=Europe/Berlin:20250308T121500
LOCATION:ZŠ Kunice\, Na Návsi 60 Kunice
SUMMARY:CP-U16Z-F3N: Sokol Pardubice I. B-Napajedla
END:VEVENT
BEGIN:VEVENT
UID:61353832-3831-4165-b933-383865386562
DTSTAMP:20260421T161243Z
DESCRIPTION:4/8 Sokol Pardubice I. B - Bedřichov Jihlava 0:2 (-26\,-17)
DTSTART;TZID=Europe/Berlin:20250308T124500
DTEND;TZID=Europe/Berlin:20250308T144500
LOCATION:ZŠ Kunice\, Na Návsi 60 Kunice
SUMMARY:CP-U16Z-F3N: Sokol Pardubice I. B-Bedřichov Jihlava
END:VEVENT
BEGIN:VEVENT
UID:38303435-3233-4336-b931-666232646465
DTSTAMP:20260421T161243Z
DESCRIPTION:11/21 Sokol Pardubice I. B - Říčany 2:0 (19\,22)
DTSTART;TZID=Europe/Berlin:20250309T124500
DTEND;TZID=Europe/Berlin:20250309T144500
LOCATION:ZŠ Kunice\, Na Návsi 60 Kunice
SUMMARY:CP-U16Z-F3N: Sokol Pardubice I. B-Říčany
END:VEVENT
BEGIN:VEVENT
UID:37666335-6438-4137-b066-333537306635
DTSTAMP:20260421T161243Z
DESCRIPTION:6/12 TJ Lokomotiva Česká Lípa\, z.s. - Sokol Pardubice I. B 0:2
  (-16\,-20)
DTSTART;TZID=Europe/Berlin:20250308T151500
DTEND;TZID=Europe/Berlin:20250308T171500
LOCATION:ZŠ Kunice\, Na Návsi 60 Kunice
SUMMARY:CP-U16Z-F3N: TJ Lokomotiva Česká Lípa\, z.s.-Sokol Pardubice I. B
END:VEVENT
BEGIN:VEVENT
UID:36323263-6135-4637-a637-376130336632
DTSTAMP:20260421T161243Z
DESCRIPTION:7/14 Kunice - Sokol Pardubice I. B 2:0 (23\,20)
DTSTART;TZID=Europe/Berlin:20250308T163000
DTEND;TZID=Europe/Berlin:20250308T183000
LOCATION:ZŠ Kunice\, Na Návsi 60 Kunice
SUMMARY:CP-U16Z-F3N: Kunice-Sokol Pardubice I. B
END:VEVENT
BEGIN:VEVENT
UID:34653263-3138-4661-b938-316537626138
DTSTAMP:20260421T161243Z
DESCRIPTION:9/17 Junior Brno - Sokol Pardubice I. B 2:1 (-23\,20\,7)
DTSTART;TZID=Europe/Berlin:20250309T101500
DTEND;TZID=Europe/Berlin:20250309T121500
LOCATION:ZŠ Kunice\, Na Návsi 60 Kunice
SUMMARY:CP-U16Z-F3N: Junior Brno-Sokol Pardubice I. B
END:VEVENT
END:VCALENDAR
