BEGIN:VCALENDAR
VERSION:2.0
PRODID:-//VK Prostějov86894//NONSGML kigkonsult.se iCalcreator 2.41.80//
CALSCALE:GREGORIAN
UID:66643834-6231-4338-b834-356230396134
BEGIN:VEVENT
UID:37363963-6135-4165-a239-323333373431
DTSTAMP:20260421T161238Z
DESCRIPTION:1/2 VK Prostějov - VK Olomouc A 0:2 (-17\,-23)
DTSTART;TZID=Europe/Berlin:20240921T090000
DTEND;TZID=Europe/Berlin:20240921T110000
LOCATION:Hala ZŠ Komenského\, Komenského 701 Bílovec
SUMMARY:CP-U16Z-V1E: VK Prostějov-VK Olomouc A
END:VEVENT
BEGIN:VEVENT
UID:62643339-6665-4162-b936-646538336462
DTSTAMP:20260421T161238Z
DESCRIPTION:2/4 VK Prostějov - Tělocvičná jednota Sokol Bučovice 2:0 (19\,1
 7)
DTSTART;TZID=Europe/Berlin:20240921T103000
DTEND;TZID=Europe/Berlin:20240921T123000
LOCATION:Hala ZŠ Komenského\, Komenského 701 Bílovec
SUMMARY:CP-U16Z-V1E: VK Prostějov-Tělocvičná jednota Sokol Bučovice
END:VEVENT
BEGIN:VEVENT
UID:31616661-3934-4538-b731-356363343065
DTSTAMP:20260421T161238Z
DESCRIPTION:6/12 VK Prostějov - Volejbal Vyškov 2:0 (7\,15)
DTSTART;TZID=Europe/Berlin:20240921T153000
DTEND;TZID=Europe/Berlin:20240921T173000
LOCATION:Hala ZŠ Komenského\, Komenského 701 Bílovec
SUMMARY:CP-U16Z-V1E: VK Prostějov-Volejbal Vyškov
END:VEVENT
BEGIN:VEVENT
UID:32313433-3964-4062-b163-653064343161
DTSTAMP:20260421T161238Z
DESCRIPTION:4/8 Slovácká Slavia U. Hradiště - VK Prostějov 0:2 (-14\,-16)
DTSTART;TZID=Europe/Berlin:20240921T130000
DTEND;TZID=Europe/Berlin:20240921T150000
LOCATION:Hala ZŠ Komenského\, Komenského 701 Bílovec
SUMMARY:CP-U16Z-V1E: Slovácká Slavia U. Hradiště-VK Prostějov
END:VEVENT
BEGIN:VEVENT
UID:37356565-6664-4461-b439-356232313531
DTSTAMP:20260421T161238Z
DESCRIPTION:9/18 Napajedla - VK Prostějov 0:2 (-9\,-10)
DTSTART;TZID=Europe/Berlin:20240922T100000
DTEND;TZID=Europe/Berlin:20240922T120000
LOCATION:Hala ZŠ Komenského\, Komenského 701 Bílovec
SUMMARY:CP-U16Z-V1E: Napajedla-VK Prostějov
END:VEVENT
BEGIN:VEVENT
UID:37326430-6234-4162-a330-386534346262
DTSTAMP:20260421T161238Z
DESCRIPTION:11/21 Sokol F.- Místek - VK Prostějov 0:2 (-11\,-24)
DTSTART;TZID=Europe/Berlin:20240922T123000
DTEND;TZID=Europe/Berlin:20240922T143000
LOCATION:Hala ZŠ Komenského\, Komenského 701 Bílovec
SUMMARY:CP-U16Z-V1E: Sokol F.- Místek-VK Prostějov
END:VEVENT
BEGIN:VEVENT
UID:34366262-3131-4238-b566-326233663439
DTSTAMP:20260421T161238Z
DESCRIPTION:1/1 VK Prostějov - KP Brno A 0:2 (-21\,-12)
DTSTART;TZID=Europe/Berlin:20241102T090000
DTEND;TZID=Europe/Berlin:20241102T110000
LOCATION:Národní sportovní centrum\, Za velodromem 4187 Prostějov
SUMMARY:CP-U16Z-V2A: VK Prostějov-KP Brno A
END:VEVENT
BEGIN:VEVENT
UID:63313766-3865-4534-a536-666565333662
DTSTAMP:20260421T161238Z
DESCRIPTION:3/5 VK Prostějov - VK Olomouc A 2:1 (26\,-20\,4)
DTSTART;TZID=Europe/Berlin:20241102T111500
DTEND;TZID=Europe/Berlin:20241102T131500
LOCATION:Národní sportovní centrum\, Za velodromem 4187 Prostějov
SUMMARY:CP-U16Z-V2A: VK Prostějov-VK Olomouc A
END:VEVENT
BEGIN:VEVENT
UID:63343830-3032-4166-b666-303436613131
DTSTAMP:20260421T161238Z
DESCRIPTION:5/9 VK Prostějov - VK Znojmo - Přímětice - A 2:0 (16\,24)
DTSTART;TZID=Europe/Berlin:20241102T140000
DTEND;TZID=Europe/Berlin:20241102T160000
LOCATION:Národní sportovní centrum\, Za velodromem 4187 Prostějov
SUMMARY:CP-U16Z-V2A: VK Prostějov-VK Znojmo - Přímětice - A
END:VEVENT
BEGIN:VEVENT
UID:32353233-6439-4231-a533-303839373331
DTSTAMP:20260421T161238Z
DESCRIPTION:8/15 VK Prostějov - Demlova 0:2 (-19\,-23)
DTSTART;TZID=Europe/Berlin:20241102T170000
DTEND;TZID=Europe/Berlin:20241102T190000
LOCATION:Národní sportovní centrum\, Za velodromem 4187 Prostějov
SUMMARY:CP-U16Z-V2A: VK Prostějov-Demlova
END:VEVENT
BEGIN:VEVENT
UID:32616136-6236-4365-b364-393631633764
DTSTAMP:20260421T161238Z
DESCRIPTION:9/17 VK Prostějov - Slavia H.Králové 2:1 (-14\,25\,13)
DTSTART;TZID=Europe/Berlin:20241103T090000
DTEND;TZID=Europe/Berlin:20241103T110000
LOCATION:Národní sportovní centrum\, Za velodromem 4187 Prostějov
SUMMARY:CP-U16Z-V2A: VK Prostějov-Slavia H.Králové
END:VEVENT
BEGIN:VEVENT
UID:31326432-6262-4437-b666-323834376538
DTSTAMP:20260421T161238Z
DESCRIPTION:12/23 VK Prostějov - Sokol Pardubice I. A 2:1 (22\,-15\,13)
DTSTART;TZID=Europe/Berlin:20241103T124500
DTEND;TZID=Europe/Berlin:20241103T144500
LOCATION:Národní sportovní centrum\, Za velodromem 4187 Prostějov
SUMMARY:CP-U16Z-V2A: VK Prostějov-Sokol Pardubice I. A
END:VEVENT
BEGIN:VEVENT
UID:30353764-6237-4133-b963-663733306263
DTSTAMP:20260421T161238Z
DESCRIPTION:14/27 VK Prostějov - TJ Ostrava 0:2 (-8\,-13)
DTSTART;TZID=Europe/Berlin:20241103T151500
DTEND;TZID=Europe/Berlin:20241103T171500
LOCATION:Národní sportovní centrum\, Za velodromem 4187 Prostějov
SUMMARY:CP-U16Z-V2A: VK Prostějov-TJ Ostrava
END:VEVENT
BEGIN:VEVENT
UID:33643764-3435-4834-b433-663935653936
DTSTAMP:20260421T161238Z
DESCRIPTION:4/8 VK Prostějov - Přerov A 1:2 (20\,-14\,-6)
DTSTART;TZID=Europe/Berlin:20241123T122500
DTEND;TZID=Europe/Berlin:20241123T142500
LOCATION:ZŠ Jihlava Demlova\, Demlova 4178 Jihlava
SUMMARY:CP-U16Z-V3A: VK Prostějov-Přerov A
END:VEVENT
BEGIN:VEVENT
UID:66623034-3732-4131-a239-633463343131
DTSTAMP:20260421T161238Z
DESCRIPTION:6/12 VK Prostějov - VK Olomouc A 2:0 (20\,14)
DTSTART;TZID=Europe/Berlin:20241123T143500
DTEND;TZID=Europe/Berlin:20241123T163500
LOCATION:ZŠ Jihlava Demlova\, Demlova 4178 Jihlava
SUMMARY:CP-U16Z-V3A: VK Prostějov-VK Olomouc A
END:VEVENT
BEGIN:VEVENT
UID:31643631-3534-4661-a663-323637366339
DTSTAMP:20260421T161238Z
DESCRIPTION:8/16 VK Prostějov - TJ Ostrava 0:2 (-16\,-25)
DTSTART;TZID=Europe/Berlin:20241123T164500
DTEND;TZID=Europe/Berlin:20241123T184500
LOCATION:ZŠ Jihlava Demlova\, Demlova 4178 Jihlava
SUMMARY:CP-U16Z-V3A: VK Prostějov-TJ Ostrava
END:VEVENT
BEGIN:VEVENT
UID:65363136-6438-4236-b866-356662393738
DTSTAMP:20260421T161238Z
DESCRIPTION:2/3 TJ Svitavy - VK Prostějov 0:2 (-23\,-22)
DTSTART;TZID=Europe/Berlin:20241123T101500
DTEND;TZID=Europe/Berlin:20241123T121500
LOCATION:ZŠ Jihlava Demlova\, Demlova 4178 Jihlava
SUMMARY:CP-U16Z-V3A: TJ Svitavy-VK Prostějov
END:VEVENT
BEGIN:VEVENT
UID:38663032-3662-4531-b439-333033353130
DTSTAMP:20260421T161238Z
DESCRIPTION:9/17 Demlova - VK Prostějov 2:0 (13\,21)
DTSTART;TZID=Europe/Berlin:20241124T090000
DTEND;TZID=Europe/Berlin:20241124T110000
LOCATION:ZŠ Jihlava Demlova\, Demlova 4178 Jihlava
SUMMARY:CP-U16Z-V3A: Demlova-VK Prostějov
END:VEVENT
BEGIN:VEVENT
UID:38623963-3430-4132-b463-373535383465
DTSTAMP:20260421T161238Z
DESCRIPTION:12/23 KP Brno A - VK Prostějov 2:0 (19\,19)
DTSTART;TZID=Europe/Berlin:20241124T122500
DTEND;TZID=Europe/Berlin:20241124T142500
LOCATION:ZŠ Jihlava Demlova\, Demlova 4178 Jihlava
SUMMARY:CP-U16Z-V3A: KP Brno A-VK Prostějov
END:VEVENT
BEGIN:VEVENT
UID:65613362-3839-4537-b763-363264666366
DTSTAMP:20260421T161238Z
DESCRIPTION:13/25 Slavia H.Králové - VK Prostějov 2:1 (19\,-20\,13)
DTSTART;TZID=Europe/Berlin:20241124T133000
DTEND;TZID=Europe/Berlin:20241124T153000
LOCATION:ZŠ Jihlava Demlova\, Demlova 4178 Jihlava
SUMMARY:CP-U16Z-V3A: Slavia H.Králové-VK Prostějov
END:VEVENT
BEGIN:VEVENT
UID:36663031-3532-4639-b666-623866386435
DTSTAMP:20260421T161238Z
DESCRIPTION:6/12 VK Prostějov - TJ Svitavy 0:2 (-22\,-21)
DTSTART;TZID=Europe/Berlin:20250125T150000
DTEND;TZID=Europe/Berlin:20250125T170000
LOCATION:dvě tělocvičny\, Školní 75 Příbram - Příbram VIII
SUMMARY:CP-U16Z-F1B: VK Prostějov-TJ Svitavy
END:VEVENT
BEGIN:VEVENT
UID:33313039-3836-4435-a265-396366623636
DTSTAMP:20260421T161238Z
DESCRIPTION:8/15 VK Prostějov - SK Slavia Praha  A 0:2 (-22\,-11)
DTSTART;TZID=Europe/Berlin:20250125T170000
DTEND;TZID=Europe/Berlin:20250125T190000
LOCATION:dvě tělocvičny\, Školní 75 Příbram - Příbram VIII
SUMMARY:CP-U16Z-F1B: VK Prostějov-SK Slavia Praha  A
END:VEVENT
BEGIN:VEVENT
UID:39613335-6165-4664-a466-326563646264
DTSTAMP:20260421T161238Z
DESCRIPTION:11/21 VK Prostějov - VK Olomouc A 1:2 (26\,-18\,-12)
DTSTART;TZID=Europe/Berlin:20250126T120000
DTEND;TZID=Europe/Berlin:20250126T140000
LOCATION:dvě tělocvičny\, Školní 75 Příbram - Příbram VIII
SUMMARY:CP-U16Z-F1B: VK Prostějov-VK Olomouc A
END:VEVENT
BEGIN:VEVENT
UID:37616565-3561-4364-b033-336666393763
DTSTAMP:20260421T161238Z
DESCRIPTION:13/25 VK Prostějov - Příbram A 1:2 (18\,-22\,-5)
DTSTART;TZID=Europe/Berlin:20250126T140000
DTEND;TZID=Europe/Berlin:20250126T160000
LOCATION:dvě tělocvičny\, Školní 75 Příbram - Příbram VIII
SUMMARY:CP-U16Z-F1B: VK Prostějov-Příbram A
END:VEVENT
BEGIN:VEVENT
UID:34323536-3438-4062-a235-666532656137
DTSTAMP:20260421T161238Z
DESCRIPTION:2/4 ABC Braník - VK Prostějov 2:0 (16\,16)
DTSTART;TZID=Europe/Berlin:20250125T110000
DTEND;TZID=Europe/Berlin:20250125T130000
LOCATION:dvě tělocvičny\, Školní 75 Příbram - Příbram VIII
SUMMARY:CP-U16Z-F1B: ABC Braník-VK Prostějov
END:VEVENT
BEGIN:VEVENT
UID:34393734-6434-4465-b935-656439333131
DTSTAMP:20260421T161238Z
DESCRIPTION:4/7 VK Dukla Liberec - VK Prostějov 2:0 (20\,18)
DTSTART;TZID=Europe/Berlin:20250125T130000
DTEND;TZID=Europe/Berlin:20250125T150000
LOCATION:dvě tělocvičny\, Školní 75 Příbram - Příbram VIII
SUMMARY:CP-U16Z-F1B: VK Dukla Liberec-VK Prostějov
END:VEVENT
BEGIN:VEVENT
UID:36653233-6235-4735-a234-363361613131
DTSTAMP:20260421T161238Z
DESCRIPTION:10/19 Mikulova B - VK Prostějov 2:0 (23\,12)
DTSTART;TZID=Europe/Berlin:20250126T110000
DTEND;TZID=Europe/Berlin:20250126T130000
LOCATION:dvě tělocvičny\, Školní 75 Příbram - Příbram VIII
SUMMARY:CP-U16Z-F1B: Mikulova B-VK Prostějov
END:VEVENT
BEGIN:VEVENT
UID:39393531-6663-4430-b433-313133383363
DTSTAMP:20260421T161238Z
DESCRIPTION:2/5 VK Prostějov - TJ Svitavy 0:2 (-19\,-14)
DTSTART;TZID=Europe/Berlin:20250215T103000
DTEND;TZID=Europe/Berlin:20250215T123000
LOCATION:Národní sportovní centrum\, Za velodromem 4187 Prostějov
SUMMARY:CP-U16Z-F2C: VK Prostějov-TJ Svitavy
END:VEVENT
BEGIN:VEVENT
UID:64386435-3636-4063-b131-316536396563
DTSTAMP:20260421T161238Z
DESCRIPTION:5/13 VK Prostějov - SK Volejbal Ústí n. Labem 2:1 (-20\,17\,10)
DTSTART;TZID=Europe/Berlin:20250215T150000
DTEND;TZID=Europe/Berlin:20250215T170000
LOCATION:Národní sportovní centrum\, Za velodromem 4187 Prostějov
SUMMARY:CP-U16Z-F2C: VK Prostějov-SK Volejbal Ústí n. Labem
END:VEVENT
BEGIN:VEVENT
UID:32316561-3933-4533-b130-393566663366
DTSTAMP:20260421T161238Z
DESCRIPTION:8/22 VK Prostějov - Lokomotiva Plzeň 0:2 (-21\,-13)
DTSTART;TZID=Europe/Berlin:20250216T100000
DTEND;TZID=Europe/Berlin:20250216T120000
LOCATION:Národní sportovní centrum\, Za velodromem 4187 Prostějov
SUMMARY:CP-U16Z-F2C: VK Prostějov-Lokomotiva Plzeň
END:VEVENT
BEGIN:VEVENT
UID:33393834-3732-4835-a636-316136663365
DTSTAMP:20260421T161238Z
DESCRIPTION:1/2 VK Lvi Praha - VK Prostějov 2:1 (-22\,23\,12)
DTSTART;TZID=Europe/Berlin:20250215T090000
DTEND;TZID=Europe/Berlin:20250215T110000
LOCATION:FZŠ Brdičkova\, Brdičkova 1878 Praha - Stodůlky
SUMMARY:CP-U16Z-F2C: VK Lvi Praha-VK Prostějov
END:VEVENT
BEGIN:VEVENT
UID:35653563-6134-4534-b235-383233376636
DTSTAMP:20260421T161238Z
DESCRIPTION:3/9 TJ Kralupy - VK Prostějov 2:1 (13\,-19\,10)
DTSTART;TZID=Europe/Berlin:20250215T120000
DTEND;TZID=Europe/Berlin:20250215T140000
LOCATION:TJ KRALUPY\, z.s.\, Gen. Klapálka 1029 Kralupy nad Vltavou
SUMMARY:CP-U16Z-F2C: TJ Kralupy-VK Prostějov
END:VEVENT
BEGIN:VEVENT
UID:38613333-3461-4633-b165-336134663363
DTSTAMP:20260421T161238Z
DESCRIPTION:7/18 Přerov A - VK Prostějov 2:0 (14\,21)
DTSTART;TZID=Europe/Berlin:20250216T083000
DTEND;TZID=Europe/Berlin:20250216T103000
LOCATION:Městská sportovní hala\, Petřivalského 2884 Přerov - Přerov I-Měst
 o
SUMMARY:CP-U16Z-F2C: Přerov A-VK Prostějov
END:VEVENT
BEGIN:VEVENT
UID:63303764-6366-4936-a166-336130356665
DTSTAMP:20260421T161238Z
DESCRIPTION:11/27 Jiskra Havlíčkův Brod 'A' - VK Prostějov 0:2 (-20\,-22)
DTSTART;TZID=Europe/Berlin:20250216T143000
DTEND;TZID=Europe/Berlin:20250216T163000
LOCATION:Sportovní hala TJ Jiskra\, Ledečská 3028 Havlíčkův Brod
SUMMARY:CP-U16Z-F2C: Jiskra Havlíčkův Brod 'A'-VK Prostějov
END:VEVENT
BEGIN:VEVENT
UID:61623931-3134-4431-b134-343666623234
DTSTAMP:20260421T161238Z
DESCRIPTION:2/4 VK Prostějov - Radotín 2:0 (24\,22)
DTSTART;TZID=Europe/Berlin:20250308T104500
DTEND;TZID=Europe/Berlin:20250308T124500
LOCATION:ZŠ Oskara Nedbala České Budějovice\, O. Nedbala 882 České Budějovi
 ce - České Budějovice 2
SUMMARY:CP-U16Z-F3G: VK Prostějov-Radotín
END:VEVENT
BEGIN:VEVENT
UID:62626130-3766-4235-b763-386162346332
DTSTAMP:20260421T161238Z
DESCRIPTION:6/11 VK Prostějov - VK Lvi Praha 0:2 (-4\,-17)
DTSTART;TZID=Europe/Berlin:20250308T154500
DTEND;TZID=Europe/Berlin:20250308T174500
LOCATION:ZŠ Oskara Nedbala České Budějovice\, O. Nedbala 882 České Budějovi
 ce - České Budějovice 2
SUMMARY:CP-U16Z-F3G: VK Prostějov-VK Lvi Praha
END:VEVENT
BEGIN:VEVENT
UID:65623262-3439-4234-a332-373636643837
DTSTAMP:20260421T161238Z
DESCRIPTION:9/18 VK Prostějov - Kometa Praha 0:2 (-21\,-17)
DTSTART;TZID=Europe/Berlin:20250309T090000
DTEND;TZID=Europe/Berlin:20250309T110000
LOCATION:ZŠ Oskara Nedbala České Budějovice\, O. Nedbala 882 České Budějovi
 ce - České Budějovice 2
SUMMARY:CP-U16Z-F3G: VK Prostějov-Kometa Praha
END:VEVENT
BEGIN:VEVENT
UID:32383038-6464-4331-a563-333236306465
DTSTAMP:20260421T161238Z
DESCRIPTION:13/25 VK Prostějov - Mikulova A 2:1 (23\,-15\,5)
DTSTART;TZID=Europe/Berlin:20250309T140000
DTEND;TZID=Europe/Berlin:20250309T160000
LOCATION:ZŠ Oskara Nedbala České Budějovice\, O. Nedbala 882 České Budějovi
 ce - České Budějovice 2
SUMMARY:CP-U16Z-F3G: VK Prostějov-Mikulova A
END:VEVENT
BEGIN:VEVENT
UID:36613732-3337-4832-a231-636333383464
DTSTAMP:20260421T161238Z
DESCRIPTION:3/6 Klatovy - VK Prostějov 2:1 (15\,-22\,9)
DTSTART;TZID=Europe/Berlin:20250308T120000
DTEND;TZID=Europe/Berlin:20250308T140000
LOCATION:ZŠ Oskara Nedbala České Budějovice\, O. Nedbala 882 České Budějovi
 ce - České Budějovice 2
SUMMARY:CP-U16Z-F3G: Klatovy-VK Prostějov
END:VEVENT
BEGIN:VEVENT
UID:38333536-6536-4134-a636-353566373636
DTSTAMP:20260421T161238Z
DESCRIPTION:8/15 VK Madeta - VK Prostějov 0:2 (-24\,-25)
DTSTART;TZID=Europe/Berlin:20250308T181500
DTEND;TZID=Europe/Berlin:20250308T201500
LOCATION:ZŠ Oskara Nedbala České Budějovice\, O. Nedbala 882 České Budějovi
 ce - České Budějovice 2
SUMMARY:CP-U16Z-F3G: VK Madeta-VK Prostějov
END:VEVENT
BEGIN:VEVENT
UID:34323161-3930-4336-a366-333136663665
DTSTAMP:20260421T161238Z
DESCRIPTION:12/24 VoCe - VK Prostějov 2:1 (16\,-20\,13)
DTSTART;TZID=Europe/Berlin:20250309T124500
DTEND;TZID=Europe/Berlin:20250309T144500
LOCATION:ZŠ Oskara Nedbala České Budějovice\, O. Nedbala 882 České Budějovi
 ce - České Budějovice 2
SUMMARY:CP-U16Z-F3G: VoCe-VK Prostějov
END:VEVENT
END:VCALENDAR
