BEGIN:VCALENDAR
VERSION:2.0
PRODID:-//Tělovýchovná jednota Spartak Pelhřimov, z.s.86901//NONSGML kigkonsult.se iCalcreator 2.41.80//
CALSCALE:GREGORIAN
UID:31616231-6462-4338-b161-643039343630
BEGIN:VEVENT
UID:35376362-6232-4236-a564-383365313239
DTSTAMP:20260423T044343Z
DESCRIPTION:1/3 Tělovýchovná jednota Spartak Pelhřimov\, z.s. - SLAVOJ POLN
 Á z.s. 0:3 (-18\,-18\,-14)
DTSTART;TZID=Europe/Berlin:20241117T100000
DTEND;TZID=Europe/Berlin:20241117T120000
LOCATION:Základní škola Pelhřimov\, Osvobození\, Osvobození 1881 Pelhřimov
SUMMARY:VY-M: Tělovýchovná jednota Spartak Pelhřimov\, z.s.-SLAVOJ POLNÁ z.
 s.
END:VEVENT
BEGIN:VEVENT
UID:66326133-3934-4463-b437-326262383764
DTSTAMP:20260423T044343Z
DESCRIPTION:2/6 Tělovýchovná jednota Spartak Pelhřimov\, z.s. - SLAVOJ POLN
 Á z.s. 0:3 (-17\,-19\,-25)
DTSTART;TZID=Europe/Berlin:20241117T130000
DTEND;TZID=Europe/Berlin:20241117T150000
LOCATION:Základní škola Pelhřimov\, Osvobození\, Osvobození 1881 Pelhřimov
SUMMARY:VY-M: Tělovýchovná jednota Spartak Pelhřimov\, z.s.-SLAVOJ POLNÁ z.
 s.
END:VEVENT
BEGIN:VEVENT
UID:30373736-3133-4238-b939-613838333465
DTSTAMP:20260423T044343Z
DESCRIPTION:5/14 Tělovýchovná jednota Spartak Pelhřimov\, z.s. - Sportovní 
 klub Jihlava\, z.s. 3:1 (-24\,18\,22\,26)
DTSTART;TZID=Europe/Berlin:20241110T100000
DTEND;TZID=Europe/Berlin:20241110T120000
LOCATION:Základní škola Pelhřimov\, Osvobození\, Osvobození 1881 Pelhřimov
SUMMARY:VY-M: Tělovýchovná jednota Spartak Pelhřimov\, z.s.-Sportovní klub 
 Jihlava\, z.s.
END:VEVENT
BEGIN:VEVENT
UID:62346666-6364-4239-b964-316233633737
DTSTAMP:20260423T044343Z
DESCRIPTION:6/17 Tělovýchovná jednota Spartak Pelhřimov\, z.s. - Sportovní 
 klub Jihlava\, z.s. 3:0 (24\,18\,21)
DTSTART;TZID=Europe/Berlin:20241110T130000
DTEND;TZID=Europe/Berlin:20241110T150000
LOCATION:Základní škola Pelhřimov\, Osvobození\, Osvobození 1881 Pelhřimov
SUMMARY:VY-M: Tělovýchovná jednota Spartak Pelhřimov\, z.s.-Sportovní klub 
 Jihlava\, z.s.
END:VEVENT
BEGIN:VEVENT
UID:63393131-6364-4264-a531-613232663639
DTSTAMP:20260423T044343Z
DESCRIPTION:7/21 Tělovýchovná jednota Spartak Pelhřimov\, z.s. - Tělovýchov
 ná jednota Jiskra Havlíčkův Brod z.s.   'B' 3:0 (16\,17\,16)
DTSTART;TZID=Europe/Berlin:20241123T100000
DTEND;TZID=Europe/Berlin:20241123T120000
LOCATION:Základní škola Pelhřimov\, Osvobození\, Osvobození 1881 Pelhřimov
SUMMARY:VY-M: Tělovýchovná jednota Spartak Pelhřimov\, z.s.-Tělovýchovná je
 dnota Jiskra Havlíčkův Brod z.s.   'B'
END:VEVENT
BEGIN:VEVENT
UID:65383337-3736-4766-b331-623163353830
DTSTAMP:20260423T044343Z
DESCRIPTION:8/24 Tělovýchovná jednota Spartak Pelhřimov\, z.s. - Tělovýchov
 ná jednota Jiskra Havlíčkův Brod z.s.   'B' 3:1 (15\,-24\,18\,17)
DTSTART;TZID=Europe/Berlin:20241123T130000
DTEND;TZID=Europe/Berlin:20241123T150000
LOCATION:Základní škola Pelhřimov\, Osvobození\, Osvobození 1881 Pelhřimov
SUMMARY:VY-M: Tělovýchovná jednota Spartak Pelhřimov\, z.s.-Tělovýchovná je
 dnota Jiskra Havlíčkův Brod z.s.   'B'
END:VEVENT
BEGIN:VEVENT
UID:38303637-6335-4634-b538-616166343163
DTSTAMP:20260423T044343Z
DESCRIPTION:9/25 Tělovýchovná jednota Spartak Pelhřimov\, z.s. - Telč 2:3 (
 26\,21\,-20\,-23\,-6)
DTSTART;TZID=Europe/Berlin:20241130T100000
DTEND;TZID=Europe/Berlin:20241130T120000
LOCATION:Základní škola Pelhřimov\, Osvobození\, Osvobození 1881 Pelhřimov
SUMMARY:VY-M: Tělovýchovná jednota Spartak Pelhřimov\, z.s.-Telč
END:VEVENT
BEGIN:VEVENT
UID:34333733-3863-4039-a162-313163346333
DTSTAMP:20260423T044343Z
DESCRIPTION:10/28 Tělovýchovná jednota Spartak Pelhřimov\, z.s. - Telč 0:3 
 (-17\,-21\,-21)
DTSTART;TZID=Europe/Berlin:20241130T130000
DTEND;TZID=Europe/Berlin:20241130T150000
LOCATION:Základní škola Pelhřimov\, Osvobození\, Osvobození 1881 Pelhřimov
SUMMARY:VY-M: Tělovýchovná jednota Spartak Pelhřimov\, z.s.-Telč
END:VEVENT
BEGIN:VEVENT
UID:39346133-6663-4964-b462-393539383332
DTSTAMP:20260423T044343Z
DESCRIPTION:13/38 Tělovýchovná jednota Spartak Pelhřimov\, z.s. - TJ Žďár n
 ad SázavouKutiš Martin
DTSTART;TZID=Europe/Berlin:20250201T100000
DTEND;TZID=Europe/Berlin:20250201T120000
LOCATION:Základní škola Pelhřimov\, Osvobození\, Osvobození 1881 Pelhřimov
SUMMARY:VY-M: Tělovýchovná jednota Spartak Pelhřimov\, z.s.-TJ Žďár nad Sáz
 avou
END:VEVENT
BEGIN:VEVENT
UID:32303864-6135-4839-a430-646530343538
DTSTAMP:20260423T044343Z
DESCRIPTION:14/41 Tělovýchovná jednota Spartak Pelhřimov\, z.s. - TJ Žďár n
 ad SázavouKutiš Martin
DTSTART;TZID=Europe/Berlin:20250201T130000
DTEND;TZID=Europe/Berlin:20250201T150000
LOCATION:Základní škola Pelhřimov\, Osvobození\, Osvobození 1881 Pelhřimov
SUMMARY:VY-M: Tělovýchovná jednota Spartak Pelhřimov\, z.s.-TJ Žďár nad Sáz
 avou
END:VEVENT
BEGIN:VEVENT
UID:31373465-6434-4636-a431-313537383832
DTSTAMP:20260423T044343Z
DESCRIPTION:3/8 TJ Žďár nad Sázavou - Tělovýchovná jednota Spartak Pelhřimo
 v\, z.s. 3:1 (21\,19\,-22\,21)
DTSTART;TZID=Europe/Berlin:20241026T100000
DTEND;TZID=Europe/Berlin:20241026T120000
LOCATION:Sportovní hala na Bouchalkách\, Jungmannova 1495 Žďár nad Sázavou 
 - Žďár nad Sázavou 1
SUMMARY:VY-M: TJ Žďár nad Sázavou-Tělovýchovná jednota Spartak Pelhřimov\, 
 z.s.
END:VEVENT
BEGIN:VEVENT
UID:34333934-6431-4333-b962-613732393464
DTSTAMP:20260423T044343Z
DESCRIPTION:4/11 TJ Žďár nad Sázavou - Tělovýchovná jednota Spartak Pelhřim
 ov\, z.s. 3:0 (23\,15\,16)
DTSTART;TZID=Europe/Berlin:20241026T130000
DTEND;TZID=Europe/Berlin:20241026T150000
LOCATION:Sportovní hala na Bouchalkách\, Jungmannova 1495 Žďár nad Sázavou 
 - Žďár nad Sázavou 1
SUMMARY:VY-M: TJ Žďár nad Sázavou-Tělovýchovná jednota Spartak Pelhřimov\, 
 z.s.
END:VEVENT
BEGIN:VEVENT
UID:36663433-3565-4462-b933-373166323937
DTSTAMP:20260423T044343Z
DESCRIPTION:11/33 SLAVOJ POLNÁ z.s. - Tělovýchovná jednota Spartak Pelhřimo
 v\, z.s. 3:1 (-23\,20\,16\,23)
DTSTART;TZID=Europe/Berlin:20250112T100000
DTEND;TZID=Europe/Berlin:20250112T120000
LOCATION:Školní tělocvična\, Poděbradova 76 Polná
SUMMARY:VY-M: SLAVOJ POLNÁ z.s.-Tělovýchovná jednota Spartak Pelhřimov\, z.
 s.
END:VEVENT
BEGIN:VEVENT
UID:34666466-3166-4636-a661-626630336639
DTSTAMP:20260423T044343Z
DESCRIPTION:12/36 SLAVOJ POLNÁ z.s. - Tělovýchovná jednota Spartak Pelhřimo
 v\, z.s. 3:2 (23\,-22\,-22\,19\,14)
DTSTART;TZID=Europe/Berlin:20250112T130000
DTEND;TZID=Europe/Berlin:20250112T150000
LOCATION:Školní tělocvična\, Poděbradova 76 Polná
SUMMARY:VY-M: SLAVOJ POLNÁ z.s.-Tělovýchovná jednota Spartak Pelhřimov\, z.
 s.
END:VEVENT
BEGIN:VEVENT
UID:35626465-3665-4263-b762-336334646334
DTSTAMP:20260423T044343Z
DESCRIPTION:15/44 Sportovní klub Jihlava\, z.s. - Tělovýchovná jednota Spar
 tak Pelhřimov\, z.s. 3:1 (-24\,15\,23\,18)
DTSTART;TZID=Europe/Berlin:20250215T100000
DTEND;TZID=Europe/Berlin:20250215T120000
LOCATION:ZŠ Jihlava Demlova\, Demlova 4178 Jihlava
SUMMARY:VY-M: Sportovní klub Jihlava\, z.s.-Tělovýchovná jednota Spartak Pe
 lhřimov\, z.s.
END:VEVENT
BEGIN:VEVENT
UID:30323338-6239-4262-a139-626231633831
DTSTAMP:20260423T044343Z
DESCRIPTION:16/47 Sportovní klub Jihlava\, z.s. - Tělovýchovná jednota Spar
 tak Pelhřimov\, z.s. 2:3 (19\,-18\,-21\,19\,-12)
DTSTART;TZID=Europe/Berlin:20250215T130000
DTEND;TZID=Europe/Berlin:20250215T150000
LOCATION:ZŠ Jihlava Demlova\, Demlova 4178 Jihlava
SUMMARY:VY-M: Sportovní klub Jihlava\, z.s.-Tělovýchovná jednota Spartak Pe
 lhřimov\, z.s.
END:VEVENT
BEGIN:VEVENT
UID:32376362-6533-4337-b231-613735376437
DTSTAMP:20260423T044343Z
DESCRIPTION:17/51 Tělovýchovná jednota Jiskra Havlíčkův Brod z.s.   'B' - T
 ělovýchovná jednota Spartak Pelhřimov\, z.s. 3:0 (24\,22\,22)
DTSTART;TZID=Europe/Berlin:20250308T100000
DTEND;TZID=Europe/Berlin:20250308T120000
LOCATION:Sportovní hala TJ Jiskra\, Ledečská 3028 Havlíčkův Brod
SUMMARY:VY-M: Tělovýchovná jednota Jiskra Havlíčkův Brod z.s.   'B'-Tělovýc
 hovná jednota Spartak Pelhřimov\, z.s.
END:VEVENT
BEGIN:VEVENT
UID:38623365-6435-4837-a130-333037666235
DTSTAMP:20260423T044343Z
DESCRIPTION:18/54 Tělovýchovná jednota Jiskra Havlíčkův Brod z.s.   'B' - T
 ělovýchovná jednota Spartak Pelhřimov\, z.s. 0:3 (-16\,-18\,-23)
DTSTART;TZID=Europe/Berlin:20250308T130000
DTEND;TZID=Europe/Berlin:20250308T150000
LOCATION:Sportovní hala TJ Jiskra\, Ledečská 3028 Havlíčkův Brod
SUMMARY:VY-M: Tělovýchovná jednota Jiskra Havlíčkův Brod z.s.   'B'-Tělovýc
 hovná jednota Spartak Pelhřimov\, z.s.
END:VEVENT
BEGIN:VEVENT
UID:64636264-3861-4336-b133-646365616165
DTSTAMP:20260423T044343Z
DESCRIPTION:19/55 Telč - Tělovýchovná jednota Spartak Pelhřimov\, z.s. 3:0 
 (20\,16\,19)
DTSTART;TZID=Europe/Berlin:20250322T100000
DTEND;TZID=Europe/Berlin:20250322T120000
LOCATION:Sokol Telč\, Masarykova 222 Telč - Telč-Podolí
SUMMARY:VY-M: Telč-Tělovýchovná jednota Spartak Pelhřimov\, z.s.
END:VEVENT
BEGIN:VEVENT
UID:36613063-6239-4930-b234-363236376533
DTSTAMP:20260423T044343Z
DESCRIPTION:20/58 Telč - Tělovýchovná jednota Spartak Pelhřimov\, z.s. 3:0 
 (19\,14\,13)
DTSTART;TZID=Europe/Berlin:20250322T130000
DTEND;TZID=Europe/Berlin:20250322T150000
LOCATION:Sokol Telč\, Masarykova 222 Telč - Telč-Podolí
SUMMARY:VY-M: Telč-Tělovýchovná jednota Spartak Pelhřimov\, z.s.
END:VEVENT
END:VCALENDAR
