BEGIN:VCALENDAR
VERSION:2.0
PRODID:-//Volejbalové sdružení Drásov86908//NONSGML kigkonsult.se iCalcreator 2.41.80//
CALSCALE:GREGORIAN
UID:37353633-3231-4538-a139-356262373230
BEGIN:VEVENT
UID:61646165-6230-4065-a632-336137366136
DTSTAMP:20260422T002605Z
DESCRIPTION:2/2 TJ JUNIOR Brno A - VS Drásov 1:2 (23\,-21\,-12)\nKurt 2
DTSTART;TZID=Europe/Berlin:20240914T090000
DTEND;TZID=Europe/Berlin:20240914T110000
LOCATION:Sportovní hala Letovice\, V zahradách 831 Letovice
SUMMARY:JM-U16Z-KVA: TJ JUNIOR Brno A-VS Drásov
END:VEVENT
BEGIN:VEVENT
UID:31373437-6634-4265-b161-306437326465
DTSTAMP:20260422T002605Z
DESCRIPTION:3/3 ZŠ Milénova B - VS Drásov 2:0 (14\,17)\nKurt 1
DTSTART;TZID=Europe/Berlin:20240914T103000
DTEND;TZID=Europe/Berlin:20240914T123000
LOCATION:Sportovní hala Letovice\, V zahradách 831 Letovice
SUMMARY:JM-U16Z-KVA: ZŠ Milénova B-VS Drásov
END:VEVENT
BEGIN:VEVENT
UID:35373236-6366-4332-b935-636633333963
DTSTAMP:20260422T002605Z
DESCRIPTION:4/4 TJ SOKOL LETOVICE 'A' - VS Drásov 0:2 (-17\,-16)\nKurt 1
DTSTART;TZID=Europe/Berlin:20240914T114500
DTEND;TZID=Europe/Berlin:20240914T134500
LOCATION:Sportovní hala Letovice\, V zahradách 831 Letovice
SUMMARY:JM-U16Z-KVA: TJ SOKOL LETOVICE 'A'-VS Drásov
END:VEVENT
BEGIN:VEVENT
UID:37366635-6331-4633-a366-643032376630
DTSTAMP:20260422T002605Z
DESCRIPTION:3/3 VS Drásov - TJ Minerva Boskovice 0:2 (-13\,-20)\nKurt 1\, 2
 A vs 2B
DTSTART;TZID=Europe/Berlin:20240914T153000
DTEND;TZID=Europe/Berlin:20240914T173000
LOCATION:Sportovní hala Letovice\, V zahradách 831 Letovice
SUMMARY:JM-U16Z-KVAB: VS Drásov-TJ Minerva Boskovice
END:VEVENT
BEGIN:VEVENT
UID:65623263-3032-4734-b464-353433633037
DTSTAMP:20260422T002605Z
DESCRIPTION:1/1 VS Drásov - TJ Slovan Ivančice\, z.s. 2:0 (19\,18)
DTSTART;TZID=Europe/Berlin:20241012T090000
DTEND;TZID=Europe/Berlin:20241012T110000
LOCATION:Hala u ZŠ TGM Drásov\, Školní 167 Drásov
SUMMARY:JM-U16Z-ID: VS Drásov-TJ Slovan Ivančice\, z.s.
END:VEVENT
BEGIN:VEVENT
UID:66666233-6332-4339-a366-356162306330
DTSTAMP:20260422T002605Z
DESCRIPTION:4/4 VS Drásov - Tělocvičná jednota Sokol Bučovice 1:2 (23\,-12\
 ,-2)
DTSTART;TZID=Europe/Berlin:20241012T130000
DTEND;TZID=Europe/Berlin:20241012T150000
LOCATION:Hala u ZŠ TGM Drásov\, Školní 167 Drásov
SUMMARY:JM-U16Z-ID: VS Drásov-Tělocvičná jednota Sokol Bučovice
END:VEVENT
BEGIN:VEVENT
UID:62353835-6338-4130-b462-636333323266
DTSTAMP:20260422T002605Z
DESCRIPTION:6/6 Fosfa Lokomotiva Břeclav A - VS Drásov 2:0 (10\,12)
DTSTART;TZID=Europe/Berlin:20241012T153000
DTEND;TZID=Europe/Berlin:20241012T173000
LOCATION:Hala u ZŠ TGM Drásov\, Školní 167 Drásov
SUMMARY:JM-U16Z-ID: Fosfa Lokomotiva Břeclav A-VS Drásov
END:VEVENT
BEGIN:VEVENT
UID:63383337-3235-4365-b333-353537633961
DTSTAMP:20260422T002605Z
DESCRIPTION:1/2 VS Drásov - Fosfa Lokomotiva Břeclav A 0:2 (-11\,-24)
DTSTART;TZID=Europe/Berlin:20241109T090000
DTEND;TZID=Europe/Berlin:20241109T110000
LOCATION:Městská sportovní hala\, Šafaříkova 1016 Hustopeče
SUMMARY:JM-U16Z-IID: VS Drásov-Fosfa Lokomotiva Břeclav A
END:VEVENT
BEGIN:VEVENT
UID:32396239-6631-4363-b736-653734353734
DTSTAMP:20260422T002605Z
DESCRIPTION:3/5 VS Drásov - TJ Sokol Újezd u Brna 1:2 (-10\,21\,-5)
DTSTART;TZID=Europe/Berlin:20241109T114500
DTEND;TZID=Europe/Berlin:20241109T134500
LOCATION:Městská sportovní hala\, Šafaříkova 1016 Hustopeče
SUMMARY:JM-U16Z-IID: VS Drásov-TJ Sokol Újezd u Brna
END:VEVENT
BEGIN:VEVENT
UID:31393735-3931-4463-b137-653038336136
DTSTAMP:20260422T002605Z
DESCRIPTION:2/4 TJ Agrotec Hustopeče z.s. - VS Drásov 2:0 (20\,22)
DTSTART;TZID=Europe/Berlin:20241109T103000
DTEND;TZID=Europe/Berlin:20241109T123000
LOCATION:Městská sportovní hala\, Šafaříkova 1016 Hustopeče
SUMMARY:JM-U16Z-IID: TJ Agrotec Hustopeče z.s.-VS Drásov
END:VEVENT
BEGIN:VEVENT
UID:63383134-3038-4437-a565-343762626434
DTSTAMP:20260422T002605Z
DESCRIPTION:1/1 VS Drásov - ZŠ Milénova C 0:2 (-19\,-24)
DTSTART;TZID=Europe/Berlin:20241130T090000
DTEND;TZID=Europe/Berlin:20241130T110000
LOCATION:Hala u ZŠ TGM Drásov\, Školní 167 Drásov
SUMMARY:JM-U16Z-IIIE: VS Drásov-ZŠ Milénova C
END:VEVENT
BEGIN:VEVENT
UID:64633561-3561-4539-b162-393137316437
DTSTAMP:20260422T002605Z
DESCRIPTION:4/4 VS Drásov - TJ SOKOL LETOVICE 'B' 2:1 (20\,-19\,13)
DTSTART;TZID=Europe/Berlin:20241130T130000
DTEND;TZID=Europe/Berlin:20241130T150000
LOCATION:Hala u ZŠ TGM Drásov\, Školní 167 Drásov
SUMMARY:JM-U16Z-IIIE: VS Drásov-TJ SOKOL LETOVICE 'B'
END:VEVENT
BEGIN:VEVENT
UID:36633730-6434-4166-b539-623036626131
DTSTAMP:20260422T002605Z
DESCRIPTION:6/6 TJ JUNIOR Brno A - VS Drásov 2:0 (13\,7)
DTSTART;TZID=Europe/Berlin:20241130T153000
DTEND;TZID=Europe/Berlin:20241130T173000
LOCATION:Hala u ZŠ TGM Drásov\, Školní 167 Drásov
SUMMARY:JM-U16Z-IIIE: TJ JUNIOR Brno A-VS Drásov
END:VEVENT
BEGIN:VEVENT
UID:65353733-6163-4030-b630-353432616132
DTSTAMP:20260422T002605Z
DESCRIPTION:1/1 VS Drásov - KP Brno D 2:0 (11\,17)
DTSTART;TZID=Europe/Berlin:20241214T090000
DTEND;TZID=Europe/Berlin:20241214T110000
LOCATION:Hala u ZŠ TGM Drásov\, Školní 167 Drásov
SUMMARY:JM-U16Z-IVF: VS Drásov-KP Brno D
END:VEVENT
BEGIN:VEVENT
UID:36356364-3738-4565-a337-383436396331
DTSTAMP:20260422T002605Z
DESCRIPTION:4/4 VS Drásov - VOLEJBAL VYŠKOV\, z.s. 2:0 (13\,22)
DTSTART;TZID=Europe/Berlin:20241214T130000
DTEND;TZID=Europe/Berlin:20241214T150000
LOCATION:Hala u ZŠ TGM Drásov\, Školní 167 Drásov
SUMMARY:JM-U16Z-IVF: VS Drásov-VOLEJBAL VYŠKOV\, z.s.
END:VEVENT
BEGIN:VEVENT
UID:63663963-6463-4732-a433-366137393533
DTSTAMP:20260422T002605Z
DESCRIPTION:6/6 VK Brno D - VS Drásov 1:2 (-18\,25\,-8)
DTSTART;TZID=Europe/Berlin:20241214T153000
DTEND;TZID=Europe/Berlin:20241214T173000
LOCATION:Hala u ZŠ TGM Drásov\, Školní 167 Drásov
SUMMARY:JM-U16Z-IVF: VK Brno D-VS Drásov
END:VEVENT
BEGIN:VEVENT
UID:63323034-3838-4165-a338-333735383937
DTSTAMP:20260422T002605Z
DESCRIPTION:3/3 VS Drásov - TJ Agrotec Hustopeče z.s. 1:2 (12\,-20\,-10)
DTSTART;TZID=Europe/Berlin:20250118T114500
DTEND;TZID=Europe/Berlin:20250118T134500
LOCATION:ZŠ Na Zahrádkách \, Na Zahrádkách 1716 Šlapanice
SUMMARY:JM-U16Z-VE: VS Drásov-TJ Agrotec Hustopeče z.s.
END:VEVENT
BEGIN:VEVENT
UID:62633664-6162-4739-a532-313333653635
DTSTAMP:20260422T002605Z
DESCRIPTION:1/1 TJ Sokol Šlapanice A - VS Drásov 2:0 (12\,15)
DTSTART;TZID=Europe/Berlin:20250118T090000
DTEND;TZID=Europe/Berlin:20250118T110000
LOCATION:ZŠ Na Zahrádkách \, Na Zahrádkách 1716 Šlapanice
SUMMARY:JM-U16Z-VE: TJ Sokol Šlapanice A-VS Drásov
END:VEVENT
BEGIN:VEVENT
UID:65366132-3831-4432-a536-626634653939
DTSTAMP:20260422T002605Z
DESCRIPTION:5/5 ZŠ Milénova C - VS Drásov 2:0 (14\,16)
DTSTART;TZID=Europe/Berlin:20250118T141500
DTEND;TZID=Europe/Berlin:20250118T161500
LOCATION:ZŠ Na Zahrádkách \, Na Zahrádkách 1716 Šlapanice
SUMMARY:JM-U16Z-VE: ZŠ Milénova C-VS Drásov
END:VEVENT
BEGIN:VEVENT
UID:63396566-3162-4463-a536-396464636231
DTSTAMP:20260422T002605Z
DESCRIPTION:1/1 VS Drásov - TJ JUNIOR Brno B 0:2 (-19\,-18)
DTSTART;TZID=Europe/Berlin:20250201T090000
DTEND;TZID=Europe/Berlin:20250201T110000
LOCATION:Hala u ZŠ TGM Drásov\, Školní 167 Drásov
SUMMARY:JM-U16Z-VIF: VS Drásov-TJ JUNIOR Brno B
END:VEVENT
BEGIN:VEVENT
UID:64646565-3933-4736-b631-616632646463
DTSTAMP:20260422T002605Z
DESCRIPTION:4/4 VS Drásov - TJ SOKOL LETOVICE 'B' 0:2 (-23\,-23)
DTSTART;TZID=Europe/Berlin:20250201T130000
DTEND;TZID=Europe/Berlin:20250201T150000
LOCATION:Hala u ZŠ TGM Drásov\, Školní 167 Drásov
SUMMARY:JM-U16Z-VIF: VS Drásov-TJ SOKOL LETOVICE 'B'
END:VEVENT
BEGIN:VEVENT
UID:39313237-3266-4165-a666-306234386239
DTSTAMP:20260422T002605Z
DESCRIPTION:6/6 VK Brno D - VS Drásov 0:2 (-19\,-9)
DTSTART;TZID=Europe/Berlin:20250201T153000
DTEND;TZID=Europe/Berlin:20250201T173000
LOCATION:Hala u ZŠ TGM Drásov\, Školní 167 Drásov
SUMMARY:JM-U16Z-VIF: VK Brno D-VS Drásov
END:VEVENT
BEGIN:VEVENT
UID:39646137-3830-4361-b730-343364363066
DTSTAMP:20260422T002605Z
DESCRIPTION:2/3 VS Drásov - TJ Agrotec Hustopeče z.s. 0:2 (-7\,-16)
DTSTART;TZID=Europe/Berlin:20250222T100000
DTEND;TZID=Europe/Berlin:20250222T120000
LOCATION:sokolovna Ivančice\, Rybářská 1052 Ivančice
SUMMARY:JM-U16Z-VIIF: VS Drásov-TJ Agrotec Hustopeče z.s.
END:VEVENT
BEGIN:VEVENT
UID:63383636-3035-4566-a433-303038623463
DTSTAMP:20260422T002605Z
DESCRIPTION:1/1 TJ Slovan Ivančice\, z.s. - VS Drásov 2:1 (-21\,21\,8)
DTSTART;TZID=Europe/Berlin:20250222T083000
DTEND;TZID=Europe/Berlin:20250222T103000
LOCATION:sokolovna Ivančice\, Rybářská 1052 Ivančice
SUMMARY:JM-U16Z-VIIF: TJ Slovan Ivančice\, z.s.-VS Drásov
END:VEVENT
BEGIN:VEVENT
UID:64366566-3861-4030-b630-306534373966
DTSTAMP:20260422T002605Z
DESCRIPTION:3/5 VK Brno D - VS Drásov 2:0 (19\,12)
DTSTART;TZID=Europe/Berlin:20250222T111500
DTEND;TZID=Europe/Berlin:20250222T131500
LOCATION:sokolovna Ivančice\, Rybářská 1052 Ivančice
SUMMARY:JM-U16Z-VIIF: VK Brno D-VS Drásov
END:VEVENT
BEGIN:VEVENT
UID:38313366-6237-4131-b833-333531373830
DTSTAMP:20260422T002605Z
DESCRIPTION:1/2 VS Drásov - KP Brno D 1:2 (22\,-22\,-11)
DTSTART;TZID=Europe/Berlin:20250315T090000
DTEND;TZID=Europe/Berlin:20250315T110000
LOCATION:tělocvičny ZŠ Novolíšeňská\, Brno\, Novolíšeňská 2411 Brno - Líšeň
SUMMARY:JM-U16Z-VIIIG: VS Drásov-KP Brno D
END:VEVENT
BEGIN:VEVENT
UID:37303834-6436-4837-b735-643930633861
DTSTAMP:20260422T002605Z
DESCRIPTION:3/5 VS Drásov - TJ Sokol Hrušovany u Brna 0:2 (-24\,-9)
DTSTART;TZID=Europe/Berlin:20250315T114500
DTEND;TZID=Europe/Berlin:20250315T134500
LOCATION:tělocvičny ZŠ Novolíšeňská\, Brno\, Novolíšeňská 2411 Brno - Líšeň
SUMMARY:JM-U16Z-VIIIG: VS Drásov-TJ Sokol Hrušovany u Brna
END:VEVENT
BEGIN:VEVENT
UID:37356537-3431-4461-b733-396539303237
DTSTAMP:20260422T002605Z
DESCRIPTION:2/4 TJ JUNIOR Brno B - VS Drásov 2:0 (7\,21)
DTSTART;TZID=Europe/Berlin:20250315T103000
DTEND;TZID=Europe/Berlin:20250315T123000
LOCATION:tělocvičny ZŠ Novolíšeňská\, Brno\, Novolíšeňská 2411 Brno - Líšeň
SUMMARY:JM-U16Z-VIIIG: TJ JUNIOR Brno B-VS Drásov
END:VEVENT
END:VCALENDAR
