BEGIN:VCALENDAR
VERSION:2.0
PRODID:-//VK Brno, z.s. D86931//NONSGML kigkonsult.se iCalcreator 2.41.80//
CALSCALE:GREGORIAN
UID:36633033-3561-4135-a436-303438303436
BEGIN:VEVENT
UID:65353466-3136-4266-b639-383861616366
DTSTAMP:20260421T223106Z
DESCRIPTION:4/4 VK Brno D - ZŠ Milénova A 0:2 (-14\,-7)\nKurt 1
DTSTART;TZID=Europe/Berlin:20240914T114500
DTEND;TZID=Europe/Berlin:20240914T134500
LOCATION:Městská sportovní hala\, Šafaříkova 1016 Hustopeče
SUMMARY:JM-U16Z-KVE: VK Brno D-ZŠ Milénova A
END:VEVENT
BEGIN:VEVENT
UID:35386233-3133-4031-b665-393965653762
DTSTAMP:20260421T223106Z
DESCRIPTION:6/6 VK Brno D - TJ Agrotec Hustopeče z.s. 0:2 (-14\,-11)\nKurt 
 1
DTSTART;TZID=Europe/Berlin:20240914T130000
DTEND;TZID=Europe/Berlin:20240914T150000
LOCATION:Městská sportovní hala\, Šafaříkova 1016 Hustopeče
SUMMARY:JM-U16Z-KVE: VK Brno D-TJ Agrotec Hustopeče z.s.
END:VEVENT
BEGIN:VEVENT
UID:61353430-6162-4835-b237-353266323562
DTSTAMP:20260421T223106Z
DESCRIPTION:7/7 VK Brno D - TJ Sokol Jehnice 2:0 (13\,22)\nKurt 1
DTSTART;TZID=Europe/Berlin:20240914T141500
DTEND;TZID=Europe/Berlin:20240914T161500
LOCATION:Městská sportovní hala\, Šafaříkova 1016 Hustopeče
SUMMARY:JM-U16Z-KVE: VK Brno D-TJ Sokol Jehnice
END:VEVENT
BEGIN:VEVENT
UID:62383137-3364-4535-b362-373339613233
DTSTAMP:20260421T223106Z
DESCRIPTION:9/9 VK Znojmo - Přímětice - B - VK Brno D 0:2 (-0\,-0)\nKurt 1
DTSTART;TZID=Europe/Berlin:20240914T153000
DTEND;TZID=Europe/Berlin:20240914T173000
LOCATION:Městská sportovní hala\, Šafaříkova 1016 Hustopeče
SUMMARY:JM-U16Z-KVE: VK Znojmo - Přímětice - B-VK Brno D
END:VEVENT
BEGIN:VEVENT
UID:34363037-6535-4262-a537-636264656132
DTSTAMP:20260421T223106Z
DESCRIPTION:1/1 VK Brno D - ZŠ Milénova C 0:2 (-21\,-13)
DTSTART;TZID=Europe/Berlin:20241012T090000
DTEND;TZID=Europe/Berlin:20241012T110000
LOCATION:ZŠ Vejrostova\, Vejrostova 1066 Brno - Bystrc
SUMMARY:JM-U16Z-IF: VK Brno D-ZŠ Milénova C
END:VEVENT
BEGIN:VEVENT
UID:32333533-3061-4532-b363-393466643233
DTSTAMP:20260421T223106Z
DESCRIPTION:4/4 VK Brno D - TJ SOKOL LETOVICE 'B' 0:2 (-9\,-19)
DTSTART;TZID=Europe/Berlin:20241012T130000
DTEND;TZID=Europe/Berlin:20241012T150000
LOCATION:ZŠ Vejrostova\, Vejrostova 1066 Brno - Bystrc
SUMMARY:JM-U16Z-IF: VK Brno D-TJ SOKOL LETOVICE 'B'
END:VEVENT
BEGIN:VEVENT
UID:34623166-3465-4332-b138-303531353831
DTSTAMP:20260421T223106Z
DESCRIPTION:6/6 Orel Křenovice - VK Brno D 2:1 (-20\,22\,12)
DTSTART;TZID=Europe/Berlin:20241012T153000
DTEND;TZID=Europe/Berlin:20241012T173000
LOCATION:ZŠ Vejrostova\, Vejrostova 1066 Brno - Bystrc
SUMMARY:JM-U16Z-IF: Orel Křenovice-VK Brno D
END:VEVENT
BEGIN:VEVENT
UID:38386634-3363-4230-b764-343363353032
DTSTAMP:20260421T223106Z
DESCRIPTION:3/3 VK Brno D - KP Brno D 2:0 (20\,25)
DTSTART;TZID=Europe/Berlin:20241109T103000
DTEND;TZID=Europe/Berlin:20241109T123000
LOCATION:Sportovní hala Letovice\, V zahradách 831 Letovice
SUMMARY:JM-U16Z-IIG: VK Brno D-KP Brno D
END:VEVENT
BEGIN:VEVENT
UID:38643964-3035-4631-a263-393237396537
DTSTAMP:20260421T223106Z
DESCRIPTION:1/1 TJ SOKOL LETOVICE 'A' - VK Brno D 2:1 (-14\,22\,9)
DTSTART;TZID=Europe/Berlin:20241109T090000
DTEND;TZID=Europe/Berlin:20241109T110000
LOCATION:Sportovní hala Letovice\, V zahradách 831 Letovice
SUMMARY:JM-U16Z-IIG: TJ SOKOL LETOVICE 'A'-VK Brno D
END:VEVENT
BEGIN:VEVENT
UID:33346535-3636-4635-b530-373566643032
DTSTAMP:20260421T223106Z
DESCRIPTION:5/5 SK Vedrovice\, z.s. - VK Brno D 0:2 (-10\,-16)
DTSTART;TZID=Europe/Berlin:20241109T130000
DTEND;TZID=Europe/Berlin:20241109T150000
LOCATION:Sportovní hala Letovice\, V zahradách 831 Letovice
SUMMARY:JM-U16Z-IIG: SK Vedrovice\, z.s.-VK Brno D
END:VEVENT
BEGIN:VEVENT
UID:65333036-3838-4034-a265-383036333661
DTSTAMP:20260421T223106Z
DESCRIPTION:1/1 VK Brno D - TJ Slovan Ivančice\, z.s. 2:0 (17\,9)
DTSTART;TZID=Europe/Berlin:20241130T090000
DTEND;TZID=Europe/Berlin:20241130T110000
LOCATION:ZŠ Vejrostova\, Vejrostova 1066 Brno - Bystrc
SUMMARY:JM-U16Z-IIIF: VK Brno D-TJ Slovan Ivančice\, z.s.
END:VEVENT
BEGIN:VEVENT
UID:30623632-3065-4262-a662-613539303166
DTSTAMP:20260421T223106Z
DESCRIPTION:2/4 VK Brno D - VOLEJBAL VYŠKOV\, z.s. 1:2 (21\,-10\,-7)
DTSTART;TZID=Europe/Berlin:20241130T103000
DTEND;TZID=Europe/Berlin:20241130T123000
LOCATION:ZŠ Vejrostova\, Vejrostova 1066 Brno - Bystrc
SUMMARY:JM-U16Z-IIIF: VK Brno D-VOLEJBAL VYŠKOV\, z.s.
END:VEVENT
BEGIN:VEVENT
UID:39646163-3834-4262-a464-663965303732
DTSTAMP:20260421T223106Z
DESCRIPTION:3/6 KP Brno C - VK Brno D 2:0 (20\,21)
DTSTART;TZID=Europe/Berlin:20241130T114500
DTEND;TZID=Europe/Berlin:20241130T134500
LOCATION:ZŠ Vejrostova\, Vejrostova 1066 Brno - Bystrc
SUMMARY:JM-U16Z-IIIF: KP Brno C-VK Brno D
END:VEVENT
BEGIN:VEVENT
UID:37623638-3035-4566-b363-656539646535
DTSTAMP:20260421T223106Z
DESCRIPTION:6/6 VK Brno D - VS Drásov 1:2 (-18\,25\,-8)
DTSTART;TZID=Europe/Berlin:20241214T153000
DTEND;TZID=Europe/Berlin:20241214T173000
LOCATION:Hala u ZŠ TGM Drásov\, Školní 167 Drásov
SUMMARY:JM-U16Z-IVF: VK Brno D-VS Drásov
END:VEVENT
BEGIN:VEVENT
UID:61636663-6131-4166-b036-663065313330
DTSTAMP:20260421T223106Z
DESCRIPTION:2/2 VOLEJBAL VYŠKOV\, z.s. - VK Brno D 2:0 (24\,9)
DTSTART;TZID=Europe/Berlin:20241214T103000
DTEND;TZID=Europe/Berlin:20241214T123000
LOCATION:Hala u ZŠ TGM Drásov\, Školní 167 Drásov
SUMMARY:JM-U16Z-IVF: VOLEJBAL VYŠKOV\, z.s.-VK Brno D
END:VEVENT
BEGIN:VEVENT
UID:61336539-3232-4336-a638-316635653938
DTSTAMP:20260421T223106Z
DESCRIPTION:3/3 KP Brno D - VK Brno D 0:2 (-9\,-23)
DTSTART;TZID=Europe/Berlin:20241214T114500
DTEND;TZID=Europe/Berlin:20241214T134500
LOCATION:Hala u ZŠ TGM Drásov\, Školní 167 Drásov
SUMMARY:JM-U16Z-IVF: KP Brno D-VK Brno D
END:VEVENT
BEGIN:VEVENT
UID:34323965-3136-4431-b136-363233633162
DTSTAMP:20260421T223106Z
DESCRIPTION:3/3 VK Brno D - VOLEJBAL VYŠKOV\, z.s. 0:2 (-7\,-15)
DTSTART;TZID=Europe/Berlin:20250118T114500
DTEND;TZID=Europe/Berlin:20250118T134500
LOCATION:Sportovní hala u ZŠ Brněnec \,  Brněnec - Moravská Chrastová100
SUMMARY:JM-U16Z-VF: VK Brno D-VOLEJBAL VYŠKOV\, z.s.
END:VEVENT
BEGIN:VEVENT
UID:65366664-3230-4663-a132-663262643238
DTSTAMP:20260421T223106Z
DESCRIPTION:1/1 TJ SOKOL LETOVICE 'B' - VK Brno D 2:1 (24\,-19\,15)
DTSTART;TZID=Europe/Berlin:20250118T090000
DTEND;TZID=Europe/Berlin:20250118T110000
LOCATION:Sportovní hala u ZŠ Brněnec \,  Brněnec - Moravská Chrastová100
SUMMARY:JM-U16Z-VF: TJ SOKOL LETOVICE 'B'-VK Brno D
END:VEVENT
BEGIN:VEVENT
UID:35643065-6264-4835-b364-393434353961
DTSTAMP:20260421T223106Z
DESCRIPTION:5/5 TJ Slovan Ivančice\, z.s. - VK Brno D 0:2 (-21\,-12)
DTSTART;TZID=Europe/Berlin:20250118T141500
DTEND;TZID=Europe/Berlin:20250118T161500
LOCATION:Sportovní hala u ZŠ Brněnec \,  Brněnec - Moravská Chrastová100
SUMMARY:JM-U16Z-VF: TJ Slovan Ivančice\, z.s.-VK Brno D
END:VEVENT
BEGIN:VEVENT
UID:31643732-6436-4139-a161-303031663762
DTSTAMP:20260421T223106Z
DESCRIPTION:6/6 VK Brno D - VS Drásov 0:2 (-19\,-9)
DTSTART;TZID=Europe/Berlin:20250201T153000
DTEND;TZID=Europe/Berlin:20250201T173000
LOCATION:Hala u ZŠ TGM Drásov\, Školní 167 Drásov
SUMMARY:JM-U16Z-VIF: VK Brno D-VS Drásov
END:VEVENT
BEGIN:VEVENT
UID:38386630-3332-4430-b939-353166353263
DTSTAMP:20260421T223106Z
DESCRIPTION:2/2 TJ SOKOL LETOVICE 'B' - VK Brno D 1:2 (17\,-20\,-14)
DTSTART;TZID=Europe/Berlin:20250201T103000
DTEND;TZID=Europe/Berlin:20250201T123000
LOCATION:Hala u ZŠ TGM Drásov\, Školní 167 Drásov
SUMMARY:JM-U16Z-VIF: TJ SOKOL LETOVICE 'B'-VK Brno D
END:VEVENT
BEGIN:VEVENT
UID:33343461-3239-4366-b031-383338666365
DTSTAMP:20260421T223106Z
DESCRIPTION:3/3 TJ JUNIOR Brno B - VK Brno D 0:2 (-14\,-13)
DTSTART;TZID=Europe/Berlin:20250201T114500
DTEND;TZID=Europe/Berlin:20250201T134500
LOCATION:Hala u ZŠ TGM Drásov\, Školní 167 Drásov
SUMMARY:JM-U16Z-VIF: TJ JUNIOR Brno B-VK Brno D
END:VEVENT
BEGIN:VEVENT
UID:30373335-6433-4262-a266-383061653835
DTSTAMP:20260421T223106Z
DESCRIPTION:1/2 VK Brno D - TJ Agrotec Hustopeče z.s. 1:2 (23\,-16\,-6)
DTSTART;TZID=Europe/Berlin:20250222T083000
DTEND;TZID=Europe/Berlin:20250222T103000
LOCATION:sokolovna Ivančice\, Rybářská 1052 Ivančice
SUMMARY:JM-U16Z-VIIF: VK Brno D-TJ Agrotec Hustopeče z.s.
END:VEVENT
BEGIN:VEVENT
UID:36383730-3835-4138-b432-653162303731
DTSTAMP:20260421T223106Z
DESCRIPTION:3/5 VK Brno D - VS Drásov 2:0 (19\,12)
DTSTART;TZID=Europe/Berlin:20250222T111500
DTEND;TZID=Europe/Berlin:20250222T131500
LOCATION:sokolovna Ivančice\, Rybářská 1052 Ivančice
SUMMARY:JM-U16Z-VIIF: VK Brno D-VS Drásov
END:VEVENT
BEGIN:VEVENT
UID:34306337-6330-4966-b231-353362343933
DTSTAMP:20260421T223106Z
DESCRIPTION:2/4 TJ Slovan Ivančice\, z.s. - VK Brno D 0:2 (-17\,-11)
DTSTART;TZID=Europe/Berlin:20250222T100000
DTEND;TZID=Europe/Berlin:20250222T120000
LOCATION:sokolovna Ivančice\, Rybářská 1052 Ivančice
SUMMARY:JM-U16Z-VIIF: TJ Slovan Ivančice\, z.s.-VK Brno D
END:VEVENT
BEGIN:VEVENT
UID:63656132-3431-4438-a336-336461623961
DTSTAMP:20260421T223106Z
DESCRIPTION:1/1 VK Brno D - ZŠ Milénova C 2:0 (13\,17)
DTSTART;TZID=Europe/Berlin:20250315T090000
DTEND;TZID=Europe/Berlin:20250315T110000
LOCATION:ZŠ Vejrostova\, Vejrostova 1066 Brno - Bystrc
SUMMARY:JM-U16Z-VIIIF: VK Brno D-ZŠ Milénova C
END:VEVENT
BEGIN:VEVENT
UID:38623930-3561-4432-a135-303232343364
DTSTAMP:20260421T223106Z
DESCRIPTION:2/4 VK Brno D - VK Znojmo - Přímětice - C 2:0 (21\,13)
DTSTART;TZID=Europe/Berlin:20250315T103000
DTEND;TZID=Europe/Berlin:20250315T123000
LOCATION:ZŠ Vejrostova\, Vejrostova 1066 Brno - Bystrc
SUMMARY:JM-U16Z-VIIIF: VK Brno D-VK Znojmo - Přímětice - C
END:VEVENT
BEGIN:VEVENT
UID:30303530-3332-4537-a565-613461366235
DTSTAMP:20260421T223106Z
DESCRIPTION:3/6 TJ Slovan Ivančice\, z.s. - VK Brno D 0:2 (-19\,-16)
DTSTART;TZID=Europe/Berlin:20250315T114500
DTEND;TZID=Europe/Berlin:20250315T134500
LOCATION:ZŠ Vejrostova\, Vejrostova 1066 Brno - Bystrc
SUMMARY:JM-U16Z-VIIIF: TJ Slovan Ivančice\, z.s.-VK Brno D
END:VEVENT
BEGIN:VEVENT
UID:30323365-3332-4637-b530-623961666135
DTSTAMP:20260421T223106Z
DESCRIPTION:1/1 VK Brno D - TJ JUNIOR Brno A 2:0 (6\,6)
DTSTART;TZID=Europe/Berlin:20250412T090000
DTEND;TZID=Europe/Berlin:20250412T110000
LOCATION:ZŠ Vejrostova\, Vejrostova 1066 Brno - Bystrc
SUMMARY:JM-U16Z-PC: VK Brno D-TJ JUNIOR Brno A
END:VEVENT
BEGIN:VEVENT
UID:35303935-3563-4330-a137-626638633361
DTSTAMP:20260421T223106Z
DESCRIPTION:4/4 VK Brno D - SK Vedrovice\, z.s. 2:0 (8\,9)
DTSTART;TZID=Europe/Berlin:20250412T130000
DTEND;TZID=Europe/Berlin:20250412T150000
LOCATION:ZŠ Vejrostova\, Vejrostova 1066 Brno - Bystrc
SUMMARY:JM-U16Z-PC: VK Brno D-SK Vedrovice\, z.s.
END:VEVENT
BEGIN:VEVENT
UID:36303830-3530-4561-b866-636230393937
DTSTAMP:20260421T223106Z
DESCRIPTION:6/6 KP Brno C - VK Brno D 1:2 (-24\,17\,-13)
DTSTART;TZID=Europe/Berlin:20250412T153000
DTEND;TZID=Europe/Berlin:20250412T173000
LOCATION:ZŠ Vejrostova\, Vejrostova 1066 Brno - Bystrc
SUMMARY:JM-U16Z-PC: KP Brno C-VK Brno D
END:VEVENT
BEGIN:VEVENT
UID:30643634-3666-4561-b537-666533373036
DTSTAMP:20260421T223106Z
DESCRIPTION:1/2 VK Brno D - Orel Křenovice 2:1 (-19\,23\,8)\n2. vs 7. Kurt 
 2
DTSTART;TZID=Europe/Berlin:20250426T090000
DTEND;TZID=Europe/Berlin:20250426T110000
LOCATION:ZŠ Vejrostova\, Vejrostova 1066 Brno - Bystrc
SUMMARY:JM-U16Z-PFA: VK Brno D-Orel Křenovice
END:VEVENT
BEGIN:VEVENT
UID:61386366-3035-4362-b738-666138393033
DTSTAMP:20260421T223106Z
DESCRIPTION:4/8 VK Brno D - Fosfa Lokomotiva Břeclav A 0:2 (-15\,-23)\nW2 v
 s W3 Kurt 2
DTSTART;TZID=Europe/Berlin:20250426T130000
DTEND;TZID=Europe/Berlin:20250426T150000
LOCATION:ZŠ Vejrostova\, Vejrostova 1066 Brno - Bystrc
SUMMARY:JM-U16Z-PFA: VK Brno D-Fosfa Lokomotiva Břeclav A
END:VEVENT
BEGIN:VEVENT
UID:35363661-6437-4639-b563-373830356436
DTSTAMP:20260421T223106Z
DESCRIPTION:6/11 KP Brno C - VK Brno D 1:2 (-11\,20\,-7)\nL7 vs L8 Kurt 2
DTSTART;TZID=Europe/Berlin:20250426T153000
DTEND;TZID=Europe/Berlin:20250426T173000
LOCATION:Sportovní gymnázium Ludvíka Daňka\, Botanická 63 Brno - Ponava
SUMMARY:JM-U16Z-PFA: KP Brno C-VK Brno D
END:VEVENT
END:VCALENDAR
