BEGIN:VCALENDAR
VERSION:2.0
PRODID:-//TJ Agrotec Hustopeče z.s.86933//NONSGML kigkonsult.se iCalcreator 2.41.80//
CALSCALE:GREGORIAN
UID:63353037-3066-4435-b938-336365646562
BEGIN:VEVENT
UID:34316261-6135-4062-a364-376362326332
DTSTAMP:20260421T192713Z
DESCRIPTION:1/1 TJ Agrotec Hustopeče z.s. - VK Znojmo - Přímětice - B 2:0 (
 0\,0)\nKurt 1
DTSTART;TZID=Europe/Berlin:20240914T090000
DTEND;TZID=Europe/Berlin:20240914T110000
LOCATION:Městská sportovní hala\, Šafaříkova 1016 Hustopeče
SUMMARY:JM-U16Z-KVE: TJ Agrotec Hustopeče z.s.-VK Znojmo - Přímětice - B
END:VEVENT
BEGIN:VEVENT
UID:64626637-6637-4235-b939-616433656531
DTSTAMP:20260421T192713Z
DESCRIPTION:10/10 TJ Agrotec Hustopeče z.s. - ZŠ Milénova A 0:2 (-13\,-10)
 \nKurt 1
DTSTART;TZID=Europe/Berlin:20240914T163000
DTEND;TZID=Europe/Berlin:20240914T183000
LOCATION:Městská sportovní hala\, Šafaříkova 1016 Hustopeče
SUMMARY:JM-U16Z-KVE: TJ Agrotec Hustopeče z.s.-ZŠ Milénova A
END:VEVENT
BEGIN:VEVENT
UID:65313230-3063-4564-b633-306663373434
DTSTAMP:20260421T192713Z
DESCRIPTION:3/3 TJ Sokol Jehnice - TJ Agrotec Hustopeče z.s. 0:2 (-14\,-5)
 \nKurt 1
DTSTART;TZID=Europe/Berlin:20240914T103000
DTEND;TZID=Europe/Berlin:20240914T123000
LOCATION:Městská sportovní hala\, Šafaříkova 1016 Hustopeče
SUMMARY:JM-U16Z-KVE: TJ Sokol Jehnice-TJ Agrotec Hustopeče z.s.
END:VEVENT
BEGIN:VEVENT
UID:37376334-6262-4233-b331-356239353964
DTSTAMP:20260421T192713Z
DESCRIPTION:6/6 VK Brno D - TJ Agrotec Hustopeče z.s. 0:2 (-14\,-11)\nKurt 
 1
DTSTART;TZID=Europe/Berlin:20240914T130000
DTEND;TZID=Europe/Berlin:20240914T150000
LOCATION:Městská sportovní hala\, Šafaříkova 1016 Hustopeče
SUMMARY:JM-U16Z-KVE: VK Brno D-TJ Agrotec Hustopeče z.s.
END:VEVENT
BEGIN:VEVENT
UID:62653237-3739-4931-b232-653338356431
DTSTAMP:20260421T192713Z
DESCRIPTION:6/6 TJ Agrotec Hustopeče z.s. - VK Brno A 0:2 (-23\,-17)
DTSTART;TZID=Europe/Berlin:20241012T153000
DTEND;TZID=Europe/Berlin:20241012T173000
LOCATION:ZŠ Vejrostova\, Vejrostova 1066 Brno - Bystrc
SUMMARY:JM-U16Z-IC: TJ Agrotec Hustopeče z.s.-VK Brno A
END:VEVENT
BEGIN:VEVENT
UID:64663833-6362-4035-a237-356164633531
DTSTAMP:20260421T192713Z
DESCRIPTION:2/2 TJ Minerva Boskovice - TJ Agrotec Hustopeče z.s. 2:0 (14\,1
 1)
DTSTART;TZID=Europe/Berlin:20241012T103000
DTEND;TZID=Europe/Berlin:20241012T123000
LOCATION:ZŠ Vejrostova\, Vejrostova 1066 Brno - Bystrc
SUMMARY:JM-U16Z-IC: TJ Minerva Boskovice-TJ Agrotec Hustopeče z.s.
END:VEVENT
BEGIN:VEVENT
UID:63373634-6263-4033-b532-326539636564
DTSTAMP:20260421T192713Z
DESCRIPTION:3/3 B6 Brno - TJ Agrotec Hustopeče z.s. 2:0 (10\,19)
DTSTART;TZID=Europe/Berlin:20241012T114500
DTEND;TZID=Europe/Berlin:20241012T134500
LOCATION:ZŠ Vejrostova\, Vejrostova 1066 Brno - Bystrc
SUMMARY:JM-U16Z-IC: B6 Brno-TJ Agrotec Hustopeče z.s.
END:VEVENT
BEGIN:VEVENT
UID:32346666-3939-4064-b066-393237363435
DTSTAMP:20260421T192713Z
DESCRIPTION:1/1 TJ Agrotec Hustopeče z.s. - TJ Sokol Újezd u Brna 1:2 (-2\,
 22\,-5)
DTSTART;TZID=Europe/Berlin:20241109T090000
DTEND;TZID=Europe/Berlin:20241109T110000
LOCATION:Městská sportovní hala\, Šafaříkova 1016 Hustopeče
SUMMARY:JM-U16Z-IID: TJ Agrotec Hustopeče z.s.-TJ Sokol Újezd u Brna
END:VEVENT
BEGIN:VEVENT
UID:39616435-6361-4333-b164-616437643864
DTSTAMP:20260421T192713Z
DESCRIPTION:2/4 TJ Agrotec Hustopeče z.s. - VS Drásov 2:0 (20\,22)
DTSTART;TZID=Europe/Berlin:20241109T103000
DTEND;TZID=Europe/Berlin:20241109T123000
LOCATION:Městská sportovní hala\, Šafaříkova 1016 Hustopeče
SUMMARY:JM-U16Z-IID: TJ Agrotec Hustopeče z.s.-VS Drásov
END:VEVENT
BEGIN:VEVENT
UID:62363936-3663-4839-b264-373063613939
DTSTAMP:20260421T192713Z
DESCRIPTION:3/6 Fosfa Lokomotiva Břeclav A - TJ Agrotec Hustopeče z.s. 1:2 
 (-24\,17\,-13)
DTSTART;TZID=Europe/Berlin:20241109T114500
DTEND;TZID=Europe/Berlin:20241109T134500
LOCATION:Městská sportovní hala\, Šafaříkova 1016 Hustopeče
SUMMARY:JM-U16Z-IID: Fosfa Lokomotiva Břeclav A-TJ Agrotec Hustopeče z.s.
END:VEVENT
BEGIN:VEVENT
UID:37383432-3230-4334-b339-343932323263
DTSTAMP:20260421T192713Z
DESCRIPTION:1/1 TJ Agrotec Hustopeče z.s. - TJ Sokol Šlapanice A 0:2 (-16\,
 -16)
DTSTART;TZID=Europe/Berlin:20241130T090000
DTEND;TZID=Europe/Berlin:20241130T110000
LOCATION:Městská sportovní hala\, Šafaříkova 1016 Hustopeče
SUMMARY:JM-U16Z-IIID: TJ Agrotec Hustopeče z.s.-TJ Sokol Šlapanice A
END:VEVENT
BEGIN:VEVENT
UID:33393935-3431-4339-b335-323064386462
DTSTAMP:20260421T192713Z
DESCRIPTION:2/4 TJ Agrotec Hustopeče z.s. - Fosfa Lokomotiva Břeclav A 0:2 
 (-5\,-19)
DTSTART;TZID=Europe/Berlin:20241130T103000
DTEND;TZID=Europe/Berlin:20241130T123000
LOCATION:Městská sportovní hala\, Šafaříkova 1016 Hustopeče
SUMMARY:JM-U16Z-IIID: TJ Agrotec Hustopeče z.s.-Fosfa Lokomotiva Břeclav A
END:VEVENT
BEGIN:VEVENT
UID:36313732-6332-4066-b030-313337373832
DTSTAMP:20260421T192713Z
DESCRIPTION:3/6 SK Beach Slavkov - TJ Agrotec Hustopeče z.s. 2:1 (-19\,18\,
 13)
DTSTART;TZID=Europe/Berlin:20241130T114500
DTEND;TZID=Europe/Berlin:20241130T134500
LOCATION:Městská sportovní hala\, Šafaříkova 1016 Hustopeče
SUMMARY:JM-U16Z-IIID: SK Beach Slavkov-TJ Agrotec Hustopeče z.s.
END:VEVENT
BEGIN:VEVENT
UID:31396139-6137-4033-a432-356530313430
DTSTAMP:20260421T192713Z
DESCRIPTION:6/6 TJ Agrotec Hustopeče z.s. - ZŠ Milénova C 0:2 (-20\,-18)
DTSTART;TZID=Europe/Berlin:20241214T153000
DTEND;TZID=Europe/Berlin:20241214T173000
LOCATION:ZŠ Milénova 14\, Milénova 808 Brno - Lesná
SUMMARY:JM-U16Z-IVE: TJ Agrotec Hustopeče z.s.-ZŠ Milénova C
END:VEVENT
BEGIN:VEVENT
UID:65613934-6633-4262-b933-643963303930
DTSTAMP:20260421T192713Z
DESCRIPTION:2/2 TJ SOKOL LETOVICE 'B' - TJ Agrotec Hustopeče z.s. X:2
DTSTART;TZID=Europe/Berlin:20241214T103000
DTEND;TZID=Europe/Berlin:20241214T123000
LOCATION:ZŠ Milénova 14\, Milénova 808 Brno - Lesná
SUMMARY:JM-U16Z-IVE: TJ SOKOL LETOVICE 'B'-TJ Agrotec Hustopeče z.s.
END:VEVENT
BEGIN:VEVENT
UID:39306661-3763-4334-b436-363631646438
DTSTAMP:20260421T192713Z
DESCRIPTION:3/3 KP Brno C - TJ Agrotec Hustopeče z.s. 2:0 (14\,18)
DTSTART;TZID=Europe/Berlin:20241214T114500
DTEND;TZID=Europe/Berlin:20241214T134500
LOCATION:ZŠ Milénova 14\, Milénova 808 Brno - Lesná
SUMMARY:JM-U16Z-IVE: KP Brno C-TJ Agrotec Hustopeče z.s.
END:VEVENT
BEGIN:VEVENT
UID:66316339-3837-4261-b766-303333626261
DTSTAMP:20260421T192713Z
DESCRIPTION:6/6 TJ Agrotec Hustopeče z.s. - TJ Sokol Šlapanice A 0:2 (-21\,
 -17)
DTSTART;TZID=Europe/Berlin:20250118T153000
DTEND;TZID=Europe/Berlin:20250118T173000
LOCATION:ZŠ Na Zahrádkách \, Na Zahrádkách 1716 Šlapanice
SUMMARY:JM-U16Z-VE: TJ Agrotec Hustopeče z.s.-TJ Sokol Šlapanice A
END:VEVENT
BEGIN:VEVENT
UID:32356534-6566-4564-b237-653764326531
DTSTAMP:20260421T192713Z
DESCRIPTION:2/2 ZŠ Milénova C - TJ Agrotec Hustopeče z.s. 0:2 (-24\,-24)
DTSTART;TZID=Europe/Berlin:20250118T103000
DTEND;TZID=Europe/Berlin:20250118T123000
LOCATION:ZŠ Na Zahrádkách \, Na Zahrádkách 1716 Šlapanice
SUMMARY:JM-U16Z-VE: ZŠ Milénova C-TJ Agrotec Hustopeče z.s.
END:VEVENT
BEGIN:VEVENT
UID:62666633-3962-4632-a334-363436656330
DTSTAMP:20260421T192713Z
DESCRIPTION:3/3 VS Drásov - TJ Agrotec Hustopeče z.s. 1:2 (12\,-20\,-10)
DTSTART;TZID=Europe/Berlin:20250118T114500
DTEND;TZID=Europe/Berlin:20250118T134500
LOCATION:ZŠ Na Zahrádkách \, Na Zahrádkách 1716 Šlapanice
SUMMARY:JM-U16Z-VE: VS Drásov-TJ Agrotec Hustopeče z.s.
END:VEVENT
BEGIN:VEVENT
UID:66666339-6335-4839-a161-376666373431
DTSTAMP:20260421T192713Z
DESCRIPTION:1/1 TJ Agrotec Hustopeče z.s. - VOLEJBAL VYŠKOV\, z.s. 1:2 (23\
 ,-23\,-8)
DTSTART;TZID=Europe/Berlin:20250201T090000
DTEND;TZID=Europe/Berlin:20250201T110000
LOCATION:Městská sportovní hala\, Šafaříkova 1016 Hustopeče
SUMMARY:JM-U16Z-VIE: TJ Agrotec Hustopeče z.s.-VOLEJBAL VYŠKOV\, z.s.
END:VEVENT
BEGIN:VEVENT
UID:37663464-3933-4761-b034-653733386331
DTSTAMP:20260421T192713Z
DESCRIPTION:2/4 TJ Agrotec Hustopeče z.s. - TJ Sokol Újezd u Brna 0:2 (-23\
 ,-9)
DTSTART;TZID=Europe/Berlin:20250201T103000
DTEND;TZID=Europe/Berlin:20250201T123000
LOCATION:Městská sportovní hala\, Šafaříkova 1016 Hustopeče
SUMMARY:JM-U16Z-VIE: TJ Agrotec Hustopeče z.s.-TJ Sokol Újezd u Brna
END:VEVENT
BEGIN:VEVENT
UID:64616562-3133-4531-b933-613738643961
DTSTAMP:20260421T192713Z
DESCRIPTION:3/6 ZŠ Milénova C - TJ Agrotec Hustopeče z.s. 2:1 (-19\,17\,7)
DTSTART;TZID=Europe/Berlin:20250201T114500
DTEND;TZID=Europe/Berlin:20250201T134500
LOCATION:Městská sportovní hala\, Šafaříkova 1016 Hustopeče
SUMMARY:JM-U16Z-VIE: ZŠ Milénova C-TJ Agrotec Hustopeče z.s.
END:VEVENT
BEGIN:VEVENT
UID:64323630-6162-4133-b535-343265376232
DTSTAMP:20260421T192713Z
DESCRIPTION:3/6 TJ Agrotec Hustopeče z.s. - TJ Slovan Ivančice\, z.s. 2:0 (
 22\,18)
DTSTART;TZID=Europe/Berlin:20250222T111500
DTEND;TZID=Europe/Berlin:20250222T131500
LOCATION:sokolovna Ivančice\, Rybářská 1052 Ivančice
SUMMARY:JM-U16Z-VIIF: TJ Agrotec Hustopeče z.s.-TJ Slovan Ivančice\, z.s.
END:VEVENT
BEGIN:VEVENT
UID:38366563-3761-4461-b838-353036373032
DTSTAMP:20260421T192713Z
DESCRIPTION:1/2 VK Brno D - TJ Agrotec Hustopeče z.s. 1:2 (23\,-16\,-6)
DTSTART;TZID=Europe/Berlin:20250222T083000
DTEND;TZID=Europe/Berlin:20250222T103000
LOCATION:sokolovna Ivančice\, Rybářská 1052 Ivančice
SUMMARY:JM-U16Z-VIIF: VK Brno D-TJ Agrotec Hustopeče z.s.
END:VEVENT
BEGIN:VEVENT
UID:66323733-3466-4766-b734-336439376137
DTSTAMP:20260421T192713Z
DESCRIPTION:2/3 VS Drásov - TJ Agrotec Hustopeče z.s. 0:2 (-7\,-16)
DTSTART;TZID=Europe/Berlin:20250222T100000
DTEND;TZID=Europe/Berlin:20250222T120000
LOCATION:sokolovna Ivančice\, Rybářská 1052 Ivančice
SUMMARY:JM-U16Z-VIIF: VS Drásov-TJ Agrotec Hustopeče z.s.
END:VEVENT
BEGIN:VEVENT
UID:62636435-3235-4634-a231-653661336664
DTSTAMP:20260421T192713Z
DESCRIPTION:1/2 TJ Agrotec Hustopeče z.s. - B6 Brno 0:2 (-6\,-14)
DTSTART;TZID=Europe/Berlin:20250315T090000
DTEND;TZID=Europe/Berlin:20250315T110000
LOCATION:Sportovní hala Letovice\, V zahradách 831 Letovice
SUMMARY:JM-U16Z-VIIIE: TJ Agrotec Hustopeče z.s.-B6 Brno
END:VEVENT
BEGIN:VEVENT
UID:35313061-3866-4233-b937-306332333161
DTSTAMP:20260421T192713Z
DESCRIPTION:3/4 TJ Agrotec Hustopeče z.s. - KP Brno C 2:0 (21\,23)
DTSTART;TZID=Europe/Berlin:20250315T114500
DTEND;TZID=Europe/Berlin:20250315T134500
LOCATION:Sportovní hala Letovice\, V zahradách 831 Letovice
SUMMARY:JM-U16Z-VIIIE: TJ Agrotec Hustopeče z.s.-KP Brno C
END:VEVENT
BEGIN:VEVENT
UID:66333033-3736-4531-a665-633036636165
DTSTAMP:20260421T192713Z
DESCRIPTION:4/6 TJ SOKOL LETOVICE 'B' - TJ Agrotec Hustopeče z.s. 1:2 (-17\
 ,24\,-10)
DTSTART;TZID=Europe/Berlin:20250315T130000
DTEND;TZID=Europe/Berlin:20250315T150000
LOCATION:Sportovní hala Letovice\, V zahradách 831 Letovice
SUMMARY:JM-U16Z-VIIIE: TJ SOKOL LETOVICE 'B'-TJ Agrotec Hustopeče z.s.
END:VEVENT
BEGIN:VEVENT
UID:37333535-3036-4561-b933-313538343061
DTSTAMP:20260421T192713Z
DESCRIPTION:3/3 TJ Agrotec Hustopeče z.s. - TJ Sokol Újezd u Brna 2:0 (21\,
 18)
DTSTART;TZID=Europe/Berlin:20250412T114500
DTEND;TZID=Europe/Berlin:20250412T134500
LOCATION:Sportovní hala\, Kpt. Nálepky 186 Břeclav - Charvátská Nová Ves
SUMMARY:JM-U16Z-PD: TJ Agrotec Hustopeče z.s.-TJ Sokol Újezd u Brna
END:VEVENT
BEGIN:VEVENT
UID:65316539-3234-4364-a233-376262333836
DTSTAMP:20260421T192713Z
DESCRIPTION:1/1 Fosfa Lokomotiva Břeclav A - TJ Agrotec Hustopeče z.s. 2:1 
 (14\,-17\,13)
DTSTART;TZID=Europe/Berlin:20250412T090000
DTEND;TZID=Europe/Berlin:20250412T110000
LOCATION:Sportovní hala\, Kpt. Nálepky 186 Břeclav - Charvátská Nová Ves
SUMMARY:JM-U16Z-PD: Fosfa Lokomotiva Břeclav A-TJ Agrotec Hustopeče z.s.
END:VEVENT
BEGIN:VEVENT
UID:63666634-6138-4763-b333-323534383464
DTSTAMP:20260421T192713Z
DESCRIPTION:5/5 TJ Slovan Ivančice\, z.s. - TJ Agrotec Hustopeče z.s. 1:2 (
 -17\,15\,-8)
DTSTART;TZID=Europe/Berlin:20250412T141500
DTEND;TZID=Europe/Berlin:20250412T161500
LOCATION:Sportovní hala\, Kpt. Nálepky 186 Břeclav - Charvátská Nová Ves
SUMMARY:JM-U16Z-PD: TJ Slovan Ivančice\, z.s.-TJ Agrotec Hustopeče z.s.
END:VEVENT
BEGIN:VEVENT
UID:34616431-6337-4764-b062-306566626231
DTSTAMP:20260421T192713Z
DESCRIPTION:3/5 TJ Agrotec Hustopeče z.s. - VOLEJBAL VYŠKOV\, z.s. 2:0 (14\
 ,22)\nL1 vs L4 Kurt 1
DTSTART;TZID=Europe/Berlin:20250426T114500
DTEND;TZID=Europe/Berlin:20250426T134500
LOCATION:Městská sportovní hala\, Šafaříkova 1016 Hustopeče
SUMMARY:JM-U16Z-PFA: TJ Agrotec Hustopeče z.s.-VOLEJBAL VYŠKOV\, z.s.
END:VEVENT
BEGIN:VEVENT
UID:64356636-3533-4262-b564-356432613163
DTSTAMP:20260421T192713Z
DESCRIPTION:5/10 TJ Agrotec Hustopeče z.s. - Orel Křenovice 2:1 (13\,-24\,6
 )\nW5 vs W6 Kurt 1
DTSTART;TZID=Europe/Berlin:20250426T141500
DTEND;TZID=Europe/Berlin:20250426T161500
LOCATION:Městská sportovní hala\, Šafaříkova 1016 Hustopeče
SUMMARY:JM-U16Z-PFA: TJ Agrotec Hustopeče z.s.-Orel Křenovice
END:VEVENT
BEGIN:VEVENT
UID:36633230-3931-4334-a330-323663313961
DTSTAMP:20260421T192713Z
DESCRIPTION:1/1 VK Brno A - TJ Agrotec Hustopeče z.s. 2:0 (22\,15)\n1. vs 8
 . Kurt 1
DTSTART;TZID=Europe/Berlin:20250426T090000
DTEND;TZID=Europe/Berlin:20250426T110000
LOCATION:ZŠ Vejrostova\, Vejrostova 1066 Brno - Bystrc
SUMMARY:JM-U16Z-PFA: VK Brno A-TJ Agrotec Hustopeče z.s.
END:VEVENT
END:VCALENDAR
