BEGIN:VCALENDAR
VERSION:2.0
PRODID:-//Volejbalový klub Královo Pole, z.s. D86937//NONSGML kigkonsult.se iCalcreator 2.41.80//
CALSCALE:GREGORIAN
UID:61613332-3562-4434-a264-396634326133
BEGIN:VEVENT
UID:32343033-6362-4837-b762-353362663964
DTSTAMP:20260422T002604Z
DESCRIPTION:3/3 KP Brno D - B6 Brno 0:2 (-10\,-9)\nKurt 1
DTSTART;TZID=Europe/Berlin:20240914T103000
DTEND;TZID=Europe/Berlin:20240914T123000
LOCATION:Sportovní gymnázium Ludvíka Daňka\, Botanická 63 Brno - Ponava
SUMMARY:JM-U16Z-KVC: KP Brno D-B6 Brno
END:VEVENT
BEGIN:VEVENT
UID:65633264-3666-4731-a137-623065313363
DTSTAMP:20260422T002604Z
DESCRIPTION:5/5 KP Brno D - ZŠ Milénova C 0:2 (-8\,-10)\nKurt 2
DTSTART;TZID=Europe/Berlin:20240914T114500
DTEND;TZID=Europe/Berlin:20240914T134500
LOCATION:Sportovní gymnázium Ludvíka Daňka\, Botanická 63 Brno - Ponava
SUMMARY:JM-U16Z-KVC: KP Brno D-ZŠ Milénova C
END:VEVENT
BEGIN:VEVENT
UID:37626662-3265-4235-a435-626262376530
DTSTAMP:20260422T002604Z
DESCRIPTION:2/2 VOLEJBAL VYŠKOV\, z.s. - KP Brno D 2:0 (13\,8)\nKurt 2
DTSTART;TZID=Europe/Berlin:20240914T090000
DTEND;TZID=Europe/Berlin:20240914T110000
LOCATION:Tělocvična ZŠ Nádražní\, Nádražní 5 Vyškov - Vyškov-Město
SUMMARY:JM-U16Z-KVC: VOLEJBAL VYŠKOV\, z.s.-KP Brno D
END:VEVENT
BEGIN:VEVENT
UID:38636562-6432-4135-b532-626463383462
DTSTAMP:20260422T002604Z
DESCRIPTION:7/7 TJ Sokol Šlapanice B - KP Brno D 0:2 (-17\,-16)\nKurt 1
DTSTART;TZID=Europe/Berlin:20240914T141500
DTEND;TZID=Europe/Berlin:20240914T161500
LOCATION:ZŠ Na Zahrádkách \, Na Zahrádkách 1716 Šlapanice
SUMMARY:JM-U16Z-KVC: TJ Sokol Šlapanice B-KP Brno D
END:VEVENT
BEGIN:VEVENT
UID:64356133-6365-4964-a532-386534383163
DTSTAMP:20260422T002604Z
DESCRIPTION:3/3 KP Brno D - KP Brno C 0:2 (-16\,-12)
DTSTART;TZID=Europe/Berlin:20241012T114500
DTEND;TZID=Europe/Berlin:20241012T134500
LOCATION:Sportovní hala Hrušovany u Brna\, Jízdárenská 698 Hrušovany u Brna
SUMMARY:JM-U16Z-IG: KP Brno D-KP Brno C
END:VEVENT
BEGIN:VEVENT
UID:33346332-6566-4636-b862-663462623537
DTSTAMP:20260422T002604Z
DESCRIPTION:1/1 TJ Sokol Hrušovany u Brna - KP Brno D 0:2 (-19\,-21)
DTSTART;TZID=Europe/Berlin:20241012T090000
DTEND;TZID=Europe/Berlin:20241012T110000
LOCATION:Sportovní hala Hrušovany u Brna\, Jízdárenská 698 Hrušovany u Brna
SUMMARY:JM-U16Z-IG: TJ Sokol Hrušovany u Brna-KP Brno D
END:VEVENT
BEGIN:VEVENT
UID:38316330-6662-4230-a130-623162326134
DTSTAMP:20260422T002604Z
DESCRIPTION:5/5 TJ SOKOL LETOVICE 'A' - KP Brno D 0:2 (-19\,-17)
DTSTART;TZID=Europe/Berlin:20241012T141500
DTEND;TZID=Europe/Berlin:20241012T161500
LOCATION:Sportovní hala Hrušovany u Brna\, Jízdárenská 698 Hrušovany u Brna
SUMMARY:JM-U16Z-IG: TJ SOKOL LETOVICE 'A'-KP Brno D
END:VEVENT
BEGIN:VEVENT
UID:34616164-3632-4566-a366-393331313566
DTSTAMP:20260422T002604Z
DESCRIPTION:4/4 KP Brno D - SK Vedrovice\, z.s. 2:1 (19\,-14\,6)
DTSTART;TZID=Europe/Berlin:20241109T114500
DTEND;TZID=Europe/Berlin:20241109T134500
LOCATION:Sportovní hala Letovice\, V zahradách 831 Letovice
SUMMARY:JM-U16Z-IIG: KP Brno D-SK Vedrovice\, z.s.
END:VEVENT
BEGIN:VEVENT
UID:37656464-6363-4833-b036-616565323432
DTSTAMP:20260422T002604Z
DESCRIPTION:6/6 KP Brno D - TJ SOKOL LETOVICE 'A' 2:0 (9\,21)
DTSTART;TZID=Europe/Berlin:20241109T130000
DTEND;TZID=Europe/Berlin:20241109T150000
LOCATION:Sportovní hala Letovice\, V zahradách 831 Letovice
SUMMARY:JM-U16Z-IIG: KP Brno D-TJ SOKOL LETOVICE 'A'
END:VEVENT
BEGIN:VEVENT
UID:35373030-3635-4864-b032-303531396539
DTSTAMP:20260422T002604Z
DESCRIPTION:3/3 VK Brno D - KP Brno D 2:0 (20\,25)
DTSTART;TZID=Europe/Berlin:20241109T103000
DTEND;TZID=Europe/Berlin:20241109T123000
LOCATION:Sportovní hala Letovice\, V zahradách 831 Letovice
SUMMARY:JM-U16Z-IIG: VK Brno D-KP Brno D
END:VEVENT
BEGIN:VEVENT
UID:39376238-3436-4338-b464-313563633366
DTSTAMP:20260422T002604Z
DESCRIPTION:2/3 KP Brno D - Orel Křenovice 1:2 (17\,-15\,-11)
DTSTART;TZID=Europe/Berlin:20241130T103000
DTEND;TZID=Europe/Berlin:20241130T123000
LOCATION:tělocvičny ZŠ Novolíšeňská\, Brno\, Novolíšeňská 2411 Brno - Líšeň
SUMMARY:JM-U16Z-IIIG: KP Brno D-Orel Křenovice
END:VEVENT
BEGIN:VEVENT
UID:36643163-3436-4665-b035-373333636165
DTSTAMP:20260422T002604Z
DESCRIPTION:1/1 TJ JUNIOR Brno B - KP Brno D 0:2 (-19\,-10)
DTSTART;TZID=Europe/Berlin:20241130T090000
DTEND;TZID=Europe/Berlin:20241130T110000
LOCATION:tělocvičny ZŠ Novolíšeňská\, Brno\, Novolíšeňská 2411 Brno - Líšeň
SUMMARY:JM-U16Z-IIIG: TJ JUNIOR Brno B-KP Brno D
END:VEVENT
BEGIN:VEVENT
UID:34643063-3966-4562-b163-643339343934
DTSTAMP:20260422T002604Z
DESCRIPTION:3/5 TJ SOKOL LETOVICE 'A' - KP Brno D 0:2 (-20\,-21)
DTSTART;TZID=Europe/Berlin:20241130T114500
DTEND;TZID=Europe/Berlin:20241130T134500
LOCATION:tělocvičny ZŠ Novolíšeňská\, Brno\, Novolíšeňská 2411 Brno - Líšeň
SUMMARY:JM-U16Z-IIIG: TJ SOKOL LETOVICE 'A'-KP Brno D
END:VEVENT
BEGIN:VEVENT
UID:65393264-3062-4637-b734-613861623866
DTSTAMP:20260422T002604Z
DESCRIPTION:3/3 KP Brno D - VK Brno D 0:2 (-9\,-23)
DTSTART;TZID=Europe/Berlin:20241214T114500
DTEND;TZID=Europe/Berlin:20241214T134500
LOCATION:Hala u ZŠ TGM Drásov\, Školní 167 Drásov
SUMMARY:JM-U16Z-IVF: KP Brno D-VK Brno D
END:VEVENT
BEGIN:VEVENT
UID:38333236-6438-4564-b430-373461306266
DTSTAMP:20260422T002604Z
DESCRIPTION:1/1 VS Drásov - KP Brno D 2:0 (11\,17)
DTSTART;TZID=Europe/Berlin:20241214T090000
DTEND;TZID=Europe/Berlin:20241214T110000
LOCATION:Hala u ZŠ TGM Drásov\, Školní 167 Drásov
SUMMARY:JM-U16Z-IVF: VS Drásov-KP Brno D
END:VEVENT
BEGIN:VEVENT
UID:61643361-3630-4366-a666-633139363161
DTSTAMP:20260422T002604Z
DESCRIPTION:5/5 VOLEJBAL VYŠKOV\, z.s. - KP Brno D 2:0 (17\,19)
DTSTART;TZID=Europe/Berlin:20241214T141500
DTEND;TZID=Europe/Berlin:20241214T161500
LOCATION:Hala u ZŠ TGM Drásov\, Školní 167 Drásov
SUMMARY:JM-U16Z-IVF: VOLEJBAL VYŠKOV\, z.s.-KP Brno D
END:VEVENT
BEGIN:VEVENT
UID:34616634-6665-4632-a365-656238643733
DTSTAMP:20260422T002604Z
DESCRIPTION:3/3 KP Brno D - Orel Křenovice 1:2 (18\,-23\,-9)
DTSTART;TZID=Europe/Berlin:20250118T114500
DTEND;TZID=Europe/Berlin:20250118T134500
LOCATION:tělocvičny ZŠ Novolíšeňská\, Brno\, Novolíšeňská 2411 Brno - Líšeň
SUMMARY:JM-U16Z-VG: KP Brno D-Orel Křenovice
END:VEVENT
BEGIN:VEVENT
UID:30643864-6462-4137-b732-633666643737
DTSTAMP:20260422T002604Z
DESCRIPTION:1/1 TJ JUNIOR Brno B - KP Brno D 1:2 (-26\,14\,-13)
DTSTART;TZID=Europe/Berlin:20250118T090000
DTEND;TZID=Europe/Berlin:20250118T110000
LOCATION:tělocvičny ZŠ Novolíšeňská\, Brno\, Novolíšeňská 2411 Brno - Líšeň
SUMMARY:JM-U16Z-VG: TJ JUNIOR Brno B-KP Brno D
END:VEVENT
BEGIN:VEVENT
UID:38666264-6338-4934-b565-376462643366
DTSTAMP:20260422T002604Z
DESCRIPTION:5/5 VOLEJBAL VYŠKOV\, z.s. - KP Brno D 2:0 (19\,22)
DTSTART;TZID=Europe/Berlin:20250118T141500
DTEND;TZID=Europe/Berlin:20250118T161500
LOCATION:tělocvičny ZŠ Novolíšeňská\, Brno\, Novolíšeňská 2411 Brno - Líšeň
SUMMARY:JM-U16Z-VG: VOLEJBAL VYŠKOV\, z.s.-KP Brno D
END:VEVENT
BEGIN:VEVENT
UID:39613330-6332-4161-a362-653733653330
DTSTAMP:20260422T002604Z
DESCRIPTION:3/6 KP Brno D - TJ Sokol Hrušovany u Brna 2:0 (17\,15)
DTSTART;TZID=Europe/Berlin:20250201T153000
DTEND;TZID=Europe/Berlin:20250201T173000
LOCATION:Sportovní hala Hrušovany u Brna\, Jízdárenská 698 Hrušovany u Brna
SUMMARY:JM-U16Z-VIG: KP Brno D-TJ Sokol Hrušovany u Brna
END:VEVENT
BEGIN:VEVENT
UID:34663132-3930-4136-b163-653265666133
DTSTAMP:20260422T002604Z
DESCRIPTION:1/2 Orel Křenovice - KP Brno D 2:1 (-16\,14\,10)
DTSTART;TZID=Europe/Berlin:20250201T103000
DTEND;TZID=Europe/Berlin:20250201T123000
LOCATION:Sportovní hala Hrušovany u Brna\, Jízdárenská 698 Hrušovany u Brna
SUMMARY:JM-U16Z-VIG: Orel Křenovice-KP Brno D
END:VEVENT
BEGIN:VEVENT
UID:64623838-3035-4038-a336-383264336164
DTSTAMP:20260422T002604Z
DESCRIPTION:2/3 TJ Slovan Ivančice\, z.s. - KP Brno D 1:2 (-23\,23\,-2)
DTSTART;TZID=Europe/Berlin:20250201T114500
DTEND;TZID=Europe/Berlin:20250201T134500
LOCATION:Sportovní hala Hrušovany u Brna\, Jízdárenská 698 Hrušovany u Brna
SUMMARY:JM-U16Z-VIG: TJ Slovan Ivančice\, z.s.-KP Brno D
END:VEVENT
BEGIN:VEVENT
UID:66663635-3334-4666-a131-343634633136
DTSTAMP:20260422T002604Z
DESCRIPTION:1/2 KP Brno D - Orel Křenovice 2:0 (13\,15)
DTSTART;TZID=Europe/Berlin:20250222T090000
DTEND;TZID=Europe/Berlin:20250222T110000
LOCATION:tělocvičny ZŠ Novolíšeňská\, Brno\, Novolíšeňská 2411 Brno - Líšeň
SUMMARY:JM-U16Z-VIIG: KP Brno D-Orel Křenovice
END:VEVENT
BEGIN:VEVENT
UID:63343131-6561-4735-b762-316663626165
DTSTAMP:20260422T002604Z
DESCRIPTION:3/5 KP Brno D - VK Znojmo - Přímětice - C 0:2 (-25\,-20)
DTSTART;TZID=Europe/Berlin:20250222T114500
DTEND;TZID=Europe/Berlin:20250222T134500
LOCATION:tělocvičny ZŠ Novolíšeňská\, Brno\, Novolíšeňská 2411 Brno - Líšeň
SUMMARY:JM-U16Z-VIIG: KP Brno D-VK Znojmo - Přímětice - C
END:VEVENT
BEGIN:VEVENT
UID:38373061-3564-4230-a331-343964656566
DTSTAMP:20260422T002604Z
DESCRIPTION:2/4 TJ JUNIOR Brno B - KP Brno D 2:0 (15\,20)
DTSTART;TZID=Europe/Berlin:20250222T103000
DTEND;TZID=Europe/Berlin:20250222T123000
LOCATION:tělocvičny ZŠ Novolíšeňská\, Brno\, Novolíšeňská 2411 Brno - Líšeň
SUMMARY:JM-U16Z-VIIG: TJ JUNIOR Brno B-KP Brno D
END:VEVENT
BEGIN:VEVENT
UID:62393230-6237-4230-b562-366531386564
DTSTAMP:20260422T002604Z
DESCRIPTION:3/6 KP Brno D - TJ JUNIOR Brno B 2:1 (22\,-17\,9)
DTSTART;TZID=Europe/Berlin:20250315T114500
DTEND;TZID=Europe/Berlin:20250315T134500
LOCATION:tělocvičny ZŠ Novolíšeňská\, Brno\, Novolíšeňská 2411 Brno - Líšeň
SUMMARY:JM-U16Z-VIIIG: KP Brno D-TJ JUNIOR Brno B
END:VEVENT
BEGIN:VEVENT
UID:33643135-3866-4434-a131-356565353639
DTSTAMP:20260422T002604Z
DESCRIPTION:1/2 VS Drásov - KP Brno D 1:2 (22\,-22\,-11)
DTSTART;TZID=Europe/Berlin:20250315T090000
DTEND;TZID=Europe/Berlin:20250315T110000
LOCATION:tělocvičny ZŠ Novolíšeňská\, Brno\, Novolíšeňská 2411 Brno - Líšeň
SUMMARY:JM-U16Z-VIIIG: VS Drásov-KP Brno D
END:VEVENT
BEGIN:VEVENT
UID:64646261-3835-4533-a338-633831393138
DTSTAMP:20260422T002604Z
DESCRIPTION:2/3 TJ Sokol Hrušovany u Brna - KP Brno D 0:2 (-19\,-12)
DTSTART;TZID=Europe/Berlin:20250315T103000
DTEND;TZID=Europe/Berlin:20250315T123000
LOCATION:tělocvičny ZŠ Novolíšeňská\, Brno\, Novolíšeňská 2411 Brno - Líšeň
SUMMARY:JM-U16Z-VIIIG: TJ Sokol Hrušovany u Brna-KP Brno D
END:VEVENT
END:VCALENDAR
