BEGIN:VCALENDAR
VERSION:2.0
PRODID:-//Orel jednota Pozořice86942//NONSGML kigkonsult.se iCalcreator 2.41.80//
CALSCALE:GREGORIAN
UID:34313161-6362-4562-b239-633562323166
BEGIN:VEVENT
UID:64313834-3236-4366-b834-616634666231
DTSTAMP:20260421T223113Z
DESCRIPTION:4/4 Orel jednota Pozořice - VK Znojmo - Přímětice - A 0:2 (-7\,
 -4)\nKurt 1
DTSTART;TZID=Europe/Berlin:20240914T114500
DTEND;TZID=Europe/Berlin:20240914T134500
LOCATION:Multifunkční sportovní hala\, Sportovní 1128 Újezd u Brna
SUMMARY:JM-U16Z-KVG: Orel jednota Pozořice-VK Znojmo - Přímětice - A
END:VEVENT
BEGIN:VEVENT
UID:33663065-6164-4137-b139-623535353065
DTSTAMP:20260421T223113Z
DESCRIPTION:6/6 Orel jednota Pozořice - TJ Sokol Újezd u Brna 0:2 (-12\,-14
 )\nKurt 1
DTSTART;TZID=Europe/Berlin:20240914T130000
DTEND;TZID=Europe/Berlin:20240914T150000
LOCATION:Multifunkční sportovní hala\, Sportovní 1128 Újezd u Brna
SUMMARY:JM-U16Z-KVG: Orel jednota Pozořice-TJ Sokol Újezd u Brna
END:VEVENT
BEGIN:VEVENT
UID:33333237-3130-4132-b139-366637306662
DTSTAMP:20260421T223113Z
DESCRIPTION:7/7 Orel jednota Pozořice - KP Brno C 0:2 (-9\,-11)\nKurt 1
DTSTART;TZID=Europe/Berlin:20240914T141500
DTEND;TZID=Europe/Berlin:20240914T161500
LOCATION:Multifunkční sportovní hala\, Sportovní 1128 Újezd u Brna
SUMMARY:JM-U16Z-KVG: Orel jednota Pozořice-KP Brno C
END:VEVENT
BEGIN:VEVENT
UID:32333737-3562-4336-b235-653937333433
DTSTAMP:20260421T223113Z
DESCRIPTION:9/9 VK Brno A - Orel jednota Pozořice 2:0 (12\,9)\nKurt 1
DTSTART;TZID=Europe/Berlin:20240914T153000
DTEND;TZID=Europe/Berlin:20240914T173000
LOCATION:Multifunkční sportovní hala\, Sportovní 1128 Újezd u Brna
SUMMARY:JM-U16Z-KVG: VK Brno A-Orel jednota Pozořice
END:VEVENT
BEGIN:VEVENT
UID:38396239-6565-4436-b930-363934663562
DTSTAMP:20260421T223113Z
DESCRIPTION:2/2 Orel jednota Pozořice - TJ Sokol Šlapanice B 0:2 (-21\,-25)
DTSTART;TZID=Europe/Berlin:20241012T090000
DTEND;TZID=Europe/Berlin:20241012T110000
LOCATION:tělocvičny ZŠ Novolíšeňská\, Brno\, Novolíšeňská 2411 Brno - Líšeň
SUMMARY:JM-U16Z-IJ: Orel jednota Pozořice-TJ Sokol Šlapanice B
END:VEVENT
BEGIN:VEVENT
UID:30633162-3339-4035-b632-313937623265
DTSTAMP:20260421T223113Z
DESCRIPTION:5/5 Orel jednota Pozořice - VK Znojmo - Přímětice - C 2:0 (19\,
 19)
DTSTART;TZID=Europe/Berlin:20241012T114500
DTEND;TZID=Europe/Berlin:20241012T134500
LOCATION:tělocvičny ZŠ Novolíšeňská\, Brno\, Novolíšeňská 2411 Brno - Líšeň
SUMMARY:JM-U16Z-IJ: Orel jednota Pozořice-VK Znojmo - Přímětice - C
END:VEVENT
BEGIN:VEVENT
UID:66633839-3838-4463-b165-653538636365
DTSTAMP:20260421T223113Z
DESCRIPTION:4/4 Volejbal Veselí nad Moravou - Orel jednota Pozořice 0:2 (-8
 \,-13)
DTSTART;TZID=Europe/Berlin:20241012T103000
DTEND;TZID=Europe/Berlin:20241012T123000
LOCATION:tělocvičny ZŠ Novolíšeňská\, Brno\, Novolíšeňská 2411 Brno - Líšeň
SUMMARY:JM-U16Z-IJ: Volejbal Veselí nad Moravou-Orel jednota Pozořice
END:VEVENT
BEGIN:VEVENT
UID:61353061-3261-4063-b035-306336333332
DTSTAMP:20260421T223113Z
DESCRIPTION:10/10 TJ JUNIOR Brno B - Orel jednota Pozořice 2:1 (-18\,19\,9)
DTSTART;TZID=Europe/Berlin:20241012T141500
DTEND;TZID=Europe/Berlin:20241012T161500
LOCATION:tělocvičny ZŠ Novolíšeňská\, Brno\, Novolíšeňská 2411 Brno - Líšeň
SUMMARY:JM-U16Z-IJ: TJ JUNIOR Brno B-Orel jednota Pozořice
END:VEVENT
BEGIN:VEVENT
UID:30323231-3431-4834-a561-353332653434
DTSTAMP:20260421T223113Z
DESCRIPTION:4/4 Orel jednota Pozořice - VK Znojmo - Přímětice - C 2:0 (17\,
 23)
DTSTART;TZID=Europe/Berlin:20241109T114500
DTEND;TZID=Europe/Berlin:20241109T134500
LOCATION:ZŠ Jungmannova Kuřim\, Jungmannova 813 Kuřim
SUMMARY:JM-U16Z-IIJ: Orel jednota Pozořice-VK Znojmo - Přímětice - C
END:VEVENT
BEGIN:VEVENT
UID:38396562-6439-4264-b131-373530653136
DTSTAMP:20260421T223113Z
DESCRIPTION:6/6 Orel jednota Pozořice - TJ Sokol Šlapanice B 2:0 (20\,16)
DTSTART;TZID=Europe/Berlin:20241109T131500
DTEND;TZID=Europe/Berlin:20241109T151500
LOCATION:ZŠ Jungmannova Kuřim\, Jungmannova 813 Kuřim
SUMMARY:JM-U16Z-IIJ: Orel jednota Pozořice-TJ Sokol Šlapanice B
END:VEVENT
BEGIN:VEVENT
UID:61323338-6566-4263-b562-636363636131
DTSTAMP:20260421T223113Z
DESCRIPTION:7/7 Orel jednota Pozořice - Lumík Kuřim 2:0 (16\,23)
DTSTART;TZID=Europe/Berlin:20241109T140000
DTEND;TZID=Europe/Berlin:20241109T160000
LOCATION:ZŠ Jungmannova Kuřim\, Jungmannova 813 Kuřim
SUMMARY:JM-U16Z-IIJ: Orel jednota Pozořice-Lumík Kuřim
END:VEVENT
BEGIN:VEVENT
UID:36353135-6133-4139-a362-323730653433
DTSTAMP:20260421T223113Z
DESCRIPTION:9/9 Volejbal Veselí nad Moravou - Orel jednota Pozořice 0:2 (-1
 8\,-11)
DTSTART;TZID=Europe/Berlin:20241109T153000
DTEND;TZID=Europe/Berlin:20241109T173000
LOCATION:ZŠ Jungmannova Kuřim\, Jungmannova 813 Kuřim
SUMMARY:JM-U16Z-IIJ: Volejbal Veselí nad Moravou-Orel jednota Pozořice
END:VEVENT
BEGIN:VEVENT
UID:39653933-6334-4830-b330-373831623664
DTSTAMP:20260421T223113Z
DESCRIPTION:3/3 Orel jednota Pozořice - SK Vedrovice\, z.s. 1:2 (-20\,17\,-
 13)
DTSTART;TZID=Europe/Berlin:20241130T114500
DTEND;TZID=Europe/Berlin:20241130T134500
LOCATION:Sportovní hala Hrušovany u Brna\, Jízdárenská 698 Hrušovany u Brna
SUMMARY:JM-U16Z-IIIH: Orel jednota Pozořice-SK Vedrovice\, z.s.
END:VEVENT
BEGIN:VEVENT
UID:38303230-3035-4532-b665-353837376635
DTSTAMP:20260421T223113Z
DESCRIPTION:1/1 TJ Sokol Hrušovany u Brna - Orel jednota Pozořice 2:1 (20\,
 -23\,13)
DTSTART;TZID=Europe/Berlin:20241130T090000
DTEND;TZID=Europe/Berlin:20241130T110000
LOCATION:Sportovní hala Hrušovany u Brna\, Jízdárenská 698 Hrušovany u Brna
SUMMARY:JM-U16Z-IIIH: TJ Sokol Hrušovany u Brna-Orel jednota Pozořice
END:VEVENT
BEGIN:VEVENT
UID:32373036-6533-4036-a139-633165313166
DTSTAMP:20260421T223113Z
DESCRIPTION:5/5 VOLEJBAL VYŠKOV\, z.s. - Orel jednota Pozořice 0:2 (-17\,-2
 1)
DTSTART;TZID=Europe/Berlin:20241130T141500
DTEND;TZID=Europe/Berlin:20241130T161500
LOCATION:Sportovní hala Hrušovany u Brna\, Jízdárenská 698 Hrušovany u Brna
SUMMARY:JM-U16Z-IIIH: VOLEJBAL VYŠKOV\, z.s.-Orel jednota Pozořice
END:VEVENT
BEGIN:VEVENT
UID:35316239-3135-4661-b632-396231643966
DTSTAMP:20260421T223113Z
DESCRIPTION:3/3 Orel jednota Pozořice - VK Znojmo - Přímětice - C 0:2 (-24\
 ,-9)
DTSTART;TZID=Europe/Berlin:20241214T114500
DTEND;TZID=Europe/Berlin:20241214T134500
LOCATION:Sokolovna Dědice\, náměstí Svobody 22 Vyškov - Dědice
SUMMARY:JM-U16Z-IVH: Orel jednota Pozořice-VK Znojmo - Přímětice - C
END:VEVENT
BEGIN:VEVENT
UID:33313137-3536-4238-b665-343733373932
DTSTAMP:20260421T223113Z
DESCRIPTION:1/1 VOLEJBAL VYŠKOV\, z.s. - Orel jednota Pozořice 2:1 (-23\,19
 \,12)
DTSTART;TZID=Europe/Berlin:20241214T090000
DTEND;TZID=Europe/Berlin:20241214T110000
LOCATION:Sokolovna Dědice\, náměstí Svobody 22 Vyškov - Dědice
SUMMARY:JM-U16Z-IVH: VOLEJBAL VYŠKOV\, z.s.-Orel jednota Pozořice
END:VEVENT
BEGIN:VEVENT
UID:63646264-3965-4261-a235-333731323436
DTSTAMP:20260421T223113Z
DESCRIPTION:5/5 TJ SOKOL LETOVICE 'A' - Orel jednota Pozořice 0:2 (-21\,-18
 )
DTSTART;TZID=Europe/Berlin:20241214T141500
DTEND;TZID=Europe/Berlin:20241214T161500
LOCATION:Sokolovna Dědice\, náměstí Svobody 22 Vyškov - Dědice
SUMMARY:JM-U16Z-IVH: TJ SOKOL LETOVICE 'A'-Orel jednota Pozořice
END:VEVENT
BEGIN:VEVENT
UID:32663837-3266-4166-a536-613937656336
DTSTAMP:20260421T223113Z
DESCRIPTION:3/3 Orel jednota Pozořice - VK Znojmo - Přímětice - C 2:0 (12\,
 19)
DTSTART;TZID=Europe/Berlin:20250118T114500
DTEND;TZID=Europe/Berlin:20250118T134500
LOCATION:TJ Sokol Jehnice\, Blanenská 1 Brno - Jehnice
SUMMARY:JM-U16Z-VH: Orel jednota Pozořice-VK Znojmo - Přímětice - C
END:VEVENT
BEGIN:VEVENT
UID:39353437-3533-4365-a635-366664383731
DTSTAMP:20260421T223113Z
DESCRIPTION:1/1 TJ Sokol Jehnice - Orel jednota Pozořice 2:0 (21\,24)
DTSTART;TZID=Europe/Berlin:20250118T090000
DTEND;TZID=Europe/Berlin:20250118T110000
LOCATION:TJ Sokol Jehnice\, Blanenská 1 Brno - Jehnice
SUMMARY:JM-U16Z-VH: TJ Sokol Jehnice-Orel jednota Pozořice
END:VEVENT
BEGIN:VEVENT
UID:31623365-3734-4663-b739-366335383835
DTSTAMP:20260421T223113Z
DESCRIPTION:5/5 TJ Sokol Hrušovany u Brna - Orel jednota Pozořice 2:0 (21\,
 16)
DTSTART;TZID=Europe/Berlin:20250118T141500
DTEND;TZID=Europe/Berlin:20250118T161500
LOCATION:TJ Sokol Jehnice\, Blanenská 1 Brno - Jehnice
SUMMARY:JM-U16Z-VH: TJ Sokol Hrušovany u Brna-Orel jednota Pozořice
END:VEVENT
BEGIN:VEVENT
UID:31626533-3535-4735-b337-366533363263
DTSTAMP:20260421T223113Z
DESCRIPTION:2/2 Orel jednota Pozořice - SK Vedrovice\, z.s. 2:0 (12\,21)
DTSTART;TZID=Europe/Berlin:20250201T094500
DTEND;TZID=Europe/Berlin:20250201T114500
LOCATION:ZŠ Jungmannova Kuřim\, Jungmannova 813 Kuřim
SUMMARY:JM-U16Z-VIJ: Orel jednota Pozořice-SK Vedrovice\, z.s.
END:VEVENT
BEGIN:VEVENT
UID:31626265-3865-4231-a431-623935646564
DTSTAMP:20260421T223113Z
DESCRIPTION:5/5 Orel jednota Pozořice - TJ Sokol Šlapanice B 2:0 (21\,15)
DTSTART;TZID=Europe/Berlin:20250201T120000
DTEND;TZID=Europe/Berlin:20250201T140000
LOCATION:ZŠ Jungmannova Kuřim\, Jungmannova 813 Kuřim
SUMMARY:JM-U16Z-VIJ: Orel jednota Pozořice-TJ Sokol Šlapanice B
END:VEVENT
BEGIN:VEVENT
UID:63653233-3731-4861-a531-373636623166
DTSTAMP:20260421T223113Z
DESCRIPTION:7/7 Orel jednota Pozořice - Lumík Kuřim 2:0 (4\,15)
DTSTART;TZID=Europe/Berlin:20250201T133000
DTEND;TZID=Europe/Berlin:20250201T153000
LOCATION:ZŠ Jungmannova Kuřim\, Jungmannova 813 Kuřim
SUMMARY:JM-U16Z-VIJ: Orel jednota Pozořice-Lumík Kuřim
END:VEVENT
BEGIN:VEVENT
UID:33623436-3532-4166-a235-333835333237
DTSTAMP:20260421T223113Z
DESCRIPTION:4/4 Volejbal Veselí nad Moravou - Orel jednota Pozořice 0:2 (-7
 \,-5)
DTSTART;TZID=Europe/Berlin:20250201T111500
DTEND;TZID=Europe/Berlin:20250201T131500
LOCATION:ZŠ Jungmannova Kuřim\, Jungmannova 813 Kuřim
SUMMARY:JM-U16Z-VIJ: Volejbal Veselí nad Moravou-Orel jednota Pozořice
END:VEVENT
BEGIN:VEVENT
UID:32663065-6233-4531-b933-376434653566
DTSTAMP:20260421T223113Z
DESCRIPTION:6/6 Orel jednota Pozořice - TJ Sokol Hrušovany u Brna 0:2 (-23\
 ,-23)
DTSTART;TZID=Europe/Berlin:20250222T153000
DTEND;TZID=Europe/Berlin:20250222T173000
LOCATION:Sportovní hala Hrušovany u Brna\, Jízdárenská 698 Hrušovany u Brna
SUMMARY:JM-U16Z-VIIH: Orel jednota Pozořice-TJ Sokol Hrušovany u Brna
END:VEVENT
BEGIN:VEVENT
UID:39616236-6537-4433-b736-373539613563
DTSTAMP:20260421T223113Z
DESCRIPTION:2/2 VOLEJBAL VYŠKOV\, z.s. - Orel jednota Pozořice 1:2 (16\,-18
 \,-12)
DTSTART;TZID=Europe/Berlin:20250222T103000
DTEND;TZID=Europe/Berlin:20250222T123000
LOCATION:Sportovní hala Hrušovany u Brna\, Jízdárenská 698 Hrušovany u Brna
SUMMARY:JM-U16Z-VIIH: VOLEJBAL VYŠKOV\, z.s.-Orel jednota Pozořice
END:VEVENT
BEGIN:VEVENT
UID:65343262-3362-4336-b664-363135613366
DTSTAMP:20260421T223113Z
DESCRIPTION:3/3 TJ Sokol Jehnice - Orel jednota Pozořice 0:2 (-23\,-20)
DTSTART;TZID=Europe/Berlin:20250222T114500
DTEND;TZID=Europe/Berlin:20250222T134500
LOCATION:Sportovní hala Hrušovany u Brna\, Jízdárenská 698 Hrušovany u Brna
SUMMARY:JM-U16Z-VIIH: TJ Sokol Jehnice-Orel jednota Pozořice
END:VEVENT
BEGIN:VEVENT
UID:38343964-3133-4434-a137-626365626334
DTSTAMP:20260421T223113Z
DESCRIPTION:3/6 Orel jednota Pozořice - Orel Křenovice 0:2 (-23\,-14)
DTSTART;TZID=Europe/Berlin:20250315T153000
DTEND;TZID=Europe/Berlin:20250315T173000
LOCATION:Sportovní hala Křenovice \, Bratří Mrázků 635 Křenovice
SUMMARY:JM-U16Z-VIIIH: Orel jednota Pozořice-Orel Křenovice
END:VEVENT
BEGIN:VEVENT
UID:34346136-6337-4231-a234-323938336161
DTSTAMP:20260421T223113Z
DESCRIPTION:1/2 VOLEJBAL VYŠKOV\, z.s. - Orel jednota Pozořice 2:1 (-23\,25
 \,13)
DTSTART;TZID=Europe/Berlin:20250315T103000
DTEND;TZID=Europe/Berlin:20250315T123000
LOCATION:Sportovní hala Křenovice \, Bratří Mrázků 635 Křenovice
SUMMARY:JM-U16Z-VIIIH: VOLEJBAL VYŠKOV\, z.s.-Orel jednota Pozořice
END:VEVENT
BEGIN:VEVENT
UID:66373934-3534-4765-a535-653961363862
DTSTAMP:20260421T223113Z
DESCRIPTION:2/3 TJ Sokol Šlapanice B - Orel jednota Pozořice 0:2 (-18\,-15)
DTSTART;TZID=Europe/Berlin:20250315T114500
DTEND;TZID=Europe/Berlin:20250315T134500
LOCATION:Sportovní hala Křenovice \, Bratří Mrázků 635 Křenovice
SUMMARY:JM-U16Z-VIIIH: TJ Sokol Šlapanice B-Orel jednota Pozořice
END:VEVENT
END:VCALENDAR
