BEGIN:VCALENDAR
VERSION:2.0
PRODID:-//VOLEJBAL VYŠKOV, z.s. U2086951//NONSGML kigkonsult.se iCalcreator 2.41.80//
CALSCALE:GREGORIAN
UID:30656530-3463-4639-a365-303864363135
BEGIN:VEVENT
UID:34643431-6264-4062-b031-386437366535
DTSTAMP:20260423T064152Z
DESCRIPTION:3/3 VOLEJBAL VYŠKOV\, z.s. U20 - TJ Sokol Hrušovany u Brna U20 
 2:0 (15\,20)\nKurt 2
DTSTART;TZID=Europe/Berlin:20240915T103000
DTEND;TZID=Europe/Berlin:20240915T123000
LOCATION:Sokolovna Dědice\, náměstí Svobody 22 Vyškov - Dědice
SUMMARY:JM-U20M-KVB: VOLEJBAL VYŠKOV\, z.s. U20-TJ Sokol Hrušovany u Brna U
 20
END:VEVENT
BEGIN:VEVENT
UID:31313331-3639-4666-a231-323464666430
DTSTAMP:20260423T064152Z
DESCRIPTION:1/1 Šlapanice U20 - VOLEJBAL VYŠKOV\, z.s. U20 2:0 (13\,7)\nKur
 t 3
DTSTART;TZID=Europe/Berlin:20240915T090000
DTEND;TZID=Europe/Berlin:20240915T110000
LOCATION:ZŠ Na Zahrádkách \, Na Zahrádkách 1716 Šlapanice
SUMMARY:JM-U20M-KVB: Šlapanice U20-VOLEJBAL VYŠKOV\, z.s. U20
END:VEVENT
BEGIN:VEVENT
UID:30613133-6161-4935-b464-626532373165
DTSTAMP:20260423T064152Z
DESCRIPTION:5/5 Břeclav U18 - Kvalifikace - VOLEJBAL VYŠKOV\, z.s. U20 2:0 
 (15\,21)\nKurt 3
DTSTART;TZID=Europe/Berlin:20240915T130000
DTEND;TZID=Europe/Berlin:20240915T150000
SUMMARY:JM-U20M-KVB: Břeclav U18 - Kvalifikace-VOLEJBAL VYŠKOV\, z.s. U20
END:VEVENT
BEGIN:VEVENT
UID:61663130-3531-4330-a162-656233383762
DTSTAMP:20260423T064152Z
DESCRIPTION:1/1 VOLEJBAL VYŠKOV\, z.s. U20 - TJ TESLA BRNO z.s. U20 'B' 0:3
  (-5\,-12\,-15)
DTSTART;TZID=Europe/Berlin:20241020T090000
DTEND;TZID=Europe/Berlin:20241020T110000
LOCATION:Sokolovna Dědice\, náměstí Svobody 22 Vyškov - Dědice
SUMMARY:JM-U20M-IC: VOLEJBAL VYŠKOV\, z.s. U20-TJ TESLA BRNO z.s. U20 'B'
END:VEVENT
BEGIN:VEVENT
UID:32663136-3338-4135-b036-356362353834
DTSTAMP:20260423T064152Z
DESCRIPTION:3/3 TJ SOKOL LETOVICE U18 - VOLEJBAL VYŠKOV\, z.s. U20 3:0 (21\
 ,17\,16)
DTSTART;TZID=Europe/Berlin:20241020T130000
DTEND;TZID=Europe/Berlin:20241020T150000
LOCATION:Sokolovna Dědice\, náměstí Svobody 22 Vyškov - Dědice
SUMMARY:JM-U20M-IC: TJ SOKOL LETOVICE U18-VOLEJBAL VYŠKOV\, z.s. U20
END:VEVENT
BEGIN:VEVENT
UID:38623336-3832-4030-a537-643136336233
DTSTAMP:20260423T064152Z
DESCRIPTION:2/2 VOLEJBAL VYŠKOV\, z.s. U20 - VS Drásov U18 3:0 (22\,13\,18)
DTSTART;TZID=Europe/Berlin:20241110T110000
DTEND;TZID=Europe/Berlin:20241110T130000
LOCATION:Sportovní hala Hrušovany u Brna\, Jízdárenská 698 Hrušovany u Brna
SUMMARY:JM-U20M-IID: VOLEJBAL VYŠKOV\, z.s. U20-VS Drásov U18
END:VEVENT
BEGIN:VEVENT
UID:32303434-3764-4535-a639-366639386434
DTSTAMP:20260423T064152Z
DESCRIPTION:1/1 TJ Sokol Hrušovany u Brna U20 - VOLEJBAL VYŠKOV\, z.s. U20 
 3:0 (14\,21\,20)
DTSTART;TZID=Europe/Berlin:20241110T090000
DTEND;TZID=Europe/Berlin:20241110T110000
LOCATION:Sportovní hala Hrušovany u Brna\, Jízdárenská 698 Hrušovany u Brna
SUMMARY:JM-U20M-IID: TJ Sokol Hrušovany u Brna U20-VOLEJBAL VYŠKOV\, z.s. U
 20
END:VEVENT
BEGIN:VEVENT
UID:39616434-6232-4634-b731-666262396433
DTSTAMP:20260423T064152Z
DESCRIPTION:2/3 VOLEJBAL VYŠKOV\, z.s. U20 - VS Drásov U18 2:0 (14\,20)
DTSTART;TZID=Europe/Berlin:20241208T103000
DTEND;TZID=Europe/Berlin:20241208T123000
LOCATION:TJ Lokomotiva Břeclav\, Veslařská 2753 Břeclav
SUMMARY:JM-U20M-IIID: VOLEJBAL VYŠKOV\, z.s. U20-VS Drásov U18
END:VEVENT
BEGIN:VEVENT
UID:61663534-3666-4362-b131-303631373036
DTSTAMP:20260423T064152Z
DESCRIPTION:1/1 Fosfa Lokomotiva Břeclav U18 - VOLEJBAL VYŠKOV\, z.s. U20 2
 :1 (13\,-21\,12)
DTSTART;TZID=Europe/Berlin:20241208T090000
DTEND;TZID=Europe/Berlin:20241208T110000
LOCATION:TJ Lokomotiva Břeclav\, Veslařská 2753 Břeclav
SUMMARY:JM-U20M-IIID: Fosfa Lokomotiva Břeclav U18-VOLEJBAL VYŠKOV\, z.s. U
 20
END:VEVENT
BEGIN:VEVENT
UID:30313836-3930-4235-b734-353535356562
DTSTAMP:20260423T064152Z
DESCRIPTION:3/5 Volejbalový klub Psycho Rosice U20 - VOLEJBAL VYŠKOV\, z.s.
  U20 2:0 (14\,13)
DTSTART;TZID=Europe/Berlin:20241208T114500
DTEND;TZID=Europe/Berlin:20241208T134500
LOCATION:TJ Lokomotiva Břeclav\, Veslařská 2753 Břeclav
SUMMARY:JM-U20M-IIID: Volejbalový klub Psycho Rosice U20-VOLEJBAL VYŠKOV\, 
 z.s. U20
END:VEVENT
BEGIN:VEVENT
UID:33346234-3137-4631-b436-623038303736
DTSTAMP:20260423T064152Z
DESCRIPTION:3/3 VOLEJBAL VYŠKOV\, z.s. U20 - TJ Sokol Hrušovany u Brna U20 
 0:2 (-17\,-23)
DTSTART;TZID=Europe/Berlin:20250112T114500
DTEND;TZID=Europe/Berlin:20250112T134500
LOCATION:ZŠ Na Zahrádkách \, Pod Zahrádkami 120 Rosice
SUMMARY:JM-U20M-IVD: VOLEJBAL VYŠKOV\, z.s. U20-TJ Sokol Hrušovany u Brna U
 20
END:VEVENT
BEGIN:VEVENT
UID:65363330-3666-4739-a234-613565633430
DTSTAMP:20260423T064152Z
DESCRIPTION:1/1 Volejbalový klub Psycho Rosice U20 - VOLEJBAL VYŠKOV\, z.s.
  U20 2:0 (18\,19)
DTSTART;TZID=Europe/Berlin:20250112T090000
DTEND;TZID=Europe/Berlin:20250112T110000
LOCATION:ZŠ Na Zahrádkách \, Pod Zahrádkami 120 Rosice
SUMMARY:JM-U20M-IVD: Volejbalový klub Psycho Rosice U20-VOLEJBAL VYŠKOV\, z
 .s. U20
END:VEVENT
BEGIN:VEVENT
UID:63393037-6436-4538-a539-626263326430
DTSTAMP:20260423T064152Z
DESCRIPTION:5/5 VS Drásov U18 - VOLEJBAL VYŠKOV\, z.s. U20 1:2 (18\,-22\,-1
 1)
DTSTART;TZID=Europe/Berlin:20250112T141500
DTEND;TZID=Europe/Berlin:20250112T161500
LOCATION:ZŠ Na Zahrádkách \, Pod Zahrádkami 120 Rosice
SUMMARY:JM-U20M-IVD: VS Drásov U18-VOLEJBAL VYŠKOV\, z.s. U20
END:VEVENT
BEGIN:VEVENT
UID:39386463-6163-4136-a663-653931643761
DTSTAMP:20260423T064152Z
DESCRIPTION:2/3 VOLEJBAL VYŠKOV\, z.s. U20 - TJ Sokol Hrušovany u Brna U20 
 0:2 (-22\,-15)
DTSTART;TZID=Europe/Berlin:20250223T114500
DTEND;TZID=Europe/Berlin:20250223T134500
LOCATION:TJ Lokomotiva Břeclav\, Veslařská 2753 Břeclav
SUMMARY:JM-U20M-VD: VOLEJBAL VYŠKOV\, z.s. U20-TJ Sokol Hrušovany u Brna U2
 0
END:VEVENT
BEGIN:VEVENT
UID:39306465-3036-4038-b732-316431326466
DTSTAMP:20260423T064152Z
DESCRIPTION:1/1 Fosfa Lokomotiva Břeclav U18 - VOLEJBAL VYŠKOV\, z.s. U20 2
 :1 (21\,-17\,4)
DTSTART;TZID=Europe/Berlin:20250223T090000
DTEND;TZID=Europe/Berlin:20250223T110000
LOCATION:TJ Lokomotiva Břeclav\, Veslařská 2753 Břeclav
SUMMARY:JM-U20M-VD: Fosfa Lokomotiva Břeclav U18-VOLEJBAL VYŠKOV\, z.s. U20
END:VEVENT
BEGIN:VEVENT
UID:66316462-3164-4831-b631-623138326237
DTSTAMP:20260423T064152Z
DESCRIPTION:3/5 VS Drásov U18 - VOLEJBAL VYŠKOV\, z.s. U20 2:0 (25\,21)
DTSTART;TZID=Europe/Berlin:20250223T141500
DTEND;TZID=Europe/Berlin:20250223T161500
LOCATION:TJ Lokomotiva Břeclav\, Veslařská 2753 Břeclav
SUMMARY:JM-U20M-VD: VS Drásov U18-VOLEJBAL VYŠKOV\, z.s. U20
END:VEVENT
BEGIN:VEVENT
UID:65326539-6238-4732-a130-613832306239
DTSTAMP:20260423T064152Z
DESCRIPTION:1/1 VOLEJBAL VYŠKOV\, z.s. U20 - TJ Sokol Hrušovany u Brna U20 
 2:1 (17\,-18\,11)
DTSTART;TZID=Europe/Berlin:20250309T090000
DTEND;TZID=Europe/Berlin:20250309T110000
LOCATION:Sokolovna Dědice\, náměstí Svobody 22 Vyškov - Dědice
SUMMARY:JM-U20M-VID: VOLEJBAL VYŠKOV\, z.s. U20-TJ Sokol Hrušovany u Brna U
 20
END:VEVENT
BEGIN:VEVENT
UID:61646432-3065-4566-b961-386337616131
DTSTAMP:20260423T064152Z
DESCRIPTION:4/4 VOLEJBAL VYŠKOV\, z.s. U20 - VS Drásov U18 1:2 (24\,-14\,-1
 4)
DTSTART;TZID=Europe/Berlin:20250309T130000
DTEND;TZID=Europe/Berlin:20250309T150000
LOCATION:Sokolovna Dědice\, náměstí Svobody 22 Vyškov - Dědice
SUMMARY:JM-U20M-VID: VOLEJBAL VYŠKOV\, z.s. U20-VS Drásov U18
END:VEVENT
BEGIN:VEVENT
UID:37333635-3634-4038-a436-613934383366
DTSTAMP:20260423T064152Z
DESCRIPTION:6/6 Volejbalový klub Psycho Rosice U20 - VOLEJBAL VYŠKOV\, z.s.
  U20 2:0 (16\,15)
DTSTART;TZID=Europe/Berlin:20250309T153000
DTEND;TZID=Europe/Berlin:20250309T173000
LOCATION:Sokolovna Dědice\, náměstí Svobody 22 Vyškov - Dědice
SUMMARY:JM-U20M-VID: Volejbalový klub Psycho Rosice U20-VOLEJBAL VYŠKOV\, z
 .s. U20
END:VEVENT
END:VCALENDAR
