BEGIN:VCALENDAR
VERSION:2.0
PRODID:-//TJ TESLA BRNO z.s. U2086954//NONSGML kigkonsult.se iCalcreator 2.41.80//
CALSCALE:GREGORIAN
UID:66643332-3138-4261-a436-633934306161
BEGIN:VEVENT
UID:36313333-3663-4165-b230-643734313133
DTSTAMP:20260423T042939Z
DESCRIPTION:1/1 TJ TESLA BRNO z.s. U20 - VS Drásov U18 - Kvalifikace 2:0 (5
 \,9)
DTSTART;TZID=Europe/Berlin:20240915T090000
DTEND;TZID=Europe/Berlin:20240915T110000
LOCATION:Sportovní hala Letovice\, V zahradách 831 Letovice
SUMMARY:JM-U20M-KVD: TJ TESLA BRNO z.s. U20-VS Drásov U18 - Kvalifikace
END:VEVENT
BEGIN:VEVENT
UID:39356139-6436-4763-a363-613061323436
DTSTAMP:20260423T042939Z
DESCRIPTION:3/3 VK Brno\, z.s. U20 - TJ TESLA BRNO z.s. U20 0:2 (-14\,-13)
DTSTART;TZID=Europe/Berlin:20240915T000000
DTEND;TZID=Europe/Berlin:20240915T020000
LOCATION:Sportovní hala Letovice\, V zahradách 831 Letovice
SUMMARY:JM-U20M-KVD: VK Brno\, z.s. U20-TJ TESLA BRNO z.s. U20
END:VEVENT
BEGIN:VEVENT
UID:38363363-6661-4538-a462-343864306130
DTSTAMP:20260423T042939Z
DESCRIPTION:2/2 VS Drásov U20 - TJ TESLA BRNO z.s. U20 0:2 (-14\,-10)\nKurt
  2\, 2C vs 1D
DTSTART;TZID=Europe/Berlin:20240915T130000
DTEND;TZID=Europe/Berlin:20240915T150000
LOCATION:Sportovní hala Letovice\, V zahradách 831 Letovice
SUMMARY:JM-U20M-KVCD: VS Drásov U20-TJ TESLA BRNO z.s. U20
END:VEVENT
BEGIN:VEVENT
UID:65373131-6133-4566-b133-333062326264
DTSTAMP:20260423T042939Z
DESCRIPTION:2/2 TJ TESLA BRNO z.s. U20 - Šlapanice U20 1:2 (18\,-21\,-8)
DTSTART;TZID=Europe/Berlin:20241020T103000
DTEND;TZID=Europe/Berlin:20241020T123000
LOCATION:ZŠ Bučovice 710\, Školní 710 Bučovice
SUMMARY:JM-U20M-IA: TJ TESLA BRNO z.s. U20-Šlapanice U20
END:VEVENT
BEGIN:VEVENT
UID:37666462-6131-4165-b534-353833643531
DTSTAMP:20260423T042939Z
DESCRIPTION:5/5 TJ TESLA BRNO z.s. U20 - B6 Brno U20 2:0 (21\,26)
DTSTART;TZID=Europe/Berlin:20241020T141500
DTEND;TZID=Europe/Berlin:20241020T161500
LOCATION:ZŠ Bučovice 710\, Školní 710 Bučovice
SUMMARY:JM-U20M-IA: TJ TESLA BRNO z.s. U20-B6 Brno U20
END:VEVENT
BEGIN:VEVENT
UID:36356466-3837-4335-b132-303466393936
DTSTAMP:20260423T042939Z
DESCRIPTION:4/4 Tělocvičná jednota Sokol Bučovice U20 - TJ TESLA BRNO z.s. 
 U20 0:2 (-9\,-20)
DTSTART;TZID=Europe/Berlin:20241020T130000
DTEND;TZID=Europe/Berlin:20241020T150000
LOCATION:ZŠ Bučovice 710\, Školní 710 Bučovice
SUMMARY:JM-U20M-IA: Tělocvičná jednota Sokol Bučovice U20-TJ TESLA BRNO z.s
 . U20
END:VEVENT
BEGIN:VEVENT
UID:34663433-6166-4334-b966-373731333662
DTSTAMP:20260423T042939Z
DESCRIPTION:3/3 TJ TESLA BRNO z.s. U20 - VK Znojmo - Přímětice U20 0:3 (-18
 \,-22\,-23)
DTSTART;TZID=Europe/Berlin:20241110T130000
DTEND;TZID=Europe/Berlin:20241110T150000
LOCATION:Gymnázium Dr. Karla Polesného\, náměstí Komenského 945 Znojmo
SUMMARY:JM-U20M-IIA: TJ TESLA BRNO z.s. U20-VK Znojmo - Přímětice U20
END:VEVENT
BEGIN:VEVENT
UID:61373463-3533-4832-b935-353232316234
DTSTAMP:20260423T042939Z
DESCRIPTION:2/2 B6 Brno U20 - TJ TESLA BRNO z.s. U20 3:1 (24\,-16\,23\,24)
DTSTART;TZID=Europe/Berlin:20241110T110000
DTEND;TZID=Europe/Berlin:20241110T130000
LOCATION:Gymnázium Dr. Karla Polesného\, náměstí Komenského 945 Znojmo
SUMMARY:JM-U20M-IIA: B6 Brno U20-TJ TESLA BRNO z.s. U20
END:VEVENT
BEGIN:VEVENT
UID:35616536-3166-4365-b265-373937353835
DTSTAMP:20260423T042939Z
DESCRIPTION:6/6 TJ TESLA BRNO z.s. U20 - Šlapanice U20 2:0 (20\,17)
DTSTART;TZID=Europe/Berlin:20241208T153000
DTEND;TZID=Europe/Berlin:20241208T173000
LOCATION:Tělocvična ZŠ Šlapanice\, Masarykovo náměstí 1594 Šlapanice
SUMMARY:JM-U20M-IIIB: TJ TESLA BRNO z.s. U20-Šlapanice U20
END:VEVENT
BEGIN:VEVENT
UID:38663137-3963-4838-b862-326634366630
DTSTAMP:20260423T042939Z
DESCRIPTION:2/2 VS Drásov U20 - TJ TESLA BRNO z.s. U20 0:2 (-15\,-16)
DTSTART;TZID=Europe/Berlin:20241208T103000
DTEND;TZID=Europe/Berlin:20241208T123000
LOCATION:Tělocvična ZŠ Šlapanice\, Masarykovo náměstí 1594 Šlapanice
SUMMARY:JM-U20M-IIIB: VS Drásov U20-TJ TESLA BRNO z.s. U20
END:VEVENT
BEGIN:VEVENT
UID:63396530-3531-4338-b239-626463623832
DTSTAMP:20260423T042939Z
DESCRIPTION:3/3 VK Brno\, z.s. U20 - TJ TESLA BRNO z.s. U20 1:2 (25\,-20\,-
 4)
DTSTART;TZID=Europe/Berlin:20241208T114500
DTEND;TZID=Europe/Berlin:20241208T134500
LOCATION:Tělocvična ZŠ Šlapanice\, Masarykovo náměstí 1594 Šlapanice
SUMMARY:JM-U20M-IIIB: VK Brno\, z.s. U20-TJ TESLA BRNO z.s. U20
END:VEVENT
BEGIN:VEVENT
UID:30316262-3231-4731-a431-393339373132
DTSTAMP:20260423T042939Z
DESCRIPTION:3/3 TJ TESLA BRNO z.s. U20 - VK Znojmo - Přímětice U20 1:3 (-21
 \,-11\,22\,-19)
DTSTART;TZID=Europe/Berlin:20250112T130000
DTEND;TZID=Europe/Berlin:20250112T150000
LOCATION:Gymnázium Dr. Karla Polesného\, náměstí Komenského 945 Znojmo
SUMMARY:JM-U20M-IVA: TJ TESLA BRNO z.s. U20-VK Znojmo - Přímětice U20
END:VEVENT
BEGIN:VEVENT
UID:32656239-3838-4434-b139-313237623132
DTSTAMP:20260423T042939Z
DESCRIPTION:2/2 B6 Brno U20 - TJ TESLA BRNO z.s. U20 0:3 (-18\,-13\,-25)
DTSTART;TZID=Europe/Berlin:20250112T110000
DTEND;TZID=Europe/Berlin:20250112T130000
LOCATION:Gymnázium Dr. Karla Polesného\, náměstí Komenského 945 Znojmo
SUMMARY:JM-U20M-IVA: B6 Brno U20-TJ TESLA BRNO z.s. U20
END:VEVENT
BEGIN:VEVENT
UID:38383534-3265-4632-a336-633238393165
DTSTAMP:20260423T042939Z
DESCRIPTION:2/2 TJ TESLA BRNO z.s. U20 - Šlapanice U20 3:0 (20\,22\,18)
DTSTART;TZID=Europe/Berlin:20250223T110000
DTEND;TZID=Europe/Berlin:20250223T130000
LOCATION:Gymnázium Dr. Karla Polesného\, náměstí Komenského 945 Znojmo
SUMMARY:JM-U20M-VA: TJ TESLA BRNO z.s. U20-Šlapanice U20
END:VEVENT
BEGIN:VEVENT
UID:39633838-6131-4366-b630-306532333562
DTSTAMP:20260423T042939Z
DESCRIPTION:1/1 VK Znojmo - Přímětice U20 - TJ TESLA BRNO z.s. U20 3:1 (22\
 ,-23\,17\,15)
DTSTART;TZID=Europe/Berlin:20250223T090000
DTEND;TZID=Europe/Berlin:20250223T110000
LOCATION:Gymnázium Dr. Karla Polesného\, náměstí Komenského 945 Znojmo
SUMMARY:JM-U20M-VA: VK Znojmo - Přímětice U20-TJ TESLA BRNO z.s. U20
END:VEVENT
BEGIN:VEVENT
UID:32613265-3935-4531-b364-333663366536
DTSTAMP:20260423T042939Z
DESCRIPTION:2/2 TJ TESLA BRNO z.s. U20 - VK Znojmo - Přímětice U20 3:2 (20\
 ,-21\,-21\,20\,11)\nHala Tesla Brno
DTSTART;TZID=Europe/Berlin:20250311T183000
DTEND;TZID=Europe/Berlin:20250311T203000
LOCATION:TJ Tesla Brno\, Halasovo náměstí 826 Brno - Lesná
SUMMARY:JM-U20M-VIA: TJ TESLA BRNO z.s. U20-VK Znojmo - Přímětice U20
END:VEVENT
BEGIN:VEVENT
UID:38363530-3464-4761-a363-626231383132
DTSTAMP:20260423T042939Z
DESCRIPTION:3/3 VK Brno\, z.s. U20 - TJ TESLA BRNO z.s. U20 3:X\nSGLD Botan
 ická
DTSTART;TZID=Europe/Berlin:20250318T153000
DTEND;TZID=Europe/Berlin:20250318T173000
LOCATION:Sportovní gymnázium Ludvíka Daňka\, Botanická 63 Brno - Ponava
SUMMARY:JM-U20M-VIA: VK Brno\, z.s. U20-TJ TESLA BRNO z.s. U20
END:VEVENT
END:VCALENDAR
