BEGIN:VCALENDAR
VERSION:2.0
PRODID:-//Beach volleyball club Chodov, zapsaný spolek86955//NONSGML kigkonsult.se iCalcreator 2.41.80//
CALSCALE:GREGORIAN
UID:36633564-3966-4531-b032-393035366439
BEGIN:VEVENT
UID:39663437-3761-4463-a334-393534623931
DTSTAMP:20260421T164603Z
DESCRIPTION:9/18 BVC CHODOV - Lokomotiva Plzeň 2:0 (22\,22)
DTSTART;TZID=Europe/Berlin:20240922T090000
DTEND;TZID=Europe/Berlin:20240922T110000
LOCATION:ZŠ Dolní Břežany\, Na Vršku 290 Dolní Břežany
SUMMARY:CP-U16Z-Z1C: BVC CHODOV-Lokomotiva Plzeň
END:VEVENT
BEGIN:VEVENT
UID:32623535-3837-4335-a133-386263623533
DTSTAMP:20260421T164603Z
DESCRIPTION:11/22 BVC CHODOV - Škola volejbalu 2:0 (9\,13)
DTSTART;TZID=Europe/Berlin:20240922T113000
DTEND;TZID=Europe/Berlin:20240922T133000
LOCATION:ZŠ Dolní Břežany\, Na Vršku 290 Dolní Břežany
SUMMARY:CP-U16Z-Z1C: BVC CHODOV-Škola volejbalu
END:VEVENT
BEGIN:VEVENT
UID:63613537-6661-4336-b631-616638373461
DTSTAMP:20260421T164603Z
DESCRIPTION:13/25 BVC CHODOV - SK Volejbal Ústí n. Labem 0:2 (-10\,-25)
DTSTART;TZID=Europe/Berlin:20240922T140000
DTEND;TZID=Europe/Berlin:20240922T160000
LOCATION:ZŠ Dolní Břežany\, Na Vršku 290 Dolní Břežany
SUMMARY:CP-U16Z-Z1C: BVC CHODOV-SK Volejbal Ústí n. Labem
END:VEVENT
BEGIN:VEVENT
UID:65306161-3336-4864-b634-396164353163
DTSTAMP:20260421T164603Z
DESCRIPTION:1/1 Orion Praha - BVC CHODOV 2:0 (22\,21)
DTSTART;TZID=Europe/Berlin:20240921T090000
DTEND;TZID=Europe/Berlin:20240921T110000
LOCATION:ZŠ Dolní Břežany\, Na Vršku 290 Dolní Břežany
SUMMARY:CP-U16Z-Z1C: Orion Praha-BVC CHODOV
END:VEVENT
BEGIN:VEVENT
UID:30383335-6335-4030-a562-376635383565
DTSTAMP:20260421T164603Z
DESCRIPTION:3/6 Volejbal Vršovice - BVC CHODOV 1:2 (22\,-9\,-5)
DTSTART;TZID=Europe/Berlin:20240921T113000
DTEND;TZID=Europe/Berlin:20240921T133000
LOCATION:ZŠ Dolní Břežany\, Na Vršku 290 Dolní Břežany
SUMMARY:CP-U16Z-Z1C: Volejbal Vršovice-BVC CHODOV
END:VEVENT
BEGIN:VEVENT
UID:35643634-3265-4433-b762-336333663636
DTSTAMP:20260421T164603Z
DESCRIPTION:5/10 Příbram B - BVC CHODOV 0:2 (-8\,-24)
DTSTART;TZID=Europe/Berlin:20240921T140000
DTEND;TZID=Europe/Berlin:20240921T160000
LOCATION:ZŠ Dolní Břežany\, Na Vršku 290 Dolní Břežany
SUMMARY:CP-U16Z-Z1C: Příbram B-BVC CHODOV
END:VEVENT
BEGIN:VEVENT
UID:38366635-3866-4163-b834-313138656664
DTSTAMP:20260421T164603Z
DESCRIPTION:7/13 Kladno A - BVC CHODOV 1:2 (21\,-23\,-6)
DTSTART;TZID=Europe/Berlin:20240921T163000
DTEND;TZID=Europe/Berlin:20240921T183000
LOCATION:ZŠ Dolní Břežany\, Na Vršku 290 Dolní Břežany
SUMMARY:CP-U16Z-Z1C: Kladno A-BVC CHODOV
END:VEVENT
BEGIN:VEVENT
UID:61313831-3163-4163-b830-353630336561
DTSTAMP:20260421T164603Z
DESCRIPTION:1/2 BVC CHODOV - Meteor Praha 2:0 (21\,12)
DTSTART;TZID=Europe/Berlin:20241102T100000
DTEND;TZID=Europe/Berlin:20241102T120000
LOCATION:Městská sportovní hala Chodov\, Tyršova 1201 Chodov
SUMMARY:CP-U16Z-Z2C: BVC CHODOV-Meteor Praha
END:VEVENT
BEGIN:VEVENT
UID:38656138-6431-4661-a662-393261666666
DTSTAMP:20260421T164603Z
DESCRIPTION:2/5 BVC CHODOV - Šanov Teplice 2:0 (18\,15)
DTSTART;TZID=Europe/Berlin:20241102T113000
DTEND;TZID=Europe/Berlin:20241102T133000
LOCATION:Městská sportovní hala Chodov\, Tyršova 1201 Chodov
SUMMARY:CP-U16Z-Z2C: BVC CHODOV-Šanov Teplice
END:VEVENT
BEGIN:VEVENT
UID:34396233-3834-4163-b138-303062356434
DTSTAMP:20260421T164603Z
DESCRIPTION:7/18 BVC CHODOV - Bižuterie Jablonec 2:0 (20\,22)
DTSTART;TZID=Europe/Berlin:20241103T090000
DTEND;TZID=Europe/Berlin:20241103T110000
LOCATION:Městská sportovní hala Chodov\, Tyršova 1201 Chodov
SUMMARY:CP-U16Z-Z2C: BVC CHODOV-Bižuterie Jablonec
END:VEVENT
BEGIN:VEVENT
UID:62303235-3339-4663-b665-653366623438
DTSTAMP:20260421T164603Z
DESCRIPTION:4/11 Klatovy - BVC CHODOV 0:2 (-20\,-17)
DTSTART;TZID=Europe/Berlin:20241102T143000
DTEND;TZID=Europe/Berlin:20241102T163000
LOCATION:Městská sportovní hala Chodov\, Tyršova 1201 Chodov
SUMMARY:CP-U16Z-Z2C: Klatovy-BVC CHODOV
END:VEVENT
BEGIN:VEVENT
UID:65616637-6437-4131-b261-346636336366
DTSTAMP:20260421T164603Z
DESCRIPTION:5/14 Volejbal Tábor A - BVC CHODOV 0:2 (-18\,-16)
DTSTART;TZID=Europe/Berlin:20241102T160000
DTEND;TZID=Europe/Berlin:20241102T180000
LOCATION:Městská sportovní hala Chodov\, Tyršova 1201 Chodov
SUMMARY:CP-U16Z-Z2C: Volejbal Tábor A-BVC CHODOV
END:VEVENT
BEGIN:VEVENT
UID:34326262-6162-4935-a130-373039323033
DTSTAMP:20260421T164603Z
DESCRIPTION:8/21 Brandýs nad Labem - BVC CHODOV 0:2 (-19\,-18)
DTSTART;TZID=Europe/Berlin:20241103T100000
DTEND;TZID=Europe/Berlin:20241103T120000
LOCATION:Městská sportovní hala Chodov\, Tyršova 1201 Chodov
SUMMARY:CP-U16Z-Z2C: Brandýs nad Labem-BVC CHODOV
END:VEVENT
BEGIN:VEVENT
UID:31356631-3632-4835-a339-663137646639
DTSTAMP:20260421T164603Z
DESCRIPTION:9/24 Lokomotiva Plzeň - BVC CHODOV 1:2 (-17\,15\,-5)
DTSTART;TZID=Europe/Berlin:20241103T110000
DTEND;TZID=Europe/Berlin:20241103T130000
LOCATION:Městská sportovní hala Chodov\, Tyršova 1201 Chodov
SUMMARY:CP-U16Z-Z2C: Lokomotiva Plzeň-BVC CHODOV
END:VEVENT
BEGIN:VEVENT
UID:38653330-6438-4663-a565-383833633564
DTSTAMP:20260421T164603Z
DESCRIPTION:3/6 BVC CHODOV - VK Lvi Praha 1:2 (-17\,23\,-3)
DTSTART;TZID=Europe/Berlin:20241123T120000
DTEND;TZID=Europe/Berlin:20241123T140000
LOCATION:Sportovní hala - SG Plzeň\, Vejprnická 663 Plzeň - Skvrňany
SUMMARY:CP-U16Z-Z3B: BVC CHODOV-VK Lvi Praha
END:VEVENT
BEGIN:VEVENT
UID:38613634-3137-4337-a634-363662333932
DTSTAMP:20260421T164603Z
DESCRIPTION:8/16 BVC CHODOV - Kometa Praha 0:2 (-19\,-11)
DTSTART;TZID=Europe/Berlin:20241124T090000
DTEND;TZID=Europe/Berlin:20241124T110000
LOCATION:Sportovní hala - SG Plzeň\, Vejprnická 663 Plzeň - Skvrňany
SUMMARY:CP-U16Z-Z3B: BVC CHODOV-Kometa Praha
END:VEVENT
BEGIN:VEVENT
UID:31336261-6138-4164-b131-656539386438
DTSTAMP:20260421T164603Z
DESCRIPTION:13/25 BVC CHODOV - Příbram A 0:2 (-8\,-10)
DTSTART;TZID=Europe/Berlin:20241124T151500
DTEND;TZID=Europe/Berlin:20241124T171500
LOCATION:Sportovní hala - SG Plzeň\, Vejprnická 663 Plzeň - Skvrňany
SUMMARY:CP-U16Z-Z3B: BVC CHODOV-Příbram A
END:VEVENT
BEGIN:VEVENT
UID:30393961-3666-4134-a431-623730366333
DTSTAMP:20260421T164603Z
DESCRIPTION:2/3 TJ Kralupy - BVC CHODOV 2:0 (14\,19)
DTSTART;TZID=Europe/Berlin:20241123T104500
DTEND;TZID=Europe/Berlin:20241123T124500
LOCATION:Sportovní hala - SG Plzeň\, Vejprnická 663 Plzeň - Skvrňany
SUMMARY:CP-U16Z-Z3B: TJ Kralupy-BVC CHODOV
END:VEVENT
BEGIN:VEVENT
UID:63383862-6666-4766-a361-376230353737
DTSTAMP:20260421T164603Z
DESCRIPTION:5/9 Lokomotiva Plzeň - BVC CHODOV 2:0 (19\,12)
DTSTART;TZID=Europe/Berlin:20241123T143000
DTEND;TZID=Europe/Berlin:20241123T163000
LOCATION:Sportovní hala - SG Plzeň\, Vejprnická 663 Plzeň - Skvrňany
SUMMARY:CP-U16Z-Z3B: Lokomotiva Plzeň-BVC CHODOV
END:VEVENT
BEGIN:VEVENT
UID:36643431-3265-4965-a530-613430353439
DTSTAMP:20260421T164603Z
DESCRIPTION:6/11 SK Volejbal Ústí n. Labem - BVC CHODOV 1:2 (-15\,22\,-5)
DTSTART;TZID=Europe/Berlin:20241123T154500
DTEND;TZID=Europe/Berlin:20241123T174500
LOCATION:Sportovní hala - SG Plzeň\, Vejprnická 663 Plzeň - Skvrňany
SUMMARY:CP-U16Z-Z3B: SK Volejbal Ústí n. Labem-BVC CHODOV
END:VEVENT
BEGIN:VEVENT
UID:36383134-6536-4733-a634-643361343834
DTSTAMP:20260421T164603Z
DESCRIPTION:10/19 Mikulova A - BVC CHODOV 2:1 (-21\,16\,13)
DTSTART;TZID=Europe/Berlin:20241124T113000
DTEND;TZID=Europe/Berlin:20241124T133000
LOCATION:Sportovní hala - SG Plzeň\, Vejprnická 663 Plzeň - Skvrňany
SUMMARY:CP-U16Z-Z3B: Mikulova A-BVC CHODOV
END:VEVENT
BEGIN:VEVENT
UID:35383262-3365-4363-b438-393037616537
DTSTAMP:20260421T164603Z
DESCRIPTION:4/8 BVC CHODOV - Jiskra Havlíčkův Brod 'A' 0:2 (-14\,-14)
DTSTART;TZID=Europe/Berlin:20250125T124500
DTEND;TZID=Europe/Berlin:20250125T144500
LOCATION:Městská sportovní hala Chodov\, Tyršova 1201 Chodov
SUMMARY:CP-U16Z-F1D: BVC CHODOV-Jiskra Havlíčkův Brod 'A'
END:VEVENT
BEGIN:VEVENT
UID:62636232-6464-4834-b166-663666636361
DTSTAMP:20260421T164603Z
DESCRIPTION:6/12 BVC CHODOV - Střešovice 1:2 (-13\,15\,-9)
DTSTART;TZID=Europe/Berlin:20250125T151500
DTEND;TZID=Europe/Berlin:20250125T171500
LOCATION:Městská sportovní hala Chodov\, Tyršova 1201 Chodov
SUMMARY:CP-U16Z-F1D: BVC CHODOV-Střešovice
END:VEVENT
BEGIN:VEVENT
UID:34346532-3035-4562-b233-333938306466
DTSTAMP:20260421T164603Z
DESCRIPTION:8/16 BVC CHODOV - VK Znojmo - Přímětice - A 2:1 (25\,-10\,4)
DTSTART;TZID=Europe/Berlin:20250125T174500
DTEND;TZID=Europe/Berlin:20250125T194500
LOCATION:Městská sportovní hala Chodov\, Tyršova 1201 Chodov
SUMMARY:CP-U16Z-F1D: BVC CHODOV-VK Znojmo - Přímětice - A
END:VEVENT
BEGIN:VEVENT
UID:61643032-3562-4137-b565-306464383362
DTSTAMP:20260421T164603Z
DESCRIPTION:11/22 BVC CHODOV - VO TJ Lanškroun 2:1 (20\,-22\,10)
DTSTART;TZID=Europe/Berlin:20250126T113000
DTEND;TZID=Europe/Berlin:20250126T133000
LOCATION:Městská sportovní hala Chodov\, Tyršova 1201 Chodov
SUMMARY:CP-U16Z-F1D: BVC CHODOV-VO TJ Lanškroun
END:VEVENT
BEGIN:VEVENT
UID:30633533-3961-4532-a137-616437356431
DTSTAMP:20260421T164603Z
DESCRIPTION:12/24 BVC CHODOV - VK Brno A 0:2 (-23\,-13)
DTSTART;TZID=Europe/Berlin:20250126T124500
DTEND;TZID=Europe/Berlin:20250126T144500
LOCATION:Městská sportovní hala Chodov\, Tyršova 1201 Chodov
SUMMARY:CP-U16Z-F1D: BVC CHODOV-VK Brno A
END:VEVENT
BEGIN:VEVENT
UID:66373062-6630-4765-b761-333533353333
DTSTAMP:20260421T164603Z
DESCRIPTION:2/3 Radotín - BVC CHODOV 2:0 (14\,15)
DTSTART;TZID=Europe/Berlin:20250125T101500
DTEND;TZID=Europe/Berlin:20250125T121500
LOCATION:Sportovní hala Radotín\, U starého stadiónu 1585 Praha - Radotín
SUMMARY:CP-U16Z-F1D: Radotín-BVC CHODOV
END:VEVENT
BEGIN:VEVENT
UID:35363135-6563-4530-b136-313932373866
DTSTAMP:20260421T164603Z
DESCRIPTION:14/27 Lokomotiva Plzeň - BVC CHODOV 2:1 (-22\,13\,11)
DTSTART;TZID=Europe/Berlin:20250126T151500
DTEND;TZID=Europe/Berlin:20250126T171500
LOCATION:Sportovní hala - SG Plzeň\, Vejprnická 663 Plzeň - Skvrňany
SUMMARY:CP-U16Z-F1D: Lokomotiva Plzeň-BVC CHODOV
END:VEVENT
BEGIN:VEVENT
UID:63353037-3337-4965-b133-633535326366
DTSTAMP:20260421T164603Z
DESCRIPTION:1/2 BVC CHODOV - VoCe 0:2 (-10\,-16)
DTSTART;TZID=Europe/Berlin:20250215T100000
DTEND;TZID=Europe/Berlin:20250215T120000
LOCATION:Městská sportovní hala Chodov\, Tyršova 1201 Chodov
SUMMARY:CP-U16Z-F2E: BVC CHODOV-VoCe
END:VEVENT
BEGIN:VEVENT
UID:39323137-3931-4338-b736-643966393766
DTSTAMP:20260421T164603Z
DESCRIPTION:2/5 BVC CHODOV - VK Madeta 0:2 (-3\,-22)
DTSTART;TZID=Europe/Berlin:20250215T113000
DTEND;TZID=Europe/Berlin:20250215T133000
LOCATION:Městská sportovní hala Chodov\, Tyršova 1201 Chodov
SUMMARY:CP-U16Z-F2E: BVC CHODOV-VK Madeta
END:VEVENT
BEGIN:VEVENT
UID:66616130-6532-4465-b733-666533376462
DTSTAMP:20260421T164603Z
DESCRIPTION:4/10 BVC CHODOV - SVK N. Jičín 2:1 (-20\,22\,13)
DTSTART;TZID=Europe/Berlin:20250215T143000
DTEND;TZID=Europe/Berlin:20250215T163000
LOCATION:Městská sportovní hala Chodov\, Tyršova 1201 Chodov
SUMMARY:CP-U16Z-F2E: BVC CHODOV-SVK N. Jičín
END:VEVENT
BEGIN:VEVENT
UID:38666664-3932-4564-b039-333231333132
DTSTAMP:20260421T164603Z
DESCRIPTION:5/13 BVC CHODOV - VO TJ Lanškroun 2:0 (15\,23)
DTSTART;TZID=Europe/Berlin:20250215T160000
DTEND;TZID=Europe/Berlin:20250215T180000
LOCATION:Městská sportovní hala Chodov\, Tyršova 1201 Chodov
SUMMARY:CP-U16Z-F2E: BVC CHODOV-VO TJ Lanškroun
END:VEVENT
BEGIN:VEVENT
UID:38656562-6433-4636-a565-623632663738
DTSTAMP:20260421T164603Z
DESCRIPTION:6/16 BVC CHODOV - Volejbal Ústí n L. 1:2 (-24\,16\,-6)
DTSTART;TZID=Europe/Berlin:20250216T090000
DTEND;TZID=Europe/Berlin:20250216T110000
LOCATION:Městská sportovní hala Chodov\, Tyršova 1201 Chodov
SUMMARY:CP-U16Z-F2E: BVC CHODOV-Volejbal Ústí n L.
END:VEVENT
BEGIN:VEVENT
UID:61383130-3064-4362-b237-366335313931
DTSTAMP:20260421T164603Z
DESCRIPTION:7/19 BVC CHODOV - Sokol F.- Místek 0:2 (-18\,-20)
DTSTART;TZID=Europe/Berlin:20250216T103000
DTEND;TZID=Europe/Berlin:20250216T123000
LOCATION:Městská sportovní hala Chodov\, Tyršova 1201 Chodov
SUMMARY:CP-U16Z-F2E: BVC CHODOV-Sokol F.- Místek
END:VEVENT
BEGIN:VEVENT
UID:62643465-3538-4237-b938-616639383533
DTSTAMP:20260421T164603Z
DESCRIPTION:9/25 BVC CHODOV - Bedřichov Jihlava 2:0 (0\,0)
DTSTART;TZID=Europe/Berlin:20250216T123000
DTEND;TZID=Europe/Berlin:20250216T143000
LOCATION:Městská sportovní hala Chodov\, Tyršova 1201 Chodov
SUMMARY:CP-U16Z-F2E: BVC CHODOV-Bedřichov Jihlava
END:VEVENT
BEGIN:VEVENT
UID:39326264-6431-4139-a539-393832616537
DTSTAMP:20260421T164603Z
DESCRIPTION:5/10 BVC CHODOV - VK Brno A 0:2 (-22\,-6)
DTSTART;TZID=Europe/Berlin:20250308T141500
DTEND;TZID=Europe/Berlin:20250308T161500
LOCATION:hala ZŠ TGM\, Komenského nám. 61 Třebíč - Horka-Domky
SUMMARY:CP-U16Z-F3H: BVC CHODOV-VK Brno A
END:VEVENT
BEGIN:VEVENT
UID:62666365-6661-4138-b634-306563376365
DTSTAMP:20260421T164603Z
DESCRIPTION:7/14 BVC CHODOV - Sokol F.- Místek 0:2 (-13\,-20)
DTSTART;TZID=Europe/Berlin:20250308T164500
DTEND;TZID=Europe/Berlin:20250308T184500
LOCATION:hala ZŠ TGM\, Komenského nám. 61 Třebíč - Horka-Domky
SUMMARY:CP-U16Z-F3H: BVC CHODOV-Sokol F.- Místek
END:VEVENT
BEGIN:VEVENT
UID:31346336-6133-4131-b539-393133363664
DTSTAMP:20260421T164603Z
DESCRIPTION:10/19 BVC CHODOV - Třebíč 0:2 (-7\,-16)
DTSTART;TZID=Europe/Berlin:20250309T101500
DTEND;TZID=Europe/Berlin:20250309T121500
LOCATION:hala ZŠ TGM\, Komenského nám. 61 Třebíč - Horka-Domky
SUMMARY:CP-U16Z-F3H: BVC CHODOV-Třebíč
END:VEVENT
BEGIN:VEVENT
UID:63633161-3766-4264-b839-646263346665
DTSTAMP:20260421T164603Z
DESCRIPTION:11/21 BVC CHODOV - VO TJ Lanškroun 0:2 (-18\,-12)
DTSTART;TZID=Europe/Berlin:20250309T113000
DTEND;TZID=Europe/Berlin:20250309T133000
LOCATION:hala ZŠ TGM\, Komenského nám. 61 Třebíč - Horka-Domky
SUMMARY:CP-U16Z-F3H: BVC CHODOV-VO TJ Lanškroun
END:VEVENT
BEGIN:VEVENT
UID:33623862-3266-4362-b337-353638333137
DTSTAMP:20260421T164603Z
DESCRIPTION:13/26 BVC CHODOV - SVK N. Jičín 0:2 (-18\,-17)
DTSTART;TZID=Europe/Berlin:20250309T140000
DTEND;TZID=Europe/Berlin:20250309T160000
LOCATION:hala ZŠ TGM\, Komenského nám. 61 Třebíč - Horka-Domky
SUMMARY:CP-U16Z-F3H: BVC CHODOV-SVK N. Jičín
END:VEVENT
BEGIN:VEVENT
UID:31616531-6135-4633-a361-623737626261
DTSTAMP:20260421T164603Z
DESCRIPTION:2/4 Střešovice - BVC CHODOV 2:0 (13\,15)
DTSTART;TZID=Europe/Berlin:20250308T103000
DTEND;TZID=Europe/Berlin:20250308T123000
LOCATION:hala ZŠ TGM\, Komenského nám. 61 Třebíč - Horka-Domky
SUMMARY:CP-U16Z-F3H: Střešovice-BVC CHODOV
END:VEVENT
BEGIN:VEVENT
UID:35636537-3133-4732-b666-663336316238
DTSTAMP:20260421T164603Z
DESCRIPTION:4/8 Brandýs nad Labem - BVC CHODOV 2:0 (21\,16)
DTSTART;TZID=Europe/Berlin:20250308T130000
DTEND;TZID=Europe/Berlin:20250308T150000
LOCATION:hala ZŠ TGM\, Komenského nám. 61 Třebíč - Horka-Domky
SUMMARY:CP-U16Z-F3H: Brandýs nad Labem-BVC CHODOV
END:VEVENT
END:VCALENDAR
