BEGIN:VCALENDAR
VERSION:2.0
PRODID:-//VK Lvi Praha,z.s.86974//NONSGML kigkonsult.se iCalcreator 2.41.80//
CALSCALE:GREGORIAN
UID:33323936-3535-4039-a435-306164636263
BEGIN:VEVENT
UID:62643438-3365-4664-a134-323337346332
DTSTAMP:20260421T175227Z
DESCRIPTION:3/9 VK Lvi Praha - Šanov Teplice 2:1 (17\,-23\,15)
DTSTART;TZID=Europe/Berlin:20240921T140000
DTEND;TZID=Europe/Berlin:20240921T160000
LOCATION:Sportovní hala MG a ZŠ Jirkov\, Krušnohorská 1675 Jirkov
SUMMARY:CP-U16Z-Z1B: VK Lvi Praha-Šanov Teplice
END:VEVENT
BEGIN:VEVENT
UID:33376265-6336-4936-b130-333539333330
DTSTAMP:20260421T175227Z
DESCRIPTION:4/10 VK Lvi Praha - Španielka Řepy 2:0 (11\,16)
DTSTART;TZID=Europe/Berlin:20240921T153000
DTEND;TZID=Europe/Berlin:20240921T173000
LOCATION:Sportovní hala MG a ZŠ Jirkov\, Krušnohorská 1675 Jirkov
SUMMARY:CP-U16Z-Z1B: VK Lvi Praha-Španielka Řepy
END:VEVENT
BEGIN:VEVENT
UID:62323164-6439-4134-b636-343935306137
DTSTAMP:20260421T175227Z
DESCRIPTION:5/14 VK Lvi Praha - VK Dukla Liberec 0:2 (-17\,-20)
DTSTART;TZID=Europe/Berlin:20240922T090000
DTEND;TZID=Europe/Berlin:20240922T110000
LOCATION:Sportovní hala MG a ZŠ Jirkov\, Krušnohorská 1675 Jirkov
SUMMARY:CP-U16Z-Z1B: VK Lvi Praha-VK Dukla Liberec
END:VEVENT
BEGIN:VEVENT
UID:61353766-3464-4564-b439-343830666636
DTSTAMP:20260421T175227Z
DESCRIPTION:1/2 TJ Slovan Varnsdorf z.s. - VK Lvi Praha 0:2 (-16\,-13)
DTSTART;TZID=Europe/Berlin:20240921T100000
DTEND;TZID=Europe/Berlin:20240921T120000
LOCATION:Sportovní hala MG a ZŠ Jirkov\, Krušnohorská 1675 Jirkov
SUMMARY:CP-U16Z-Z1B: TJ Slovan Varnsdorf z.s.-VK Lvi Praha
END:VEVENT
BEGIN:VEVENT
UID:38353131-6163-4535-a164-656561356136
DTSTAMP:20260421T175227Z
DESCRIPTION:6/18 VK Jirkov - VK Lvi Praha 0:2 (-7\,-17)
DTSTART;TZID=Europe/Berlin:20240922T103000
DTEND;TZID=Europe/Berlin:20240922T123000
LOCATION:Sportovní hala MG a ZŠ Jirkov\, Krušnohorská 1675 Jirkov
SUMMARY:CP-U16Z-Z1B: VK Jirkov-VK Lvi Praha
END:VEVENT
BEGIN:VEVENT
UID:63363433-3630-4134-a564-366361663134
DTSTAMP:20260421T175227Z
DESCRIPTION:7/19 Kometa Praha - VK Lvi Praha 2:1 (-22\,16\,8)
DTSTART;TZID=Europe/Berlin:20240922T120000
DTEND;TZID=Europe/Berlin:20240922T140000
LOCATION:Sportovní hala MG a ZŠ Jirkov\, Krušnohorská 1675 Jirkov
SUMMARY:CP-U16Z-Z1B: Kometa Praha-VK Lvi Praha
END:VEVENT
BEGIN:VEVENT
UID:35386335-3033-4965-a631-663633376431
DTSTAMP:20260421T175227Z
DESCRIPTION:2/3 VK Lvi Praha - Mikulova A 2:0 (17\,24)
DTSTART;TZID=Europe/Berlin:20241102T101000
DTEND;TZID=Europe/Berlin:20241102T121000
LOCATION:SKŠ ZŠ Mikulova Praha\, Mikulova 1594 Praha - Chodov
SUMMARY:CP-U16Z-Z2B: VK Lvi Praha-Mikulova A
END:VEVENT
BEGIN:VEVENT
UID:63333134-3562-4031-b165-383138326263
DTSTAMP:20260421T175227Z
DESCRIPTION:7/14 VK Lvi Praha - ABC Braník 0:2 (-17\,-19)
DTSTART;TZID=Europe/Berlin:20241102T160000
DTEND;TZID=Europe/Berlin:20241102T180000
LOCATION:SKŠ ZŠ Mikulova Praha\, Mikulova 1594 Praha - Chodov
SUMMARY:CP-U16Z-Z2B: VK Lvi Praha-ABC Braník
END:VEVENT
BEGIN:VEVENT
UID:37383062-6166-4465-b663-366339306462
DTSTAMP:20260421T175227Z
DESCRIPTION:10/20 VK Lvi Praha - Střešovice 1:2 (-19\,12\,-8)\nhala Jana
DTSTART;TZID=Europe/Berlin:20241103T100000
DTEND;TZID=Europe/Berlin:20241103T120000
LOCATION:SKŠ ZŠ Mikulova Praha\, Mikulova 1594 Praha - Chodov
SUMMARY:CP-U16Z-Z2B: VK Lvi Praha-Střešovice
END:VEVENT
BEGIN:VEVENT
UID:30396238-6336-4037-b265-616337636365
DTSTAMP:20260421T175227Z
DESCRIPTION:14/28 VK Lvi Praha - TJ Kralupy 0:2 (-22\,-11)\nhala Jana
DTSTART;TZID=Europe/Berlin:20241103T140000
DTEND;TZID=Europe/Berlin:20241103T160000
LOCATION:SKŠ ZŠ Mikulova Praha\, Mikulova 1594 Praha - Chodov
SUMMARY:CP-U16Z-Z2B: VK Lvi Praha-TJ Kralupy
END:VEVENT
BEGIN:VEVENT
UID:33613839-6666-4032-b634-616662356263
DTSTAMP:20260421T175227Z
DESCRIPTION:1/2 Radotín - VK Lvi Praha 2:1 (-19\,18\,11)
DTSTART;TZID=Europe/Berlin:20241102T090000
DTEND;TZID=Europe/Berlin:20241102T110000
LOCATION:SKŠ ZŠ Mikulova Praha\, Mikulova 1594 Praha - Chodov
SUMMARY:CP-U16Z-Z2B: Radotín-VK Lvi Praha
END:VEVENT
BEGIN:VEVENT
UID:30373365-3365-4333-b230-663735373236
DTSTAMP:20260421T175227Z
DESCRIPTION:4/7 SK Volejbal Ústí n. Labem - VK Lvi Praha 1:2 (23\,-19\,-10)
DTSTART;TZID=Europe/Berlin:20241102T123000
DTEND;TZID=Europe/Berlin:20241102T143000
LOCATION:SKŠ ZŠ Mikulova Praha\, Mikulova 1594 Praha - Chodov
SUMMARY:CP-U16Z-Z2B: SK Volejbal Ústí n. Labem-VK Lvi Praha
END:VEVENT
BEGIN:VEVENT
UID:37636232-3332-4162-b866-646639366534
DTSTAMP:20260421T175227Z
DESCRIPTION:13/27 SK Slavia Praha  A - VK Lvi Praha 2:1 (-26\,15\,9)\nhala 
 Jana
DTSTART;TZID=Europe/Berlin:20241103T130000
DTEND;TZID=Europe/Berlin:20241103T150000
LOCATION:SKŠ ZŠ Mikulova Praha\, Mikulova 1594 Praha - Chodov
SUMMARY:CP-U16Z-Z2B: SK Slavia Praha  A-VK Lvi Praha
END:VEVENT
BEGIN:VEVENT
UID:36623733-3933-4433-b634-613537666661
DTSTAMP:20260421T175227Z
DESCRIPTION:1/2 VK Lvi Praha - Kometa Praha 2:0 (23\,16)
DTSTART;TZID=Europe/Berlin:20241123T093000
DTEND;TZID=Europe/Berlin:20241123T113000
LOCATION:Sportovní hala - SG Plzeň\, Vejprnická 663 Plzeň - Skvrňany
SUMMARY:CP-U16Z-Z3B: VK Lvi Praha-Kometa Praha
END:VEVENT
BEGIN:VEVENT
UID:38393037-3231-4864-b861-373465356131
DTSTAMP:20260421T175227Z
DESCRIPTION:5/10 VK Lvi Praha - Příbram A 2:1 (-20\,27\,10)
DTSTART;TZID=Europe/Berlin:20241123T143000
DTEND;TZID=Europe/Berlin:20241123T163000
LOCATION:Sportovní hala - SG Plzeň\, Vejprnická 663 Plzeň - Skvrňany
SUMMARY:CP-U16Z-Z3B: VK Lvi Praha-Příbram A
END:VEVENT
BEGIN:VEVENT
UID:30303136-6333-4331-b232-373432383262
DTSTAMP:20260421T175227Z
DESCRIPTION:11/22 VK Lvi Praha - TJ Kralupy 2:1 (-21\,14\,12)
DTSTART;TZID=Europe/Berlin:20241124T124500
DTEND;TZID=Europe/Berlin:20241124T144500
LOCATION:Sportovní hala - SG Plzeň\, Vejprnická 663 Plzeň - Skvrňany
SUMMARY:CP-U16Z-Z3B: VK Lvi Praha-TJ Kralupy
END:VEVENT
BEGIN:VEVENT
UID:35376431-6462-4165-b362-633832663964
DTSTAMP:20260421T175227Z
DESCRIPTION:3/6 BVC CHODOV - VK Lvi Praha 1:2 (-17\,23\,-3)
DTSTART;TZID=Europe/Berlin:20241123T120000
DTEND;TZID=Europe/Berlin:20241123T140000
LOCATION:Sportovní hala - SG Plzeň\, Vejprnická 663 Plzeň - Skvrňany
SUMMARY:CP-U16Z-Z3B: BVC CHODOV-VK Lvi Praha
END:VEVENT
BEGIN:VEVENT
UID:65656636-6332-4331-b662-366663363334
DTSTAMP:20260421T175227Z
DESCRIPTION:8/15 Mikulova A - VK Lvi Praha 0:2 (-17\,-16)
DTSTART;TZID=Europe/Berlin:20241124T090000
DTEND;TZID=Europe/Berlin:20241124T110000
LOCATION:Sportovní hala - SG Plzeň\, Vejprnická 663 Plzeň - Skvrňany
SUMMARY:CP-U16Z-Z3B: Mikulova A-VK Lvi Praha
END:VEVENT
BEGIN:VEVENT
UID:63323066-6566-4166-a361-363136313433
DTSTAMP:20260421T175227Z
DESCRIPTION:13/26 SK Volejbal Ústí n. Labem - VK Lvi Praha 0:2 (-21\,-17)
DTSTART;TZID=Europe/Berlin:20241124T151500
DTEND;TZID=Europe/Berlin:20241124T171500
LOCATION:Sportovní hala - SG Plzeň\, Vejprnická 663 Plzeň - Skvrňany
SUMMARY:CP-U16Z-Z3B: SK Volejbal Ústí n. Labem-VK Lvi Praha
END:VEVENT
BEGIN:VEVENT
UID:65346163-3930-4938-a664-323661613363
DTSTAMP:20260421T175227Z
DESCRIPTION:14/27 Lokomotiva Plzeň - VK Lvi Praha 1:2 (14\,-15\,-11)
DTSTART;TZID=Europe/Berlin:20241124T163000
DTEND;TZID=Europe/Berlin:20241124T183000
LOCATION:Sportovní hala - SG Plzeň\, Vejprnická 663 Plzeň - Skvrňany
SUMMARY:CP-U16Z-Z3B: Lokomotiva Plzeň-VK Lvi Praha
END:VEVENT
BEGIN:VEVENT
UID:36393138-6532-4033-a532-373365666461
DTSTAMP:20260421T175227Z
DESCRIPTION:5/9 VK Lvi Praha - Sokol Pardubice I. A 1:2 (20\,-14\,-6)
DTSTART;TZID=Europe/Berlin:20250125T124500
DTEND;TZID=Europe/Berlin:20250125T144500
LOCATION:Hala ZŠ Komenského\, Komenského 701 Bílovec
SUMMARY:CP-U16Z-F1C: VK Lvi Praha-Sokol Pardubice I. A
END:VEVENT
BEGIN:VEVENT
UID:30643437-3939-4936-a239-323937636464
DTSTAMP:20260421T175227Z
DESCRIPTION:6/10 VK Lvi Praha - ŠSK Bílovec 0:2 (-12\,-18)
DTSTART;TZID=Europe/Berlin:20250125T140000
DTEND;TZID=Europe/Berlin:20250125T160000
LOCATION:Hala ZŠ Komenského\, Komenského 701 Bílovec
SUMMARY:CP-U16Z-F1C: VK Lvi Praha-ŠSK Bílovec
END:VEVENT
BEGIN:VEVENT
UID:33623963-6664-4232-b538-323132333462
DTSTAMP:20260421T175227Z
DESCRIPTION:9/17 VK Lvi Praha - TJ Kralupy 2:1 (-13\,26\,11)
DTSTART;TZID=Europe/Berlin:20250125T174500
DTEND;TZID=Europe/Berlin:20250125T194500
LOCATION:Hala ZŠ Komenského\, Komenského 701 Bílovec
SUMMARY:CP-U16Z-F1C: VK Lvi Praha-TJ Kralupy
END:VEVENT
BEGIN:VEVENT
UID:30336365-3130-4162-b035-326232663565
DTSTAMP:20260421T175227Z
DESCRIPTION:12/25 VK Lvi Praha - Mikulova A 2:0 (14\,16)
DTSTART;TZID=Europe/Berlin:20250126T111500
DTEND;TZID=Europe/Berlin:20250126T131500
LOCATION:Hala ZŠ Komenského\, Komenského 701 Bílovec
SUMMARY:CP-U16Z-F1C: VK Lvi Praha-Mikulova A
END:VEVENT
BEGIN:VEVENT
UID:31343338-3863-4561-b161-643063393961
DTSTAMP:20260421T175227Z
DESCRIPTION:2/3 Kometa Praha - VK Lvi Praha 0:2 (-16\,-11)
DTSTART;TZID=Europe/Berlin:20250125T090000
DTEND;TZID=Europe/Berlin:20250125T110000
LOCATION:Hala ZŠ Komenského\, Komenského 701 Bílovec
SUMMARY:CP-U16Z-F1C: Kometa Praha-VK Lvi Praha
END:VEVENT
BEGIN:VEVENT
UID:64396132-3838-4761-a136-626262313366
DTSTAMP:20260421T175227Z
DESCRIPTION:11/21 SK Volejbal Ústí n. Labem - VK Lvi Praha 0:2 (-23\,-22)
DTSTART;TZID=Europe/Berlin:20250126T100000
DTEND;TZID=Europe/Berlin:20250126T120000
LOCATION:Hala ZŠ Komenského\, Komenského 701 Bílovec
SUMMARY:CP-U16Z-F1C: SK Volejbal Ústí n. Labem-VK Lvi Praha
END:VEVENT
BEGIN:VEVENT
UID:61363434-3531-4434-b665-333864653731
DTSTAMP:20260421T175227Z
DESCRIPTION:13/28 Přerov A - VK Lvi Praha 0:2 (-22\,-23)
DTSTART;TZID=Europe/Berlin:20250126T123000
DTEND;TZID=Europe/Berlin:20250126T143000
LOCATION:Hala ZŠ Komenského\, Komenského 701 Bílovec
SUMMARY:CP-U16Z-F1C: Přerov A-VK Lvi Praha
END:VEVENT
BEGIN:VEVENT
UID:64383264-3666-4330-b463-666333363062
DTSTAMP:20260421T175227Z
DESCRIPTION:1/2 VK Lvi Praha - VK Prostějov 2:1 (-22\,23\,12)
DTSTART;TZID=Europe/Berlin:20250215T090000
DTEND;TZID=Europe/Berlin:20250215T110000
LOCATION:FZŠ Brdičkova\, Brdičkova 1878 Praha - Stodůlky
SUMMARY:CP-U16Z-F2C: VK Lvi Praha-VK Prostějov
END:VEVENT
BEGIN:VEVENT
UID:35376634-6161-4430-b865-393466353066
DTSTAMP:20260421T175227Z
DESCRIPTION:4/11 VK Lvi Praha - Přerov A 0:2 (-14\,-21)
DTSTART;TZID=Europe/Berlin:20250215T133000
DTEND;TZID=Europe/Berlin:20250215T153000
LOCATION:FZŠ Brdičkova\, Brdičkova 1878 Praha - Stodůlky
SUMMARY:CP-U16Z-F2C: VK Lvi Praha-Přerov A
END:VEVENT
BEGIN:VEVENT
UID:30396433-3239-4432-b535-623665336237
DTSTAMP:20260421T175227Z
DESCRIPTION:7/20 VK Lvi Praha - TJ Svitavy 0:2 (-18\,-22)
DTSTART;TZID=Europe/Berlin:20250216T083000
DTEND;TZID=Europe/Berlin:20250216T103000
LOCATION:FZŠ Brdičkova\, Brdičkova 1878 Praha - Stodůlky
SUMMARY:CP-U16Z-F2C: VK Lvi Praha-TJ Svitavy
END:VEVENT
BEGIN:VEVENT
UID:62386361-6531-4438-b565-643135616264
DTSTAMP:20260421T175227Z
DESCRIPTION:10/26 VK Lvi Praha - Lokomotiva Plzeň 0:2 (-3\,-12)
DTSTART;TZID=Europe/Berlin:20250216T130000
DTEND;TZID=Europe/Berlin:20250216T150000
LOCATION:FZŠ Brdičkova\, Brdičkova 1878 Praha - Stodůlky
SUMMARY:CP-U16Z-F2C: VK Lvi Praha-Lokomotiva Plzeň
END:VEVENT
BEGIN:VEVENT
UID:31306430-6361-4134-b838-316231616561
DTSTAMP:20260421T175227Z
DESCRIPTION:2/6 TJ Kralupy - VK Lvi Praha 2:0 (19\,14)
DTSTART;TZID=Europe/Berlin:20250215T103000
DTEND;TZID=Europe/Berlin:20250215T123000
LOCATION:TJ KRALUPY\, z.s.\, Gen. Klapálka 1029 Kralupy nad Vltavou
SUMMARY:CP-U16Z-F2C: TJ Kralupy-VK Lvi Praha
END:VEVENT
BEGIN:VEVENT
UID:39346136-3237-4931-b231-393666393338
DTSTAMP:20260421T175227Z
DESCRIPTION:6/16 Jiskra Havlíčkův Brod 'A' - VK Lvi Praha 2:1 (-17\,14\,12)
DTSTART;TZID=Europe/Berlin:20250215T163000
DTEND;TZID=Europe/Berlin:20250215T183000
LOCATION:Sportovní hala TJ Jiskra\, Ledečská 3028 Havlíčkův Brod
SUMMARY:CP-U16Z-F2C: Jiskra Havlíčkův Brod 'A'-VK Lvi Praha
END:VEVENT
BEGIN:VEVENT
UID:62643164-3331-4436-b364-393330343533
DTSTAMP:20260421T175227Z
DESCRIPTION:9/24 SK Volejbal Ústí n. Labem - VK Lvi Praha 2:1 (-19\,23\,7)
DTSTART;TZID=Europe/Berlin:20250216T113000
DTEND;TZID=Europe/Berlin:20250216T133000
LOCATION:Základní škola Stříbrnická\, Stříbrnická 3031 Ústí nad Labem - Sev
 erní Terasa
SUMMARY:CP-U16Z-F2C: SK Volejbal Ústí n. Labem-VK Lvi Praha
END:VEVENT
BEGIN:VEVENT
UID:64393133-3566-4039-b430-373461333335
DTSTAMP:20260421T175227Z
DESCRIPTION:4/7 VK Lvi Praha - VoCe 2:0 (15\,9)
DTSTART;TZID=Europe/Berlin:20250308T131500
DTEND;TZID=Europe/Berlin:20250308T151500
LOCATION:ZŠ Oskara Nedbala České Budějovice\, O. Nedbala 882 České Budějovi
 ce - České Budějovice 2
SUMMARY:CP-U16Z-F3G: VK Lvi Praha-VoCe
END:VEVENT
BEGIN:VEVENT
UID:39313564-6338-4230-b739-396230666638
DTSTAMP:20260421T175227Z
DESCRIPTION:7/14 VK Lvi Praha - Radotín 2:1 (17\,-23\,2)
DTSTART;TZID=Europe/Berlin:20250308T170000
DTEND;TZID=Europe/Berlin:20250308T190000
LOCATION:ZŠ Oskara Nedbala České Budějovice\, O. Nedbala 882 České Budějovi
 ce - České Budějovice 2
SUMMARY:CP-U16Z-F3G: VK Lvi Praha-Radotín
END:VEVENT
BEGIN:VEVENT
UID:66313333-3563-4836-b261-303936326466
DTSTAMP:20260421T175227Z
DESCRIPTION:14/28 VK Lvi Praha - VK Madeta 2:1 (18\,-23\,11)
DTSTART;TZID=Europe/Berlin:20250309T151500
DTEND;TZID=Europe/Berlin:20250309T171500
LOCATION:ZŠ Oskara Nedbala České Budějovice\, O. Nedbala 882 České Budějovi
 ce - České Budějovice 2
SUMMARY:CP-U16Z-F3G: VK Lvi Praha-VK Madeta
END:VEVENT
BEGIN:VEVENT
UID:39643032-3163-4762-a662-323134346566
DTSTAMP:20260421T175227Z
DESCRIPTION:1/2 Kometa Praha - VK Lvi Praha 0:2 (-21\,-15)
DTSTART;TZID=Europe/Berlin:20250308T093000
DTEND;TZID=Europe/Berlin:20250308T113000
LOCATION:ZŠ Oskara Nedbala České Budějovice\, O. Nedbala 882 České Budějovi
 ce - České Budějovice 2
SUMMARY:CP-U16Z-F3G: Kometa Praha-VK Lvi Praha
END:VEVENT
BEGIN:VEVENT
UID:35323466-3636-4463-a166-316137393538
DTSTAMP:20260421T175227Z
DESCRIPTION:6/11 VK Prostějov - VK Lvi Praha 0:2 (-4\,-17)
DTSTART;TZID=Europe/Berlin:20250308T154500
DTEND;TZID=Europe/Berlin:20250308T174500
LOCATION:ZŠ Oskara Nedbala České Budějovice\, O. Nedbala 882 České Budějovi
 ce - České Budějovice 2
SUMMARY:CP-U16Z-F3G: VK Prostějov-VK Lvi Praha
END:VEVENT
BEGIN:VEVENT
UID:62346265-6432-4363-b237-316238646434
DTSTAMP:20260421T175227Z
DESCRIPTION:10/20 Klatovy - VK Lvi Praha 0:2 (-21\,-22)
DTSTART;TZID=Europe/Berlin:20250309T101500
DTEND;TZID=Europe/Berlin:20250309T121500
LOCATION:ZŠ Oskara Nedbala České Budějovice\, O. Nedbala 882 České Budějovi
 ce - České Budějovice 2
SUMMARY:CP-U16Z-F3G: Klatovy-VK Lvi Praha
END:VEVENT
BEGIN:VEVENT
UID:63646536-3536-4263-a363-646639666464
DTSTAMP:20260421T175227Z
DESCRIPTION:11/21 Mikulova A - VK Lvi Praha 1:2 (22\,-13\,-12)
DTSTART;TZID=Europe/Berlin:20250309T113000
DTEND;TZID=Europe/Berlin:20250309T133000
LOCATION:ZŠ Oskara Nedbala České Budějovice\, O. Nedbala 882 České Budějovi
 ce - České Budějovice 2
SUMMARY:CP-U16Z-F3G: Mikulova A-VK Lvi Praha
END:VEVENT
END:VCALENDAR
