BEGIN:VCALENDAR
VERSION:2.0
PRODID:-//INLAB SK Meteor Praha86988//NONSGML kigkonsult.se iCalcreator 2.41.80//
CALSCALE:GREGORIAN
UID:65616136-6536-4734-a238-613561653563
BEGIN:VEVENT
UID:38356665-3136-4166-a433-356365326637
DTSTAMP:20260421T175227Z
DESCRIPTION:4/8 Meteor Praha - Říčany 2:0 (12\,20)
DTSTART;TZID=Europe/Berlin:20240921T123000
DTEND;TZID=Europe/Berlin:20240921T143000
LOCATION:TJ Slavia Hradec Králové\, Víta Nejedlého 1216 Hradec Králové
SUMMARY:CP-U16Z-Z1F: Meteor Praha-Říčany
END:VEVENT
BEGIN:VEVENT
UID:34313135-6633-4735-b961-393636643232
DTSTAMP:20260421T175227Z
DESCRIPTION:12/23 Meteor Praha - PVK Olymp 0:2 (-14\,-7)
DTSTART;TZID=Europe/Berlin:20240922T120000
DTEND;TZID=Europe/Berlin:20240922T140000
LOCATION:TJ Slavia Hradec Králové\, Víta Nejedlého 1216 Hradec Králové
SUMMARY:CP-U16Z-Z1F: Meteor Praha-PVK Olymp
END:VEVENT
BEGIN:VEVENT
UID:31616562-3838-4133-a161-626631393331
DTSTAMP:20260421T175227Z
DESCRIPTION:2/3 TJ Sokol Mnichovo Hradiště - Meteor Praha 0:2 (-10\,-18)
DTSTART;TZID=Europe/Berlin:20240921T103000
DTEND;TZID=Europe/Berlin:20240921T123000
LOCATION:TJ Slavia Hradec Králové\, Víta Nejedlého 1216 Hradec Králové
SUMMARY:CP-U16Z-Z1F: TJ Sokol Mnichovo Hradiště-Meteor Praha
END:VEVENT
BEGIN:VEVENT
UID:33623034-3461-4931-b430-623133323639
DTSTAMP:20260421T175227Z
DESCRIPTION:5/9 Nymburské BOMBY - Meteor Praha 2:0 (18\,10)
DTSTART;TZID=Europe/Berlin:20240921T133000
DTEND;TZID=Europe/Berlin:20240921T153000
LOCATION:TJ Slavia Hradec Králové\, Víta Nejedlého 1216 Hradec Králové
SUMMARY:CP-U16Z-Z1F: Nymburské BOMBY-Meteor Praha
END:VEVENT
BEGIN:VEVENT
UID:34626638-3561-4537-a635-346361653662
DTSTAMP:20260421T175227Z
DESCRIPTION:7/13 Bižuterie Jablonec - Meteor Praha 1:2 (21\,-14\,-13)
DTSTART;TZID=Europe/Berlin:20240921T153000
DTEND;TZID=Europe/Berlin:20240921T173000
LOCATION:TJ Slavia Hradec Králové\, Víta Nejedlého 1216 Hradec Králové
SUMMARY:CP-U16Z-Z1F: Bižuterie Jablonec-Meteor Praha
END:VEVENT
BEGIN:VEVENT
UID:34346564-3332-4365-a366-346165393435
DTSTAMP:20260421T175227Z
DESCRIPTION:10/20 Mikulova C - Meteor Praha 1:2 (19\,-22\,-8)
DTSTART;TZID=Europe/Berlin:20240922T100000
DTEND;TZID=Europe/Berlin:20240922T120000
LOCATION:TJ Slavia Hradec Králové\, Víta Nejedlého 1216 Hradec Králové
SUMMARY:CP-U16Z-Z1F: Mikulova C-Meteor Praha
END:VEVENT
BEGIN:VEVENT
UID:36353435-6239-4962-a530-313838626265
DTSTAMP:20260421T175227Z
DESCRIPTION:14/27 TJ Lokomotiva Česká Lípa\, z.s. - Meteor Praha 0:2 (-22\,
 -15)
DTSTART;TZID=Europe/Berlin:20240922T140000
DTEND;TZID=Europe/Berlin:20240922T160000
LOCATION:TJ Slavia Hradec Králové\, Víta Nejedlého 1216 Hradec Králové
SUMMARY:CP-U16Z-Z1F: TJ Lokomotiva Česká Lípa\, z.s.-Meteor Praha
END:VEVENT
BEGIN:VEVENT
UID:36363164-6464-4535-b330-366333646531
DTSTAMP:20260421T175227Z
DESCRIPTION:3/7 Meteor Praha - Šanov Teplice 2:0 (21\,16)
DTSTART;TZID=Europe/Berlin:20241102T130000
DTEND;TZID=Europe/Berlin:20241102T150000
LOCATION:Městská sportovní hala Chodov\, Tyršova 1201 Chodov
SUMMARY:CP-U16Z-Z2C: Meteor Praha-Šanov Teplice
END:VEVENT
BEGIN:VEVENT
UID:38383863-3530-4430-b361-666230623565
DTSTAMP:20260421T175227Z
DESCRIPTION:8/20 Meteor Praha - Volejbal Tábor A 2:0 (21\,14)
DTSTART;TZID=Europe/Berlin:20241103T100000
DTEND;TZID=Europe/Berlin:20241103T120000
LOCATION:Městská sportovní hala Chodov\, Tyršova 1201 Chodov
SUMMARY:CP-U16Z-Z2C: Meteor Praha-Volejbal Tábor A
END:VEVENT
BEGIN:VEVENT
UID:30343162-3165-4861-b230-396162656464
DTSTAMP:20260421T175227Z
DESCRIPTION:1/2 BVC CHODOV - Meteor Praha 2:0 (21\,12)
DTSTART;TZID=Europe/Berlin:20241102T100000
DTEND;TZID=Europe/Berlin:20241102T120000
LOCATION:Městská sportovní hala Chodov\, Tyršova 1201 Chodov
SUMMARY:CP-U16Z-Z2C: BVC CHODOV-Meteor Praha
END:VEVENT
BEGIN:VEVENT
UID:39303431-3762-4236-b661-643162313635
DTSTAMP:20260421T175227Z
DESCRIPTION:2/6 Bižuterie Jablonec - Meteor Praha 2:1 (24\,-17\,14)
DTSTART;TZID=Europe/Berlin:20241102T113000
DTEND;TZID=Europe/Berlin:20241102T133000
LOCATION:Městská sportovní hala Chodov\, Tyršova 1201 Chodov
SUMMARY:CP-U16Z-Z2C: Bižuterie Jablonec-Meteor Praha
END:VEVENT
BEGIN:VEVENT
UID:66346334-3933-4561-a230-383864363432
DTSTAMP:20260421T175227Z
DESCRIPTION:6/16 Brandýs nad Labem - Meteor Praha 0:2 (-14\,-19)
DTSTART;TZID=Europe/Berlin:20241102T173000
DTEND;TZID=Europe/Berlin:20241102T193000
LOCATION:Městská sportovní hala Chodov\, Tyršova 1201 Chodov
SUMMARY:CP-U16Z-Z2C: Brandýs nad Labem-Meteor Praha
END:VEVENT
BEGIN:VEVENT
UID:30643438-3932-4131-a336-313738646430
DTSTAMP:20260421T175227Z
DESCRIPTION:9/25 Klatovy - Meteor Praha 0:2 (-21\,-14)
DTSTART;TZID=Europe/Berlin:20241103T110000
DTEND;TZID=Europe/Berlin:20241103T130000
LOCATION:Městská sportovní hala Chodov\, Tyršova 1201 Chodov
SUMMARY:CP-U16Z-Z2C: Klatovy-Meteor Praha
END:VEVENT
BEGIN:VEVENT
UID:62346436-6430-4235-a363-333031386339
DTSTAMP:20260421T175227Z
DESCRIPTION:10/27 Lokomotiva Plzeň - Meteor Praha 2:0 (14\,17)
DTSTART;TZID=Europe/Berlin:20241103T120000
DTEND;TZID=Europe/Berlin:20241103T140000
LOCATION:Městská sportovní hala Chodov\, Tyršova 1201 Chodov
SUMMARY:CP-U16Z-Z2C: Lokomotiva Plzeň-Meteor Praha
END:VEVENT
BEGIN:VEVENT
UID:63646366-3262-4533-a236-343535336561
DTSTAMP:20260421T175227Z
DESCRIPTION:1/1 Meteor Praha - Střešovice 0:2 (-18\,-19)
DTSTART;TZID=Europe/Berlin:20241123T100000
DTEND;TZID=Europe/Berlin:20241123T120000
LOCATION:Tělocvična Gymnázia a Střední odborné školy dr. Václava Šmejkala\,
  Stará 3299 Ústí nad Labem - Severní Terasa
SUMMARY:CP-U16Z-Z3C: Meteor Praha-Střešovice
END:VEVENT
BEGIN:VEVENT
UID:65383933-3536-4332-a436-313834393864
DTSTAMP:20260421T175227Z
DESCRIPTION:3/5 Meteor Praha - Ještědská Liberec 0:2 (-20\,-24)
DTSTART;TZID=Europe/Berlin:20241123T123000
DTEND;TZID=Europe/Berlin:20241123T143000
LOCATION:Tělocvična Gymnázia a Střední odborné školy dr. Václava Šmejkala\,
  Stará 3299 Ústí nad Labem - Severní Terasa
SUMMARY:CP-U16Z-Z3C: Meteor Praha-Ještědská Liberec
END:VEVENT
BEGIN:VEVENT
UID:33633562-3633-4265-a432-663331353263
DTSTAMP:20260421T175227Z
DESCRIPTION:5/9 Meteor Praha - Radotín 2:1 (-22\,14\,13)
DTSTART;TZID=Europe/Berlin:20241123T150000
DTEND;TZID=Europe/Berlin:20241123T170000
LOCATION:Tělocvična Gymnázia a Střední odborné školy dr. Václava Šmejkala\,
  Stará 3299 Ústí nad Labem - Severní Terasa
SUMMARY:CP-U16Z-Z3C: Meteor Praha-Radotín
END:VEVENT
BEGIN:VEVENT
UID:36666530-3938-4261-b832-373161343337
DTSTAMP:20260421T175227Z
DESCRIPTION:7/13 Meteor Praha - Volejbal Ústí n L. 2:0 (17\,22)
DTSTART;TZID=Europe/Berlin:20241123T173000
DTEND;TZID=Europe/Berlin:20241123T193000
LOCATION:Tělocvična Gymnázia a Střední odborné školy dr. Václava Šmejkala\,
  Stará 3299 Ústí nad Labem - Severní Terasa
SUMMARY:CP-U16Z-Z3C: Meteor Praha-Volejbal Ústí n L.
END:VEVENT
BEGIN:VEVENT
UID:62363762-6332-4334-b563-666663633166
DTSTAMP:20260421T175227Z
DESCRIPTION:9/17 Klatovy - Meteor Praha 0:2 (-16\,-21)
DTSTART;TZID=Europe/Berlin:20241124T090000
DTEND;TZID=Europe/Berlin:20241124T110000
LOCATION:Tělocvična Gymnázia a Střední odborné školy dr. Václava Šmejkala\,
  Stará 3299 Ústí nad Labem - Severní Terasa
SUMMARY:CP-U16Z-Z3C: Klatovy-Meteor Praha
END:VEVENT
BEGIN:VEVENT
UID:38363737-6661-4132-b037-613862636362
DTSTAMP:20260421T175227Z
DESCRIPTION:11/22 Bižuterie Jablonec - Meteor Praha 0:2 (-14\,-11)
DTSTART;TZID=Europe/Berlin:20241124T113000
DTEND;TZID=Europe/Berlin:20241124T133000
LOCATION:Tělocvična Gymnázia a Střední odborné školy dr. Václava Šmejkala\,
  Stará 3299 Ústí nad Labem - Severní Terasa
SUMMARY:CP-U16Z-Z3C: Bižuterie Jablonec-Meteor Praha
END:VEVENT
BEGIN:VEVENT
UID:64643165-3962-4436-b631-633735386464
DTSTAMP:20260421T175227Z
DESCRIPTION:13/25 Brandýs nad Labem - Meteor Praha 0:2 (-23\,-9)
DTSTART;TZID=Europe/Berlin:20241124T140000
DTEND;TZID=Europe/Berlin:20241124T160000
LOCATION:Tělocvična Gymnázia a Střední odborné školy dr. Václava Šmejkala\,
  Stará 3299 Ústí nad Labem - Severní Terasa
SUMMARY:CP-U16Z-Z3C: Brandýs nad Labem-Meteor Praha
END:VEVENT
BEGIN:VEVENT
UID:61663038-3535-4235-a330-613233616339
DTSTAMP:20260421T175227Z
DESCRIPTION:2/3 Meteor Praha - VoCe 2:1 (19\,-25\,10)
DTSTART;TZID=Europe/Berlin:20250125T103000
DTEND;TZID=Europe/Berlin:20250125T123000
LOCATION:ZŠ Žernosecká\, Žernosecká 1597 Praha - Kobylisy
SUMMARY:CP-U16Z-F1E: Meteor Praha-VoCe
END:VEVENT
BEGIN:VEVENT
UID:32396334-3964-4637-b566-616136356633
DTSTAMP:20260421T175227Z
DESCRIPTION:3/8 Meteor Praha - Volejbal Ústí n L. 2:0 (12\,18)
DTSTART;TZID=Europe/Berlin:20250125T130000
DTEND;TZID=Europe/Berlin:20250125T150000
LOCATION:ZŠ Žernosecká\, Žernosecká 1597 Praha - Kobylisy
SUMMARY:CP-U16Z-F1E: Meteor Praha-Volejbal Ústí n L.
END:VEVENT
BEGIN:VEVENT
UID:65376236-3233-4262-b761-316339623834
DTSTAMP:20260421T175227Z
DESCRIPTION:5/15 Meteor Praha - Sokol F.- Místek 2:0 (23\,14)
DTSTART;TZID=Europe/Berlin:20250125T180000
DTEND;TZID=Europe/Berlin:20250125T200000
LOCATION:ZŠ Žernosecká\, Žernosecká 1597 Praha - Kobylisy
SUMMARY:CP-U16Z-F1E: Meteor Praha-Sokol F.- Místek
END:VEVENT
BEGIN:VEVENT
UID:32366632-3239-4338-a639-313831663935
DTSTAMP:20260421T175227Z
DESCRIPTION:6/18 Meteor Praha - TJ Hlučín 2:1 (12\,-24\,6)
DTSTART;TZID=Europe/Berlin:20250126T090000
DTEND;TZID=Europe/Berlin:20250126T110000
LOCATION:ZŠ Žernosecká\, Žernosecká 1597 Praha - Kobylisy
SUMMARY:CP-U16Z-F1E: Meteor Praha-TJ Hlučín
END:VEVENT
BEGIN:VEVENT
UID:36316435-6235-4632-b863-656563363362
DTSTAMP:20260421T175227Z
DESCRIPTION:4/9 Klatovy - Meteor Praha 0:2 (-6\,-23)
DTSTART;TZID=Europe/Berlin:20250125T153000
DTEND;TZID=Europe/Berlin:20250125T173000
LOCATION:Sportovní hala ZŠ Čapkova\, Čapkova 136 Klatovy - Klatovy V
SUMMARY:CP-U16Z-F1E: Klatovy-Meteor Praha
END:VEVENT
BEGIN:VEVENT
UID:64313837-6635-4164-b832-613733613065
DTSTAMP:20260421T175227Z
DESCRIPTION:7/23 Bižuterie Jablonec - Meteor Praha 1:2 (-10\,19\,-5)
DTSTART;TZID=Europe/Berlin:20250126T113000
DTEND;TZID=Europe/Berlin:20250126T133000
LOCATION:Městská sportovní hala\, U Přehrady 4747 Jablonec nad Nisou
SUMMARY:CP-U16Z-F1E: Bižuterie Jablonec-Meteor Praha
END:VEVENT
BEGIN:VEVENT
UID:63636465-3533-4330-b138-363136346336
DTSTAMP:20260421T175227Z
DESCRIPTION:9/28 Bedřichov Jihlava - Meteor Praha 0:2 (-17\,-16)
DTSTART;TZID=Europe/Berlin:20250126T151500
DTEND;TZID=Europe/Berlin:20250126T171500
LOCATION:TJ Sokol Bedřichov\, Jihlava\, Sokolovská 4656 Jihlava
SUMMARY:CP-U16Z-F1E: Bedřichov Jihlava-Meteor Praha
END:VEVENT
BEGIN:VEVENT
UID:64666237-3131-4366-a639-656234643561
DTSTAMP:20260421T175227Z
DESCRIPTION:3/7 Meteor Praha - Radotín 2:1 (-18\,16\,5)
DTSTART;TZID=Europe/Berlin:20250215T120000
DTEND;TZID=Europe/Berlin:20250215T140000
LOCATION:Hala ZŠ Čapkova\, Čapkova 126 Klatovy - Klatovy V
SUMMARY:CP-U16Z-F2D: Meteor Praha-Radotín
END:VEVENT
BEGIN:VEVENT
UID:37303364-3339-4235-b639-643165636531
DTSTAMP:20260421T175227Z
DESCRIPTION:6/14 Meteor Praha - Střešovice 2:1 (23\,-19\,14)
DTSTART;TZID=Europe/Berlin:20250215T160000
DTEND;TZID=Europe/Berlin:20250215T180000
LOCATION:Hala ZŠ Čapkova\, Čapkova 126 Klatovy - Klatovy V
SUMMARY:CP-U16Z-F2D: Meteor Praha-Střešovice
END:VEVENT
BEGIN:VEVENT
UID:36333464-3264-4137-a439-643737376266
DTSTAMP:20260421T175227Z
DESCRIPTION:9/23 Meteor Praha - Mikulova A 1:2 (-22\,19\,-11)
DTSTART;TZID=Europe/Berlin:20250216T120000
DTEND;TZID=Europe/Berlin:20250216T140000
LOCATION:Hala ZŠ Čapkova\, Čapkova 126 Klatovy - Klatovy V
SUMMARY:CP-U16Z-F2D: Meteor Praha-Mikulova A
END:VEVENT
BEGIN:VEVENT
UID:35646165-3631-4862-a164-653531373866
DTSTAMP:20260421T175227Z
DESCRIPTION:1/1 VK Brno A - Meteor Praha 1:2 (-13\,22\,-8)
DTSTART;TZID=Europe/Berlin:20250215T090000
DTEND;TZID=Europe/Berlin:20250215T110000
LOCATION:Hala ZŠ Čapkova\, Čapkova 126 Klatovy - Klatovy V
SUMMARY:CP-U16Z-F2D: VK Brno A-Meteor Praha
END:VEVENT
BEGIN:VEVENT
UID:37346439-3162-4630-a532-633562323063
DTSTAMP:20260421T175227Z
DESCRIPTION:4/9 VK Znojmo - Přímětice - A - Meteor Praha 0:2 (-17\,-17)
DTSTART;TZID=Europe/Berlin:20250215T131500
DTEND;TZID=Europe/Berlin:20250215T151500
LOCATION:Hala ZŠ Čapkova\, Čapkova 126 Klatovy - Klatovy V
SUMMARY:CP-U16Z-F2D: VK Znojmo - Přímětice - A-Meteor Praha
END:VEVENT
BEGIN:VEVENT
UID:35373236-3730-4031-b030-663639356331
DTSTAMP:20260421T175227Z
DESCRIPTION:7/19 Kometa Praha - Meteor Praha 0:2 (-14\,-16)
DTSTART;TZID=Europe/Berlin:20250216T090000
DTEND;TZID=Europe/Berlin:20250216T110000
LOCATION:Hala ZŠ Čapkova\, Čapkova 126 Klatovy - Klatovy V
SUMMARY:CP-U16Z-F2D: Kometa Praha-Meteor Praha
END:VEVENT
BEGIN:VEVENT
UID:37333634-3032-4461-a633-303063346266
DTSTAMP:20260421T175227Z
DESCRIPTION:10/28 Klatovy - Meteor Praha 1:2 (-18\,24\,-10)
DTSTART;TZID=Europe/Berlin:20250216T133000
DTEND;TZID=Europe/Berlin:20250216T153000
LOCATION:Hala ZŠ Čapkova\, Čapkova 126 Klatovy - Klatovy V
SUMMARY:CP-U16Z-F2D: Klatovy-Meteor Praha
END:VEVENT
BEGIN:VEVENT
UID:63663935-3435-4139-a661-313863313936
DTSTAMP:20260421T175227Z
DESCRIPTION:2/2 Přerov A - Meteor Praha 1:2 (21\,-22\,-13)
DTSTART;TZID=Europe/Berlin:20250308T103000
DTEND;TZID=Europe/Berlin:20250308T123000
LOCATION:Tělocvična ZŠ\, Felberova 669 Svitavy - Lány
SUMMARY:CP-U16Z-F3E: Přerov A-Meteor Praha
END:VEVENT
BEGIN:VEVENT
UID:64383163-3731-4739-b336-663861626537
DTSTAMP:20260421T175227Z
DESCRIPTION:4/4 Příbram A - Meteor Praha 2:1 (29\,-18\,9)
DTSTART;TZID=Europe/Berlin:20250308T133000
DTEND;TZID=Europe/Berlin:20250308T153000
LOCATION:Tělocvična ZŠ\, Felberova 669 Svitavy - Lány
SUMMARY:CP-U16Z-F3E: Příbram A-Meteor Praha
END:VEVENT
BEGIN:VEVENT
UID:37656563-6435-4036-b765-396662346430
DTSTAMP:20260421T175227Z
DESCRIPTION:6/6 Lokomotiva Plzeň - Meteor Praha 2:0 (17\,21)
DTSTART;TZID=Europe/Berlin:20250308T163000
DTEND;TZID=Europe/Berlin:20250308T183000
LOCATION:Tělocvična ZŠ\, Felberova 669 Svitavy - Lány
SUMMARY:CP-U16Z-F3E: Lokomotiva Plzeň-Meteor Praha
END:VEVENT
BEGIN:VEVENT
UID:65336636-3764-4463-b264-376634356433
DTSTAMP:20260421T175227Z
DESCRIPTION:4/7 Meteor Praha - Lokomotiva Plzeň 0:2 (-21\,-23)\nsemifinále 
 S1
DTSTART;TZID=Europe/Berlin:20250309T113000
DTEND;TZID=Europe/Berlin:20250309T133000
LOCATION:ZŠ Žernosecká\, Žernosecká 1597 Praha - Kobylisy
SUMMARY:CP-U16Z-F3-P3: Meteor Praha-Lokomotiva Plzeň
END:VEVENT
BEGIN:VEVENT
UID:39353262-3330-4938-b332-623333656137
DTSTAMP:20260421T175227Z
DESCRIPTION:6/11 Meteor Praha - Sokol Pardubice I. A 2:1 (-20\,18\,15)\nfin
 ále 19-20
DTSTART;TZID=Europe/Berlin:20250309T124500
DTEND;TZID=Europe/Berlin:20250309T144500
LOCATION:ZŠ Žernosecká\, Žernosecká 1597 Praha - Kobylisy
SUMMARY:CP-U16Z-F3-P3: Meteor Praha-Sokol Pardubice I. A
END:VEVENT
BEGIN:VEVENT
UID:36636165-3530-4966-a133-396162346535
DTSTAMP:20260421T175227Z
DESCRIPTION:1/1 VK Znojmo - Přímětice - A - Meteor Praha 1:2 (-20\,25\,-8)
 \n2F-3E tělocvična OA
DTSTART;TZID=Europe/Berlin:20250308T180000
DTEND;TZID=Europe/Berlin:20250308T200000
LOCATION:Tělocvična ZŠ Prokopa Diviše a MŠ\, Ke Škole 569 Znojmo - Přímětic
 e
SUMMARY:CP-U16Z-F3-P3: VK Znojmo - Přímětice - A-Meteor Praha
END:VEVENT
END:VCALENDAR
