BEGIN:VCALENDAR
VERSION:2.0
PRODID:-//Tělocvičná jednota Sokol Poruba86991//NONSGML kigkonsult.se iCalcreator 2.41.80//
CALSCALE:GREGORIAN
UID:36316266-3165-4234-a338-633334656239
BEGIN:VEVENT
UID:35383761-3864-4730-b964-643262353062
DTSTAMP:20260422T033906Z
DESCRIPTION:5/24 TJ Sokol Poruba - TJ Sokol Bohumín 1:3 (21\,-14\,-19\,-23)
DTSTART;TZID=Europe/Berlin:20241017T190000
DTEND;TZID=Europe/Berlin:20241017T210000
LOCATION:TJ Sokol Poruba\, Vřesinská 121 Ostrava - Poruba
SUMMARY:OV-Z: TJ Sokol Poruba-TJ Sokol Bohumín
END:VEVENT
BEGIN:VEVENT
UID:37646331-3037-4463-b138-643837336635
DTSTAMP:20260422T033906Z
DESCRIPTION:7/33 TJ Sokol Poruba - VK Polanka n/O 0:3 (-15\,-9\,-19)
DTSTART;TZID=Europe/Berlin:20241114T190000
DTEND;TZID=Europe/Berlin:20241114T210000
LOCATION:TJ Sokol Poruba\, Vřesinská 121 Ostrava - Poruba
SUMMARY:OV-Z: TJ Sokol Poruba-VK Polanka n/O
END:VEVENT
BEGIN:VEVENT
UID:62306230-6163-4232-a635-343966386434
DTSTAMP:20260422T033906Z
DESCRIPTION:10/50 TJ Sokol Poruba - TJ Sokol Stará Bělá 'C' 3:0 (22\,25\,15
 )
DTSTART;TZID=Europe/Berlin:20250123T190000
DTEND;TZID=Europe/Berlin:20250123T210000
LOCATION:TJ Sokol Poruba\, Vřesinská 121 Ostrava - Poruba
SUMMARY:OV-Z: TJ Sokol Poruba-TJ Sokol Stará Bělá 'C'
END:VEVENT
BEGIN:VEVENT
UID:61303130-6535-4631-a430-633532353538
DTSTAMP:20260422T033906Z
DESCRIPTION:12/60 TJ Sokol Poruba - TJ Sokol Svinov A 0:3 (-17\,-13\,-13)
DTSTART;TZID=Europe/Berlin:20250220T190000
DTEND;TZID=Europe/Berlin:20250220T210000
LOCATION:TJ Sokol Poruba\, Vřesinská 121 Ostrava - Poruba
SUMMARY:OV-Z: TJ Sokol Poruba-TJ Sokol Svinov A
END:VEVENT
BEGIN:VEVENT
UID:65326333-6663-4362-a665-666434663266
DTSTAMP:20260422T033906Z
DESCRIPTION:13/62 TJ Sokol Poruba - TJ Sokol Svinov B 0:3 (-9\,-25\,-12)
DTSTART;TZID=Europe/Berlin:20250227T190000
DTEND;TZID=Europe/Berlin:20250227T210000
LOCATION:TJ Sokol Poruba\, Vřesinská 121 Ostrava - Poruba
SUMMARY:OV-Z: TJ Sokol Poruba-TJ Sokol Svinov B
END:VEVENT
BEGIN:VEVENT
UID:35346634-3861-4734-a662-653637613732
DTSTAMP:20260422T033906Z
DESCRIPTION:15/73 TJ Sokol Poruba - VK Vratimov 1:3 (-15\,-17\,20\,-6)
DTSTART;TZID=Europe/Berlin:20250313T190000
DTEND;TZID=Europe/Berlin:20250313T210000
LOCATION:TJ Sokol Poruba\, Vřesinská 121 Ostrava - Poruba
SUMMARY:OV-Z: TJ Sokol Poruba-VK Vratimov
END:VEVENT
BEGIN:VEVENT
UID:66346130-6331-4137-b639-613261326137
DTSTAMP:20260422T033906Z
DESCRIPTION:17/84 TJ Sokol Poruba - TJ Sokol Stará Bělá 'B' 2:3 (14\,-22\,-
 20\,17\,-11)
DTSTART;TZID=Europe/Berlin:20250327T190000
DTEND;TZID=Europe/Berlin:20250327T210000
LOCATION:TJ Sokol Poruba\, Vřesinská 121 Ostrava - Poruba
SUMMARY:OV-Z: TJ Sokol Poruba-TJ Sokol Stará Bělá 'B'
END:VEVENT
BEGIN:VEVENT
UID:39623462-6566-4162-a262-356334366166
DTSTAMP:20260422T033906Z
DESCRIPTION:1/5 TJ Sokol Stará Bělá 'C' - TJ Sokol Poruba 3:1 (-19\,19\,18\
 ,23)
DTSTART;TZID=Europe/Berlin:20241023T181500
DTEND;TZID=Europe/Berlin:20241023T201500
LOCATION:Sportovní hala Nová Bělá\, Krmelínská 750 Ostrava - Nová Bělá
SUMMARY:OV-Z: TJ Sokol Stará Bělá 'C'-TJ Sokol Poruba
END:VEVENT
BEGIN:VEVENT
UID:33376630-3337-4238-a333-323832303664
DTSTAMP:20260422T033906Z
DESCRIPTION:3/15 TJ Sokol Svinov A - TJ Sokol Poruba 3:0 (16\,16\,22)
DTSTART;TZID=Europe/Berlin:20241002T191500
DTEND;TZID=Europe/Berlin:20241002T211500
LOCATION:MH Svinov\, Stanislavského 1270 Ostrava - Svinov
SUMMARY:OV-Z: TJ Sokol Svinov A-TJ Sokol Poruba
END:VEVENT
BEGIN:VEVENT
UID:64353532-3937-4331-b266-613430333733
DTSTAMP:20260422T033906Z
DESCRIPTION:4/17 TJ Sokol Svinov B - TJ Sokol Poruba 3:0 (16\,19\,4)
DTSTART;TZID=Europe/Berlin:20241009T191500
DTEND;TZID=Europe/Berlin:20241009T211500
LOCATION:MH Svinov\, Stanislavského 1270 Ostrava - Svinov
SUMMARY:OV-Z: TJ Sokol Svinov B-TJ Sokol Poruba
END:VEVENT
BEGIN:VEVENT
UID:30366535-6662-4162-a432-376463383335
DTSTAMP:20260422T033906Z
DESCRIPTION:6/28 VK Vratimov - TJ Sokol Poruba 3:1 (22\,19\,-12\,13)
DTSTART;TZID=Europe/Berlin:20241029T184500
DTEND;TZID=Europe/Berlin:20241029T204500
LOCATION:Sportovní hala Nová Bělá\, Krmelínská 750 Ostrava - Nová Bělá
SUMMARY:OV-Z: VK Vratimov-TJ Sokol Poruba
END:VEVENT
BEGIN:VEVENT
UID:62396338-3235-4532-a439-656338383832
DTSTAMP:20260422T033906Z
DESCRIPTION:8/39 TJ Sokol Stará Bělá 'B' - TJ Sokol Poruba 3:0 (18\,17\,22)
DTSTART;TZID=Europe/Berlin:20241120T200000
DTEND;TZID=Europe/Berlin:20241120T220000
LOCATION:Hala mládeže\, Gajdošova 1893 Ostrava - Moravská Ostrava
SUMMARY:OV-Z: TJ Sokol Stará Bělá 'B'-TJ Sokol Poruba
END:VEVENT
BEGIN:VEVENT
UID:36386135-6565-4761-a131-616438653639
DTSTAMP:20260422T033906Z
DESCRIPTION:14/69 TJ Sokol Bohumín - TJ Sokol Poruba 3:1 (-23\,15\,23\,21)
DTSTART;TZID=Europe/Berlin:20250304T200000
DTEND;TZID=Europe/Berlin:20250304T220000
LOCATION:Dům dětí a mládeže Bohumín\, Janáčkova 715 Bohumín - Nový Bohumín
SUMMARY:OV-Z: TJ Sokol Bohumín-TJ Sokol Poruba
END:VEVENT
BEGIN:VEVENT
UID:32646562-6562-4131-a632-336537633336
DTSTAMP:20260422T033906Z
DESCRIPTION:16/78 VK Polanka n/O - TJ Sokol Poruba 3:0 (10\,13\,16)
DTSTART;TZID=Europe/Berlin:20250318T185000
DTEND;TZID=Europe/Berlin:20250318T205000
LOCATION:Sportovní hala\, Heleny Salichové 1275 Ostrava - Polanka nad Odrou
SUMMARY:OV-Z: VK Polanka n/O-TJ Sokol Poruba
END:VEVENT
END:VCALENDAR
