BEGIN:VCALENDAR
VERSION:2.0
PRODID:-//Školní sportovní klub Bílovec,z.s.87001//NONSGML kigkonsult.se iCalcreator 2.41.80//
CALSCALE:GREGORIAN
UID:64623134-3338-4266-b933-363432376236
BEGIN:VEVENT
UID:33303936-3665-4638-b239-383130303663
DTSTAMP:20260421T161237Z
DESCRIPTION:1/1 ŠSK Bílovec - SVK N. Jičín 2:0 (21\,15)
DTSTART;TZID=Europe/Berlin:20240921T090000
DTEND;TZID=Europe/Berlin:20240921T110000
LOCATION:Hala ZŠ Komenského\, Komenského 701 Bílovec
SUMMARY:CP-U16Z-V1D: ŠSK Bílovec-SVK N. Jičín
END:VEVENT
BEGIN:VEVENT
UID:66653263-6264-4432-b130-363963656261
DTSTAMP:20260421T161237Z
DESCRIPTION:2/3 ŠSK Bílovec - Šlapanice 2:0 (4\,11)
DTSTART;TZID=Europe/Berlin:20240921T103000
DTEND;TZID=Europe/Berlin:20240921T123000
LOCATION:Hala ZŠ Komenského\, Komenského 701 Bílovec
SUMMARY:CP-U16Z-V1D: ŠSK Bílovec-Šlapanice
END:VEVENT
BEGIN:VEVENT
UID:30343661-3166-4632-b839-363935346262
DTSTAMP:20260421T161237Z
DESCRIPTION:10/19 ŠSK Bílovec - TJ Ostrava 0:2 (-21\,-21)
DTSTART;TZID=Europe/Berlin:20240922T111500
DTEND;TZID=Europe/Berlin:20240922T131500
LOCATION:Hala ZŠ Komenského\, Komenského 701 Bílovec
SUMMARY:CP-U16Z-V1D: ŠSK Bílovec-TJ Ostrava
END:VEVENT
BEGIN:VEVENT
UID:61643636-3134-4133-b066-623636623633
DTSTAMP:20260421T161238Z
DESCRIPTION:4/7 Přerov A - ŠSK Bílovec 2:1 (-18\,22\,11)
DTSTART;TZID=Europe/Berlin:20240921T130000
DTEND;TZID=Europe/Berlin:20240921T150000
LOCATION:Hala ZŠ Komenského\, Komenského 701 Bílovec
SUMMARY:CP-U16Z-V1D: Přerov A-ŠSK Bílovec
END:VEVENT
BEGIN:VEVENT
UID:31643764-3238-4163-b531-643236623838
DTSTAMP:20260421T161238Z
DESCRIPTION:7/13 VSC Zlín - ŠSK Bílovec 0:2 (-16\,-10)
DTSTART;TZID=Europe/Berlin:20240921T164500
DTEND;TZID=Europe/Berlin:20240921T184500
LOCATION:Hala ZŠ Komenského\, Komenského 701 Bílovec
SUMMARY:CP-U16Z-V1D: VSC Zlín-ŠSK Bílovec
END:VEVENT
BEGIN:VEVENT
UID:32393963-3637-4661-b437-366334323462
DTSTAMP:20260421T161238Z
DESCRIPTION:8/15 TJ Hlučín - ŠSK Bílovec 1:2 (20\,-21\,-9)
DTSTART;TZID=Europe/Berlin:20240922T083000
DTEND;TZID=Europe/Berlin:20240922T103000
LOCATION:Hala ZŠ Komenského\, Komenského 701 Bílovec
SUMMARY:CP-U16Z-V1D: TJ Hlučín-ŠSK Bílovec
END:VEVENT
BEGIN:VEVENT
UID:31346230-6136-4733-b965-643264336131
DTSTAMP:20260421T161238Z
DESCRIPTION:1/1 ŠSK Bílovec - VK Brno A 2:0 (4\,18)
DTSTART;TZID=Europe/Berlin:20241102T090000
DTEND;TZID=Europe/Berlin:20241102T110000
LOCATION:Hala ZŠ Komenského\, Komenského 701 Bílovec
SUMMARY:CP-U16Z-V2B: ŠSK Bílovec-VK Brno A
END:VEVENT
BEGIN:VEVENT
UID:32326361-3064-4639-a534-316566633430
DTSTAMP:20260421T161238Z
DESCRIPTION:3/5 ŠSK Bílovec - Tělocvičná jednota Sokol Bučovice 2:0 (16\,13
 )
DTSTART;TZID=Europe/Berlin:20241102T113000
DTEND;TZID=Europe/Berlin:20241102T133000
LOCATION:Hala ZŠ Komenského\, Komenského 701 Bílovec
SUMMARY:CP-U16Z-V2B: ŠSK Bílovec-Tělocvičná jednota Sokol Bučovice
END:VEVENT
BEGIN:VEVENT
UID:66623633-3661-4037-b831-323530623636
DTSTAMP:20260421T161238Z
DESCRIPTION:12/25 ŠSK Bílovec - Bedřichov Jihlava 2:1 (-19\,11\,13)
DTSTART;TZID=Europe/Berlin:20241103T121500
DTEND;TZID=Europe/Berlin:20241103T141500
LOCATION:Hala ZŠ Komenského\, Komenského 701 Bílovec
SUMMARY:CP-U16Z-V2B: ŠSK Bílovec-Bedřichov Jihlava
END:VEVENT
BEGIN:VEVENT
UID:66326532-3733-4436-a238-313735313231
DTSTAMP:20260421T161238Z
DESCRIPTION:13/27 ŠSK Bílovec - Přerov A 0:2 (-20\,-20)
DTSTART;TZID=Europe/Berlin:20241103T133000
DTEND;TZID=Europe/Berlin:20241103T153000
LOCATION:Hala ZŠ Komenského\, Komenského 701 Bílovec
SUMMARY:CP-U16Z-V2B: ŠSK Bílovec-Přerov A
END:VEVENT
BEGIN:VEVENT
UID:35663632-3965-4561-a437-346561656431
DTSTAMP:20260421T161238Z
DESCRIPTION:5/9 VO TJ Lanškroun - ŠSK Bílovec 0:2 (-15\,-19)
DTSTART;TZID=Europe/Berlin:20241102T140000
DTEND;TZID=Europe/Berlin:20241102T160000
LOCATION:Hala ZŠ Komenského\, Komenského 701 Bílovec
SUMMARY:CP-U16Z-V2B: VO TJ Lanškroun-ŠSK Bílovec
END:VEVENT
BEGIN:VEVENT
UID:63373665-3563-4532-b531-646338363065
DTSTAMP:20260421T161238Z
DESCRIPTION:8/15 Jiskra Havlíčkův Brod 'A' - ŠSK Bílovec 0:2 (-23\,-15)
DTSTART;TZID=Europe/Berlin:20241102T174500
DTEND;TZID=Europe/Berlin:20241102T194500
LOCATION:Hala ZŠ Komenského\, Komenského 701 Bílovec
SUMMARY:CP-U16Z-V2B: Jiskra Havlíčkův Brod 'A'-ŠSK Bílovec
END:VEVENT
BEGIN:VEVENT
UID:34353437-3639-4235-a436-383962396136
DTSTAMP:20260421T161238Z
DESCRIPTION:9/17 TJ Svitavy - ŠSK Bílovec 2:0 (15\,10)
DTSTART;TZID=Europe/Berlin:20241103T083000
DTEND;TZID=Europe/Berlin:20241103T103000
LOCATION:Hala ZŠ Komenského\, Komenského 701 Bílovec
SUMMARY:CP-U16Z-V2B: TJ Svitavy-ŠSK Bílovec
END:VEVENT
BEGIN:VEVENT
UID:33303763-3238-4862-b337-346231336531
DTSTAMP:20260421T161238Z
DESCRIPTION:2/6 ŠSK Bílovec - VO TJ Lanškroun 2:0 (23\,19)
DTSTART;TZID=Europe/Berlin:20241123T103000
DTEND;TZID=Europe/Berlin:20241123T123000
LOCATION:Sportovní hala TJ Jiskra\, Ledečská 3028 Havlíčkův Brod
SUMMARY:CP-U16Z-V3B: ŠSK Bílovec-VO TJ Lanškroun
END:VEVENT
BEGIN:VEVENT
UID:38313438-6663-4536-b938-623862333265
DTSTAMP:20260421T161238Z
DESCRIPTION:3/9 ŠSK Bílovec - VK Brno A 2:0 (22\,18)
DTSTART;TZID=Europe/Berlin:20241123T120000
DTEND;TZID=Europe/Berlin:20241123T140000
LOCATION:Sportovní hala TJ Jiskra\, Ledečská 3028 Havlíčkův Brod
SUMMARY:CP-U16Z-V3B: ŠSK Bílovec-VK Brno A
END:VEVENT
BEGIN:VEVENT
UID:65376637-3664-4365-b535-376565626130
DTSTAMP:20260421T161238Z
DESCRIPTION:7/17 ŠSK Bílovec - Jiskra Havlíčkův Brod 'A' 1:2 (-24\,20\,-15)
DTSTART;TZID=Europe/Berlin:20241124T083000
DTEND;TZID=Europe/Berlin:20241124T103000
LOCATION:Sportovní hala TJ Jiskra\, Ledečská 3028 Havlíčkův Brod
SUMMARY:CP-U16Z-V3B: ŠSK Bílovec-Jiskra Havlíčkův Brod 'A'
END:VEVENT
BEGIN:VEVENT
UID:62653432-3962-4639-b938-386461643765
DTSTAMP:20260421T161238Z
DESCRIPTION:8/20 ŠSK Bílovec - VK Znojmo - Přímětice - A 2:0 (16\,13)
DTSTART;TZID=Europe/Berlin:20241124T100000
DTEND;TZID=Europe/Berlin:20241124T120000
LOCATION:Sportovní hala TJ Jiskra\, Ledečská 3028 Havlíčkův Brod
SUMMARY:CP-U16Z-V3B: ŠSK Bílovec-VK Znojmo - Přímětice - A
END:VEVENT
BEGIN:VEVENT
UID:63666639-3530-4666-a138-663662333132
DTSTAMP:20260421T161238Z
DESCRIPTION:1/3 TJ Hlučín - ŠSK Bílovec 0:2 (-17\,-18)
DTSTART;TZID=Europe/Berlin:20241123T090000
DTEND;TZID=Europe/Berlin:20241123T110000
LOCATION:Sportovní hala TJ Jiskra\, Ledečská 3028 Havlíčkův Brod
SUMMARY:CP-U16Z-V3B: TJ Hlučín-ŠSK Bílovec
END:VEVENT
BEGIN:VEVENT
UID:65656235-3566-4132-b461-353165633163
DTSTAMP:20260421T161238Z
DESCRIPTION:5/14 Sokol F.- Místek - ŠSK Bílovec 0:2 (-15\,-16)
DTSTART;TZID=Europe/Berlin:20241123T160000
DTEND;TZID=Europe/Berlin:20241123T180000
LOCATION:Sportovní hala TJ Jiskra\, Ledečská 3028 Havlíčkův Brod
SUMMARY:CP-U16Z-V3B: Sokol F.- Místek-ŠSK Bílovec
END:VEVENT
BEGIN:VEVENT
UID:30633865-3466-4534-b663-333962373032
DTSTAMP:20260421T161238Z
DESCRIPTION:9/25 Sokol Pardubice I. A - ŠSK Bílovec 0:2 (-19\,-15)
DTSTART;TZID=Europe/Berlin:20241124T113000
DTEND;TZID=Europe/Berlin:20241124T133000
LOCATION:Sportovní hala TJ Jiskra\, Ledečská 3028 Havlíčkův Brod
SUMMARY:CP-U16Z-V3B: Sokol Pardubice I. A-ŠSK Bílovec
END:VEVENT
BEGIN:VEVENT
UID:33333333-6262-4439-b762-323033356538
DTSTAMP:20260421T161238Z
DESCRIPTION:3/4 ŠSK Bílovec - Mikulova A 2:0 (23\,10)
DTSTART;TZID=Europe/Berlin:20250125T101500
DTEND;TZID=Europe/Berlin:20250125T121500
LOCATION:Hala ZŠ Komenského\, Komenského 701 Bílovec
SUMMARY:CP-U16Z-F1C: ŠSK Bílovec-Mikulova A
END:VEVENT
BEGIN:VEVENT
UID:65643763-3064-4731-b230-666238323437
DTSTAMP:20260421T161238Z
DESCRIPTION:9/16 ŠSK Bílovec - Přerov A 2:1 (-23\,23\,10)
DTSTART;TZID=Europe/Berlin:20250125T174500
DTEND;TZID=Europe/Berlin:20250125T194500
LOCATION:Hala ZŠ Komenského\, Komenského 701 Bílovec
SUMMARY:CP-U16Z-F1C: ŠSK Bílovec-Přerov A
END:VEVENT
BEGIN:VEVENT
UID:32353236-3431-4233-a335-313230313665
DTSTAMP:20260421T161238Z
DESCRIPTION:13/26 ŠSK Bílovec - Sokol Pardubice I. A 0:2 (-24\,-21)
DTSTART;TZID=Europe/Berlin:20250126T123000
DTEND;TZID=Europe/Berlin:20250126T143000
LOCATION:Hala ZŠ Komenského\, Komenského 701 Bílovec
SUMMARY:CP-U16Z-F1C: ŠSK Bílovec-Sokol Pardubice I. A
END:VEVENT
BEGIN:VEVENT
UID:62363932-6335-4138-a237-333063626536
DTSTAMP:20260421T161238Z
DESCRIPTION:5/8 Kometa Praha - ŠSK Bílovec 0:2 (-8\,-14)
DTSTART;TZID=Europe/Berlin:20250125T124500
DTEND;TZID=Europe/Berlin:20250125T144500
LOCATION:Hala ZŠ Komenského\, Komenského 701 Bílovec
SUMMARY:CP-U16Z-F1C: Kometa Praha-ŠSK Bílovec
END:VEVENT
BEGIN:VEVENT
UID:36633930-3761-4734-a231-323430613732
DTSTAMP:20260421T161238Z
DESCRIPTION:6/10 VK Lvi Praha - ŠSK Bílovec 0:2 (-12\,-18)
DTSTART;TZID=Europe/Berlin:20250125T140000
DTEND;TZID=Europe/Berlin:20250125T160000
LOCATION:Hala ZŠ Komenského\, Komenského 701 Bílovec
SUMMARY:CP-U16Z-F1C: VK Lvi Praha-ŠSK Bílovec
END:VEVENT
BEGIN:VEVENT
UID:37636461-3932-4139-a563-383734393034
DTSTAMP:20260421T161238Z
DESCRIPTION:11/20 TJ Kralupy - ŠSK Bílovec 0:2 (-18\,-24)
DTSTART;TZID=Europe/Berlin:20250126T100000
DTEND;TZID=Europe/Berlin:20250126T120000
LOCATION:Hala ZŠ Komenského\, Komenského 701 Bílovec
SUMMARY:CP-U16Z-F1C: TJ Kralupy-ŠSK Bílovec
END:VEVENT
BEGIN:VEVENT
UID:32303730-6266-4362-a534-353735636139
DTSTAMP:20260421T161238Z
DESCRIPTION:12/23 SK Volejbal Ústí n. Labem - ŠSK Bílovec 2:1 (11\,-16\,16)
DTSTART;TZID=Europe/Berlin:20250126T111500
DTEND;TZID=Europe/Berlin:20250126T131500
LOCATION:Hala ZŠ Komenského\, Komenského 701 Bílovec
SUMMARY:CP-U16Z-F1C: SK Volejbal Ústí n. Labem-ŠSK Bílovec
END:VEVENT
BEGIN:VEVENT
UID:63356639-6334-4437-b031-643363656138
DTSTAMP:20260421T161238Z
DESCRIPTION:2/8 ŠSK Bílovec - SK Slavia Praha  A 2:0 (17\,18)
DTSTART;TZID=Europe/Berlin:20250215T103000
DTEND;TZID=Europe/Berlin:20250215T123000
LOCATION:Mattoni Arena Hala míčových sportů\, Západní 1812 Karlovy Vary
SUMMARY:CP-U16Z-F2B: ŠSK Bílovec-SK Slavia Praha  A
END:VEVENT
BEGIN:VEVENT
UID:64653538-6537-4365-b239-373666393363
DTSTAMP:20260421T161238Z
DESCRIPTION:6/22 ŠSK Bílovec - VK Olomouc A 0:2 (-21\,-23)
DTSTART;TZID=Europe/Berlin:20250216T094500
DTEND;TZID=Europe/Berlin:20250216T114500
LOCATION:Mattoni Arena Hala míčových sportů\, Západní 1812 Karlovy Vary
SUMMARY:CP-U16Z-F2B: ŠSK Bílovec-VK Olomouc A
END:VEVENT
BEGIN:VEVENT
UID:39663731-6436-4033-b939-323030323062
DTSTAMP:20260421T161238Z
DESCRIPTION:1/1 Karlovy Vary - ŠSK Bílovec 2:1 (-18\,24\,11)
DTSTART;TZID=Europe/Berlin:20250215T090000
DTEND;TZID=Europe/Berlin:20250215T110000
LOCATION:Mattoni Arena Hala míčových sportů\, Západní 1812 Karlovy Vary
SUMMARY:CP-U16Z-F2B: Karlovy Vary-ŠSK Bílovec
END:VEVENT
BEGIN:VEVENT
UID:33376430-6132-4966-b534-356239653132
DTSTAMP:20260421T161238Z
DESCRIPTION:3/12 Příbram A - ŠSK Bílovec 2:1 (17\,-21\,10)
DTSTART;TZID=Europe/Berlin:20250215T130000
DTEND;TZID=Europe/Berlin:20250215T150000
LOCATION:Mattoni Arena Hala míčových sportů\, Západní 1812 Karlovy Vary
SUMMARY:CP-U16Z-F2B: Příbram A-ŠSK Bílovec
END:VEVENT
BEGIN:VEVENT
UID:65613161-3763-4262-a431-643339643835
DTSTAMP:20260421T161238Z
DESCRIPTION:4/16 Sokol Pardubice I. A - ŠSK Bílovec 0:2 (-24\,-22)
DTSTART;TZID=Europe/Berlin:20250215T143000
DTEND;TZID=Europe/Berlin:20250215T163000
LOCATION:Mattoni Arena Hala míčových sportů\, Západní 1812 Karlovy Vary
SUMMARY:CP-U16Z-F2B: Sokol Pardubice I. A-ŠSK Bílovec
END:VEVENT
BEGIN:VEVENT
UID:62363262-3764-4461-b063-633433636234
DTSTAMP:20260421T161238Z
DESCRIPTION:5/19 Mikulova B - ŠSK Bílovec 2:0 (19\,15)
DTSTART;TZID=Europe/Berlin:20250216T083000
DTEND;TZID=Europe/Berlin:20250216T103000
LOCATION:Mattoni Arena Hala míčových sportů\, Západní 1812 Karlovy Vary
SUMMARY:CP-U16Z-F2B: Mikulova B-ŠSK Bílovec
END:VEVENT
BEGIN:VEVENT
UID:32343537-3562-4233-b739-333339626261
DTSTAMP:20260421T161238Z
DESCRIPTION:7/26 TJ Ostrava - ŠSK Bílovec 2:1 (-19\,18\,7)
DTSTART;TZID=Europe/Berlin:20250216T110000
DTEND;TZID=Europe/Berlin:20250216T130000
LOCATION:Mattoni Arena Hala míčových sportů\, Západní 1812 Karlovy Vary
SUMMARY:CP-U16Z-F2B: TJ Ostrava-ŠSK Bílovec
END:VEVENT
BEGIN:VEVENT
UID:63623130-6531-4165-b264-396536366336
DTSTAMP:20260421T161238Z
DESCRIPTION:1/1 Karlovy Vary - ŠSK Bílovec 0:2 (-14\,-20)
DTSTART;TZID=Europe/Berlin:20250307T151500
DTEND;TZID=Europe/Berlin:20250307T171500
LOCATION:Hala ZŠ Komenského\, Komenského 701 Bílovec
SUMMARY:CP-U16Z-F3D: Karlovy Vary-ŠSK Bílovec
END:VEVENT
BEGIN:VEVENT
UID:62313365-3361-4163-b564-333265623839
DTSTAMP:20260421T161238Z
DESCRIPTION:2/3 VK Dukla Liberec - ŠSK Bílovec 1:2 (-25\,17\,-9)
DTSTART;TZID=Europe/Berlin:20250307T163000
DTEND;TZID=Europe/Berlin:20250307T183000
LOCATION:Hala ZŠ Komenského\, Komenského 701 Bílovec
SUMMARY:CP-U16Z-F3D: VK Dukla Liberec-ŠSK Bílovec
END:VEVENT
BEGIN:VEVENT
UID:36646462-3831-4966-b233-316239653339
DTSTAMP:20260421T161238Z
DESCRIPTION:5/6 SK Volejbal Ústí n. Labem - ŠSK Bílovec 0:2 (-26\,-20)
DTSTART;TZID=Europe/Berlin:20250308T113000
DTEND;TZID=Europe/Berlin:20250308T133000
LOCATION:Hala ZŠ Komenského\, Komenského 701 Bílovec
SUMMARY:CP-U16Z-F3D: SK Volejbal Ústí n. Labem-ŠSK Bílovec
END:VEVENT
BEGIN:VEVENT
UID:38353862-6331-4631-b835-353663643738
DTSTAMP:20260421T161238Z
DESCRIPTION:7/10 ŠSK Bílovec - Karlovy Vary 0:2 (-13\,-23)\nfinále 13-14
DTSTART;TZID=Europe/Berlin:20250309T103000
DTEND;TZID=Europe/Berlin:20250309T123000
LOCATION:Hala ZŠ Komenského\, Komenského 701 Bílovec
SUMMARY:CP-U16Z-F3-P2: ŠSK Bílovec-Karlovy Vary
END:VEVENT
BEGIN:VEVENT
UID:62643561-3730-4631-a132-373135613738
DTSTAMP:20260421T161238Z
DESCRIPTION:2/3 Demlova - ŠSK Bílovec 2:0 (20\,25)\nC4-D1
DTSTART;TZID=Europe/Berlin:20250308T142000
DTEND;TZID=Europe/Berlin:20250308T162000
LOCATION:ZŠ Jihlava Demlova\, Demlova 4178 Jihlava
SUMMARY:CP-U16Z-F3-P2: Demlova-ŠSK Bílovec
END:VEVENT
BEGIN:VEVENT
UID:36643536-6163-4334-b662-336638353530
DTSTAMP:20260421T161238Z
DESCRIPTION:5/6 VK Olomouc A - ŠSK Bílovec 1:2 (23\,-14\,-17)\nsemifinále 3
DTSTART;TZID=Europe/Berlin:20250309T090000
DTEND;TZID=Europe/Berlin:20250309T110000
LOCATION:ZS Tererova \, Tererovo nám. 919 Olomouc - Nová Ulice
SUMMARY:CP-U16Z-F3-P2: VK Olomouc A-ŠSK Bílovec
END:VEVENT
END:VCALENDAR
