BEGIN:VCALENDAR
VERSION:2.0
PRODID:-//TJ Svitavy, z.s.87002//NONSGML kigkonsult.se iCalcreator 2.41.80//
CALSCALE:GREGORIAN
UID:34636539-3561-4234-a132-616630353138
BEGIN:VEVENT
UID:32636465-3531-4464-b330-616130656436
DTSTAMP:20260421T161247Z
DESCRIPTION:4/10 TJ Svitavy - TJ Sokol Předklášteří 2:0 (17\,14)
DTSTART;TZID=Europe/Berlin:20240921T134500
DTEND;TZID=Europe/Berlin:20240921T154500
LOCATION:Sportovní hala\, Masarykovo nám. 108 Lázně Bohdaneč
SUMMARY:CP-U16Z-V1A: TJ Svitavy-TJ Sokol Předklášteří
END:VEVENT
BEGIN:VEVENT
UID:61376531-6139-4862-b764-313834363364
DTSTAMP:20260421T161247Z
DESCRIPTION:6/16 TJ Svitavy - Spartak Polička 2:0 (18\,22)
DTSTART;TZID=Europe/Berlin:20240921T160000
DTEND;TZID=Europe/Berlin:20240921T180000
LOCATION:Sportovní hala\, Masarykovo nám. 108 Lázně Bohdaneč
SUMMARY:CP-U16Z-V1A: TJ Svitavy-Spartak Polička
END:VEVENT
BEGIN:VEVENT
UID:66333730-6264-4832-a539-663730383562
DTSTAMP:20260421T161247Z
DESCRIPTION:8/21 TJ Svitavy - Sokol Dolní Újezd 2:0 (18\,24)
DTSTART;TZID=Europe/Berlin:20240922T101500
DTEND;TZID=Europe/Berlin:20240922T121500
LOCATION:Sportovní hala\, Masarykovo nám. 108 Lázně Bohdaneč
SUMMARY:CP-U16Z-V1A: TJ Svitavy-Sokol Dolní Újezd
END:VEVENT
BEGIN:VEVENT
UID:36643133-6664-4064-a664-646533306533
DTSTAMP:20260421T161247Z
DESCRIPTION:1/1 Volejbal Kolín - TJ Svitavy 0:2 (-18\,-17)
DTSTART;TZID=Europe/Berlin:20240921T100000
DTEND;TZID=Europe/Berlin:20240921T120000
LOCATION:Sportovní hala\, Masarykovo nám. 108 Lázně Bohdaneč
SUMMARY:CP-U16Z-V1A: Volejbal Kolín-TJ Svitavy
END:VEVENT
BEGIN:VEVENT
UID:34306634-6431-4435-a165-663531383437
DTSTAMP:20260421T161247Z
DESCRIPTION:2/6 VO TJ Lanškroun - TJ Svitavy 2:1 (20\,-21\,10)
DTSTART;TZID=Europe/Berlin:20240921T111500
DTEND;TZID=Europe/Berlin:20240921T131500
LOCATION:Sportovní hala\, Masarykovo nám. 108 Lázně Bohdaneč
SUMMARY:CP-U16Z-V1A: VO TJ Lanškroun-TJ Svitavy
END:VEVENT
BEGIN:VEVENT
UID:39303038-3438-4831-a132-633036356537
DTSTAMP:20260421T161247Z
DESCRIPTION:7/17 Pelhřimov - TJ Svitavy 0:2 (-17\,-12)
DTSTART;TZID=Europe/Berlin:20240922T090000
DTEND;TZID=Europe/Berlin:20240922T110000
LOCATION:Sportovní hala\, Masarykovo nám. 108 Lázně Bohdaneč
SUMMARY:CP-U16Z-V1A: Pelhřimov-TJ Svitavy
END:VEVENT
BEGIN:VEVENT
UID:35336536-3930-4536-a530-343262306435
DTSTAMP:20260421T161247Z
DESCRIPTION:10/28 Sokol Pardubice I. A - TJ Svitavy 2:0 (13\,11)
DTSTART;TZID=Europe/Berlin:20240922T124500
DTEND;TZID=Europe/Berlin:20240922T144500
LOCATION:Sportovní hala\, Masarykovo nám. 108 Lázně Bohdaneč
SUMMARY:CP-U16Z-V1A: Sokol Pardubice I. A-TJ Svitavy
END:VEVENT
BEGIN:VEVENT
UID:31366536-6138-4436-b533-373365366263
DTSTAMP:20260421T161247Z
DESCRIPTION:2/3 TJ Svitavy - VO TJ Lanškroun 1:2 (-22\,21\,-6)
DTSTART;TZID=Europe/Berlin:20241102T101500
DTEND;TZID=Europe/Berlin:20241102T121500
LOCATION:Hala ZŠ Komenského\, Komenského 701 Bílovec
SUMMARY:CP-U16Z-V2B: TJ Svitavy-VO TJ Lanškroun
END:VEVENT
BEGIN:VEVENT
UID:38376237-6130-4464-b363-373338646332
DTSTAMP:20260421T161247Z
DESCRIPTION:4/8 TJ Svitavy - Jiskra Havlíčkův Brod 'A' 2:1 (7\,-21\,10)
DTSTART;TZID=Europe/Berlin:20241102T124500
DTEND;TZID=Europe/Berlin:20241102T144500
LOCATION:Hala ZŠ Komenského\, Komenského 701 Bílovec
SUMMARY:CP-U16Z-V2B: TJ Svitavy-Jiskra Havlíčkův Brod 'A'
END:VEVENT
BEGIN:VEVENT
UID:66346131-3637-4431-a134-343139643934
DTSTAMP:20260421T161247Z
DESCRIPTION:9/17 TJ Svitavy - ŠSK Bílovec 2:0 (15\,10)
DTSTART;TZID=Europe/Berlin:20241103T083000
DTEND;TZID=Europe/Berlin:20241103T103000
LOCATION:Hala ZŠ Komenského\, Komenského 701 Bílovec
SUMMARY:CP-U16Z-V2B: TJ Svitavy-ŠSK Bílovec
END:VEVENT
BEGIN:VEVENT
UID:61373834-3238-4731-a661-356537646230
DTSTAMP:20260421T161247Z
DESCRIPTION:10/22 TJ Svitavy - Bedřichov Jihlava 2:0 (13\,23)
DTSTART;TZID=Europe/Berlin:20241103T094500
DTEND;TZID=Europe/Berlin:20241103T114500
LOCATION:Hala ZŠ Komenského\, Komenského 701 Bílovec
SUMMARY:CP-U16Z-V2B: TJ Svitavy-Bedřichov Jihlava
END:VEVENT
BEGIN:VEVENT
UID:34613861-3263-4262-a531-343232343334
DTSTAMP:20260421T161247Z
DESCRIPTION:6/12 Přerov A - TJ Svitavy 2:1 (14\,-18\,9)
DTSTART;TZID=Europe/Berlin:20241102T151500
DTEND;TZID=Europe/Berlin:20241102T171500
LOCATION:Hala ZŠ Komenského\, Komenského 701 Bílovec
SUMMARY:CP-U16Z-V2B: Přerov A-TJ Svitavy
END:VEVENT
BEGIN:VEVENT
UID:30656162-3136-4363-b766-303832306566
DTSTAMP:20260421T161247Z
DESCRIPTION:8/16 VK Brno A - TJ Svitavy 1:2 (-20\,18\,-13)
DTSTART;TZID=Europe/Berlin:20241102T174500
DTEND;TZID=Europe/Berlin:20241102T194500
LOCATION:Hala ZŠ Komenského\, Komenského 701 Bílovec
SUMMARY:CP-U16Z-V2B: VK Brno A-TJ Svitavy
END:VEVENT
BEGIN:VEVENT
UID:31313563-6630-4766-b337-366664316433
DTSTAMP:20260421T161247Z
DESCRIPTION:13/28 Tělocvičná jednota Sokol Bučovice - TJ Svitavy 0:2 (-18\,
 -17)
DTSTART;TZID=Europe/Berlin:20241103T133000
DTEND;TZID=Europe/Berlin:20241103T153000
LOCATION:Hala ZŠ Komenského\, Komenského 701 Bílovec
SUMMARY:CP-U16Z-V2B: Tělocvičná jednota Sokol Bučovice-TJ Svitavy
END:VEVENT
BEGIN:VEVENT
UID:36623834-3630-4566-a335-356465313231
DTSTAMP:20260421T161247Z
DESCRIPTION:2/3 TJ Svitavy - VK Prostějov 0:2 (-23\,-22)
DTSTART;TZID=Europe/Berlin:20241123T101500
DTEND;TZID=Europe/Berlin:20241123T121500
LOCATION:ZŠ Jihlava Demlova\, Demlova 4178 Jihlava
SUMMARY:CP-U16Z-V3A: TJ Svitavy-VK Prostějov
END:VEVENT
BEGIN:VEVENT
UID:33323633-6364-4361-a464-623362343863
DTSTAMP:20260421T161247Z
DESCRIPTION:4/7 TJ Svitavy - VK Olomouc A 1:2 (19\,-21\,-13)
DTSTART;TZID=Europe/Berlin:20241123T122500
DTEND;TZID=Europe/Berlin:20241123T142500
LOCATION:ZŠ Jihlava Demlova\, Demlova 4178 Jihlava
SUMMARY:CP-U16Z-V3A: TJ Svitavy-VK Olomouc A
END:VEVENT
BEGIN:VEVENT
UID:38626135-3135-4162-a264-646266373030
DTSTAMP:20260421T161247Z
DESCRIPTION:6/11 TJ Svitavy - Přerov A 0:2 (-12\,-24)
DTSTART;TZID=Europe/Berlin:20241123T143500
DTEND;TZID=Europe/Berlin:20241123T163500
LOCATION:ZŠ Jihlava Demlova\, Demlova 4178 Jihlava
SUMMARY:CP-U16Z-V3A: TJ Svitavy-Přerov A
END:VEVENT
BEGIN:VEVENT
UID:65383462-3738-4336-b264-616538626366
DTSTAMP:20260421T161247Z
DESCRIPTION:8/15 Demlova - TJ Svitavy 0:2 (-24\,-17)
DTSTART;TZID=Europe/Berlin:20241123T164500
DTEND;TZID=Europe/Berlin:20241123T184500
LOCATION:ZŠ Jihlava Demlova\, Demlova 4178 Jihlava
SUMMARY:CP-U16Z-V3A: Demlova-TJ Svitavy
END:VEVENT
BEGIN:VEVENT
UID:30326463-3837-4135-b766-363331616235
DTSTAMP:20260421T161247Z
DESCRIPTION:10/19 KP Brno A - TJ Svitavy 0:2 (-22\,-20)
DTSTART;TZID=Europe/Berlin:20241124T101500
DTEND;TZID=Europe/Berlin:20241124T121500
LOCATION:ZŠ Jihlava Demlova\, Demlova 4178 Jihlava
SUMMARY:CP-U16Z-V3A: KP Brno A-TJ Svitavy
END:VEVENT
BEGIN:VEVENT
UID:64633037-3538-4338-b032-343763663139
DTSTAMP:20260421T161247Z
DESCRIPTION:11/22 Slavia H.Králové - TJ Svitavy 2:0 (16\,10)
DTSTART;TZID=Europe/Berlin:20241124T112000
DTEND;TZID=Europe/Berlin:20241124T132000
LOCATION:ZŠ Jihlava Demlova\, Demlova 4178 Jihlava
SUMMARY:CP-U16Z-V3A: Slavia H.Králové-TJ Svitavy
END:VEVENT
BEGIN:VEVENT
UID:31636635-3531-4333-b565-376263363533
DTSTAMP:20260421T161247Z
DESCRIPTION:13/26 TJ Ostrava - TJ Svitavy 0:2 (-20\,-18)
DTSTART;TZID=Europe/Berlin:20241124T133000
DTEND;TZID=Europe/Berlin:20241124T153000
LOCATION:ZŠ Jihlava Demlova\, Demlova 4178 Jihlava
SUMMARY:CP-U16Z-V3A: TJ Ostrava-TJ Svitavy
END:VEVENT
BEGIN:VEVENT
UID:62336336-3062-4336-a635-363666313434
DTSTAMP:20260421T161247Z
DESCRIPTION:8/16 TJ Svitavy - Mikulova B 0:2 (-22\,-22)
DTSTART;TZID=Europe/Berlin:20250125T170000
DTEND;TZID=Europe/Berlin:20250125T190000
LOCATION:dvě tělocvičny\, Školní 75 Příbram - Příbram VIII
SUMMARY:CP-U16Z-F1B: TJ Svitavy-Mikulova B
END:VEVENT
BEGIN:VEVENT
UID:31383363-3364-4330-b439-646462383164
DTSTAMP:20260421T161247Z
DESCRIPTION:11/22 TJ Svitavy - Příbram A 0:2 (-29\,-22)
DTSTART;TZID=Europe/Berlin:20250126T120000
DTEND;TZID=Europe/Berlin:20250126T140000
LOCATION:dvě tělocvičny\, Školní 75 Příbram - Příbram VIII
SUMMARY:CP-U16Z-F1B: TJ Svitavy-Příbram A
END:VEVENT
BEGIN:VEVENT
UID:33313361-3339-4162-b830-316630656338
DTSTAMP:20260421T161247Z
DESCRIPTION:13/26 TJ Svitavy - VK Olomouc A 0:2 (-13\,-17)
DTSTART;TZID=Europe/Berlin:20250126T140000
DTEND;TZID=Europe/Berlin:20250126T160000
LOCATION:dvě tělocvičny\, Školní 75 Příbram - Příbram VIII
SUMMARY:CP-U16Z-F1B: TJ Svitavy-VK Olomouc A
END:VEVENT
BEGIN:VEVENT
UID:36626365-3364-4539-a632-393762383036
DTSTAMP:20260421T161247Z
DESCRIPTION:2/3 VK Dukla Liberec - TJ Svitavy 2:0 (14\,12)
DTSTART;TZID=Europe/Berlin:20250125T110000
DTEND;TZID=Europe/Berlin:20250125T130000
LOCATION:dvě tělocvičny\, Školní 75 Příbram - Příbram VIII
SUMMARY:CP-U16Z-F1B: VK Dukla Liberec-TJ Svitavy
END:VEVENT
BEGIN:VEVENT
UID:31613435-3765-4632-b565-376235323133
DTSTAMP:20260421T161247Z
DESCRIPTION:4/8 ABC Braník - TJ Svitavy 2:1 (-26\,21\,9)
DTSTART;TZID=Europe/Berlin:20250125T130000
DTEND;TZID=Europe/Berlin:20250125T150000
LOCATION:dvě tělocvičny\, Školní 75 Příbram - Příbram VIII
SUMMARY:CP-U16Z-F1B: ABC Braník-TJ Svitavy
END:VEVENT
BEGIN:VEVENT
UID:36326163-6361-4461-a534-306535386166
DTSTAMP:20260421T161247Z
DESCRIPTION:6/12 VK Prostějov - TJ Svitavy 0:2 (-22\,-21)
DTSTART;TZID=Europe/Berlin:20250125T150000
DTEND;TZID=Europe/Berlin:20250125T170000
LOCATION:dvě tělocvičny\, Školní 75 Příbram - Příbram VIII
SUMMARY:CP-U16Z-F1B: VK Prostějov-TJ Svitavy
END:VEVENT
BEGIN:VEVENT
UID:65353663-3234-4863-b766-626365613762
DTSTAMP:20260421T161247Z
DESCRIPTION:10/20 SK Slavia Praha  A - TJ Svitavy 2:1 (-21\,17\,9)
DTSTART;TZID=Europe/Berlin:20250126T110000
DTEND;TZID=Europe/Berlin:20250126T130000
LOCATION:dvě tělocvičny\, Školní 75 Příbram - Příbram VIII
SUMMARY:CP-U16Z-F1B: SK Slavia Praha  A-TJ Svitavy
END:VEVENT
BEGIN:VEVENT
UID:65653431-3266-4038-b664-313535373338
DTSTAMP:20260421T161247Z
DESCRIPTION:1/1 TJ Svitavy - Jiskra Havlíčkův Brod 'A' 1:2 (20\,-23\,-15)
DTSTART;TZID=Europe/Berlin:20250215T090000
DTEND;TZID=Europe/Berlin:20250215T110000
LOCATION:Sportovní hala Na Střelnici\, Pražská 2162 Svitavy - Předměstí
SUMMARY:CP-U16Z-F2C: TJ Svitavy-Jiskra Havlíčkův Brod 'A'
END:VEVENT
BEGIN:VEVENT
UID:62313730-6463-4331-b966-316162393539
DTSTAMP:20260421T161247Z
DESCRIPTION:5/15 TJ Svitavy - Lokomotiva Plzeň 1:2 (-16\,19\,-8)
DTSTART;TZID=Europe/Berlin:20250215T150000
DTEND;TZID=Europe/Berlin:20250215T170000
LOCATION:Sportovní hala Na Střelnici\, Pražská 2162 Svitavy - Předměstí
SUMMARY:CP-U16Z-F2C: TJ Svitavy-Lokomotiva Plzeň
END:VEVENT
BEGIN:VEVENT
UID:39313464-3164-4732-b233-643430623364
DTSTAMP:20260421T161247Z
DESCRIPTION:10/25 TJ Svitavy - TJ Kralupy 1:2 (23\,-24\,-13)
DTSTART;TZID=Europe/Berlin:20250216T130000
DTEND;TZID=Europe/Berlin:20250216T150000
LOCATION:Sportovní hala Na Střelnici\, Pražská 2162 Svitavy - Předměstí
SUMMARY:CP-U16Z-F2C: TJ Svitavy-TJ Kralupy
END:VEVENT
BEGIN:VEVENT
UID:33346639-6537-4237-b931-373464633330
DTSTAMP:20260421T161247Z
DESCRIPTION:2/5 VK Prostějov - TJ Svitavy 0:2 (-19\,-14)
DTSTART;TZID=Europe/Berlin:20250215T103000
DTEND;TZID=Europe/Berlin:20250215T123000
LOCATION:Národní sportovní centrum\, Za velodromem 4187 Prostějov
SUMMARY:CP-U16Z-F2C: VK Prostějov-TJ Svitavy
END:VEVENT
BEGIN:VEVENT
UID:34326632-6465-4436-a264-313536393937
DTSTAMP:20260421T161247Z
DESCRIPTION:4/12 SK Volejbal Ústí n. Labem - TJ Svitavy 2:1 (18\,-18\,10)
DTSTART;TZID=Europe/Berlin:20250215T133000
DTEND;TZID=Europe/Berlin:20250215T153000
LOCATION:Základní škola Stříbrnická\, Stříbrnická 3031 Ústí nad Labem - Sev
 erní Terasa
SUMMARY:CP-U16Z-F2C: SK Volejbal Ústí n. Labem-TJ Svitavy
END:VEVENT
BEGIN:VEVENT
UID:34386339-6431-4366-a338-613764623433
DTSTAMP:20260421T161247Z
DESCRIPTION:7/20 VK Lvi Praha - TJ Svitavy 0:2 (-18\,-22)
DTSTART;TZID=Europe/Berlin:20250216T083000
DTEND;TZID=Europe/Berlin:20250216T103000
LOCATION:FZŠ Brdičkova\, Brdičkova 1878 Praha - Stodůlky
SUMMARY:CP-U16Z-F2C: VK Lvi Praha-TJ Svitavy
END:VEVENT
BEGIN:VEVENT
UID:32633834-3765-4334-a432-356365643161
DTSTAMP:20260421T161247Z
DESCRIPTION:11/28 Přerov A - TJ Svitavy 0:2 (-21\,-19)
DTSTART;TZID=Europe/Berlin:20250216T143000
DTEND;TZID=Europe/Berlin:20250216T163000
LOCATION:Městská sportovní hala\, Petřivalského 2884 Přerov - Přerov I-Měst
 o
SUMMARY:CP-U16Z-F2C: Přerov A-TJ Svitavy
END:VEVENT
BEGIN:VEVENT
UID:34373561-6163-4066-b766-636561333035
DTSTAMP:20260421T161247Z
DESCRIPTION:1/1 TJ Svitavy - Sokol Pardubice I. A 2:1 (22\,-15\,8)
DTSTART;TZID=Europe/Berlin:20250308T090000
DTEND;TZID=Europe/Berlin:20250308T110000
LOCATION:Tělocvična OA\, T. G. Masaryka 164 Svitavy - Město
SUMMARY:CP-U16Z-F3F: TJ Svitavy-Sokol Pardubice I. A
END:VEVENT
BEGIN:VEVENT
UID:38613237-3930-4135-b239-653933333162
DTSTAMP:20260421T161247Z
DESCRIPTION:6/6 TJ Svitavy - VK Znojmo - Přímětice - A 2:1 (-16\,14\,13)
DTSTART;TZID=Europe/Berlin:20250308T163000
DTEND;TZID=Europe/Berlin:20250308T183000
LOCATION:Tělocvična OA\, T. G. Masaryka 164 Svitavy - Město
SUMMARY:CP-U16Z-F3F: TJ Svitavy-VK Znojmo - Přímětice - A
END:VEVENT
BEGIN:VEVENT
UID:63356466-3638-4464-b632-663035663265
DTSTAMP:20260421T161247Z
DESCRIPTION:3/3 Jiskra Havlíčkův Brod 'A' - TJ Svitavy 0:2 (-19\,-18)
DTSTART;TZID=Europe/Berlin:20250308T120000
DTEND;TZID=Europe/Berlin:20250308T140000
LOCATION:Tělocvična OA\, T. G. Masaryka 164 Svitavy - Město
SUMMARY:CP-U16Z-F3F: Jiskra Havlíčkův Brod 'A'-TJ Svitavy
END:VEVENT
BEGIN:VEVENT
UID:35396134-6235-4938-a636-326239363363
DTSTAMP:20260421T161247Z
DESCRIPTION:2/3 TJ Svitavy - Příbram A 2:1 (-16\,16\,8)\n1F-4E
DTSTART;TZID=Europe/Berlin:20250309T090000
DTEND;TZID=Europe/Berlin:20250309T110000
LOCATION:Sportovní hala Na Střelnici\, Pražská 2162 Svitavy - Předměstí
SUMMARY:CP-U16Z-F3-P3: TJ Svitavy-Příbram A
END:VEVENT
BEGIN:VEVENT
UID:32313363-3363-4930-b233-306436633939
DTSTAMP:20260421T161247Z
DESCRIPTION:4/8 Sokol Pardubice I. A - TJ Svitavy 1:2 (20\,-18\,-7)\nsemifi
 nále S2
DTSTART;TZID=Europe/Berlin:20250309T114500
DTEND;TZID=Europe/Berlin:20250309T134500
LOCATION:Sportovní hala\, Masarykovo nám. 108 Lázně Bohdaneč
SUMMARY:CP-U16Z-F3-P3: Sokol Pardubice I. A-TJ Svitavy
END:VEVENT
BEGIN:VEVENT
UID:30383136-3939-4635-b739-613565323063
DTSTAMP:20260421T161247Z
DESCRIPTION:6/12 Lokomotiva Plzeň - TJ Svitavy 1:2 (21\,-20\,-12)\nfinále 1
 7-18
DTSTART;TZID=Europe/Berlin:20250309T124500
DTEND;TZID=Europe/Berlin:20250309T144500
LOCATION:Sportovní hala - SG Plzeň\, Vejprnická 663 Plzeň - Skvrňany
SUMMARY:CP-U16Z-F3-P3: Lokomotiva Plzeň-TJ Svitavy
END:VEVENT
END:VCALENDAR
