BEGIN:VCALENDAR
VERSION:2.0
PRODID:-//USK Slavia Plzeň (U20)87005//NONSGML kigkonsult.se iCalcreator 2.41.80//
CALSCALE:GREGORIAN
UID:33383738-3563-4163-b761-356634623732
BEGIN:VEVENT
UID:31346537-6463-4431-b364-656432623036
DTSTAMP:20260422T150350Z
DESCRIPTION:2/4 Plzeň - Klatovy 3:1 (25\,23\,-24\,18)\npořadatel USK Slavia
  Plzeň
DTSTART;TZID=Europe/Berlin:20241103T090000
DTEND;TZID=Europe/Berlin:20241103T110000
LOCATION:Hala PF ZČU Plzeň\, Klatovská třída 1736 Plzeň - Jižní Předměstí
SUMMARY:P-U20M: Plzeň-Klatovy
END:VEVENT
BEGIN:VEVENT
UID:32373237-6262-4039-b662-393330303537
DTSTAMP:20260422T150350Z
DESCRIPTION:2/6 Plzeň - Domažlice 2:3 (-23\,8\,-16\,20\,-8)
DTSTART;TZID=Europe/Berlin:20241103T130000
DTEND;TZID=Europe/Berlin:20241103T150000
LOCATION:Hala PF ZČU Plzeň\, Klatovská třída 1736 Plzeň - Jižní Předměstí
SUMMARY:P-U20M: Plzeň-Domažlice
END:VEVENT
BEGIN:VEVENT
UID:62343766-3036-4632-b235-316132303763
DTSTAMP:20260422T150350Z
DESCRIPTION:3/8 Plzeň - Domažlice 3:1 (21\,-21\,25\,16)
DTSTART;TZID=Europe/Berlin:20241215T110000
DTEND;TZID=Europe/Berlin:20241215T130000
LOCATION:Bolevecká základní škola ( 18.ZŠ)\, náměstí Odboje 550 Plzeň - Bol
 evec
SUMMARY:P-U20M: Plzeň-Domažlice
END:VEVENT
BEGIN:VEVENT
UID:35353066-3132-4163-a431-633361633734
DTSTAMP:20260422T150350Z
DESCRIPTION:4/10 Plzeň - Domažlice 3:1 (-22\,19\,24\,22)\npořadatel USK Sla
 via Plzeň
DTSTART;TZID=Europe/Berlin:20250119T090000
DTEND;TZID=Europe/Berlin:20250119T110000
LOCATION:Hala PF ZČU Plzeň\, Klatovská třída 1736 Plzeň - Jižní Předměstí
SUMMARY:P-U20M: Plzeň-Domažlice
END:VEVENT
BEGIN:VEVENT
UID:35323864-3932-4839-b937-623232353630
DTSTAMP:20260422T150350Z
DESCRIPTION:4/12 Plzeň - Klatovy 1:3 (-23\,19\,-22\,-18)
DTSTART;TZID=Europe/Berlin:20250119T130000
DTEND;TZID=Europe/Berlin:20250119T150000
LOCATION:Hala PF ZČU Plzeň\, Klatovská třída 1736 Plzeň - Jižní Předměstí
SUMMARY:P-U20M: Plzeň-Klatovy
END:VEVENT
BEGIN:VEVENT
UID:66373363-6332-4330-b936-653639386433
DTSTAMP:20260422T150350Z
DESCRIPTION:5/14 Plzeň - Domažlice 0:3 (-23\,-16\,-23)
DTSTART;TZID=Europe/Berlin:20250216T110000
DTEND;TZID=Europe/Berlin:20250216T130000
LOCATION:Bolevecká základní škola ( 18.ZŠ)\, náměstí Odboje 550 Plzeň - Bol
 evec
SUMMARY:P-U20M: Plzeň-Domažlice
END:VEVENT
BEGIN:VEVENT
UID:36343966-3434-4631-b433-636462393066
DTSTAMP:20260422T150350Z
DESCRIPTION:6/17 Plzeň - Klatovy 1:3 (-19\,-20\,20\,-19)
DTSTART;TZID=Europe/Berlin:20250316T110000
DTEND;TZID=Europe/Berlin:20250316T130000
LOCATION:Bolevecká základní škola ( 18.ZŠ)\, náměstí Odboje 550 Plzeň - Bol
 evec
SUMMARY:P-U20M: Plzeň-Klatovy
END:VEVENT
BEGIN:VEVENT
UID:31633261-6238-4862-a562-303036376633
DTSTAMP:20260422T150350Z
DESCRIPTION:1/1 Domažlice - Plzeň 3:0 (12\,17\,17)\npořadatel Domažlice
DTSTART;TZID=Europe/Berlin:20241006T090000
DTEND;TZID=Europe/Berlin:20241006T110000
LOCATION:Sportovní hala ZŠ Komenského Domažlice\, Komenského 17 Domažlice -
  Týnské Předměstí
SUMMARY:P-U20M: Domažlice-Plzeň
END:VEVENT
BEGIN:VEVENT
UID:31336430-3733-4666-b738-393963616434
DTSTAMP:20260422T150350Z
DESCRIPTION:1/2 Klatovy - Plzeň 3:0 (13\,9\,26)
DTSTART;TZID=Europe/Berlin:20241006T110000
DTEND;TZID=Europe/Berlin:20241006T130000
LOCATION:Sportovní hala ZŠ Čapkova\, Čapkova 136 Klatovy - Klatovy V
SUMMARY:P-U20M: Klatovy-Plzeň
END:VEVENT
BEGIN:VEVENT
UID:30616636-3666-4435-b064-626638373937
DTSTAMP:20260422T150350Z
DESCRIPTION:3/9 Klatovy - Plzeň 3:0 (17\,13\,21)
DTSTART;TZID=Europe/Berlin:20241215T130000
DTEND;TZID=Europe/Berlin:20241215T150000
LOCATION:Sportovní hala ZŠ Čapkova\, Čapkova 136 Klatovy - Klatovy V
SUMMARY:P-U20M: Klatovy-Plzeň
END:VEVENT
BEGIN:VEVENT
UID:33326336-6666-4533-a262-633761366366
DTSTAMP:20260422T150350Z
DESCRIPTION:5/13 Klatovy - Plzeň 3:0 (24\,22\,18)\npořadatel Klatovy (NH Vo
 dojem)
DTSTART;TZID=Europe/Berlin:20250216T090000
DTEND;TZID=Europe/Berlin:20250216T110000
LOCATION:Sportovní hala ZŠ Čapkova\, Čapkova 136 Klatovy - Klatovy V
SUMMARY:P-U20M: Klatovy-Plzeň
END:VEVENT
BEGIN:VEVENT
UID:30353066-3664-4263-b365-633238613334
DTSTAMP:20260422T150350Z
DESCRIPTION:6/18 Domažlice - Plzeň 3:0 (20\,21\,21)
DTSTART;TZID=Europe/Berlin:20250316T130000
DTEND;TZID=Europe/Berlin:20250316T150000
LOCATION:Sportovní hala ZŠ Komenského Domažlice\, Komenského 17 Domažlice -
  Týnské Předměstí
SUMMARY:P-U20M: Domažlice-Plzeň
END:VEVENT
END:VCALENDAR
