BEGIN:VCALENDAR
VERSION:2.0
PRODID:-//SK Šťáhlavy87037//NONSGML kigkonsult.se iCalcreator 2.41.80//
CALSCALE:GREGORIAN
UID:37343032-3437-4230-b136-646638303161
BEGIN:VEVENT
UID:66353866-3639-4933-b938-346264366463
DTSTAMP:20260422T070127Z
DESCRIPTION:6/6 Šťáhlavy - Šťáhlavy
DTSTART;TZID=Europe/Berlin:20250316T090000
DTEND;TZID=Europe/Berlin:20250316T110000
LOCATION:Sportovní hala Šťáhlavy\, U hřiště 525 Šťáhlavy
SUMMARY:P-U20Z: Šťáhlavy-Šťáhlavy
END:VEVENT
BEGIN:VEVENT
UID:39303161-6539-4865-b062-326237326265
DTSTAMP:20260422T070127Z
DESCRIPTION:5/5 Vejprnice B - Šťáhlavy
DTSTART;TZID=Europe/Berlin:20250216T090000
DTEND;TZID=Europe/Berlin:20250216T110000
LOCATION:Tělocvična ZŠ Vejprnice\, Jakuba Husníka 527 Vejprnice
SUMMARY:P-U20Z: Vejprnice B-Šťáhlavy
END:VEVENT
BEGIN:VEVENT
UID:32383865-3662-4865-b134-643466663738
DTSTAMP:20260422T070127Z
DESCRIPTION:6/6 Šťáhlavy - Šťáhlavy
DTSTART;TZID=Europe/Berlin:20250316T090000
DTEND;TZID=Europe/Berlin:20250316T110000
LOCATION:Sportovní hala Šťáhlavy\, U hřiště 525 Šťáhlavy
SUMMARY:P-U20Z: Šťáhlavy-Šťáhlavy
END:VEVENT
BEGIN:VEVENT
UID:63653665-3735-4633-b863-376532393934
DTSTAMP:20260422T070127Z
DESCRIPTION:3/3 Šťáhlavy - Domažlice 2:1 (23\,-14\,13)
DTSTART;TZID=Europe/Berlin:20241013T113000
DTEND;TZID=Europe/Berlin:20241013T133000
LOCATION:Sportovní hala ZŠ Komenského Domažlice\, Komenského 17 Domažlice -
  Týnské Předměstí
SUMMARY:P-U20Z-1B: Šťáhlavy-Domažlice
END:VEVENT
BEGIN:VEVENT
UID:35356338-3438-4639-a266-653861623264
DTSTAMP:20260422T070127Z
DESCRIPTION:2/2 Vejprnice A - Šťáhlavy 0:2 (-22\,-13)
DTSTART;TZID=Europe/Berlin:20241013T101500
DTEND;TZID=Europe/Berlin:20241013T121500
LOCATION:Sportovní hala ZŠ Komenského Domažlice\, Komenského 17 Domažlice -
  Týnské Předměstí
SUMMARY:P-U20Z-1B: Vejprnice A-Šťáhlavy
END:VEVENT
BEGIN:VEVENT
UID:66326638-6662-4139-b335-313339376261
DTSTAMP:20260422T070127Z
DESCRIPTION:2/2 Klatovy - Šťáhlavy 0:2 (-21\,-22)\nA2-B1
DTSTART;TZID=Europe/Berlin:20241013T130000
DTEND;TZID=Europe/Berlin:20241013T150000
LOCATION:Sportovní hala ZŠ Čapkova\, Čapkova 136 Klatovy - Klatovy V
SUMMARY:P-U20Z-1F: Klatovy-Šťáhlavy
END:VEVENT
BEGIN:VEVENT
UID:31316462-6133-4663-b361-643637316561
DTSTAMP:20260422T070127Z
DESCRIPTION:5/5 Vejprnice B - Šťáhlavy 2:0 (12\,19)\nfinále
DTSTART;TZID=Europe/Berlin:20241013T153000
DTEND;TZID=Europe/Berlin:20241013T173000
LOCATION:Tělocvična ZŠ Vejprnice\, Jakuba Husníka 527 Vejprnice
SUMMARY:P-U20Z-1F: Vejprnice B-Šťáhlavy
END:VEVENT
BEGIN:VEVENT
UID:30303439-3163-4066-b764-613231333837
DTSTAMP:20260422T070127Z
DESCRIPTION:3/3 Šťáhlavy - Vejprnice B 0:3 (-19\,-14\,-10)
DTSTART;TZID=Europe/Berlin:20241103T140000
DTEND;TZID=Europe/Berlin:20241103T160000
LOCATION:Sportovní hala ZŠ Čapkova\, Čapkova 136 Klatovy - Klatovy V
SUMMARY:P-U20Z-2A: Šťáhlavy-Vejprnice B
END:VEVENT
BEGIN:VEVENT
UID:30653561-6561-4361-a533-646663306563
DTSTAMP:20260422T070127Z
DESCRIPTION:2/2 Domažlice - Šťáhlavy 3:0 (23\,17\,17)
DTSTART;TZID=Europe/Berlin:20241103T120000
DTEND;TZID=Europe/Berlin:20241103T140000
LOCATION:Sportovní hala ZŠ Čapkova\, Čapkova 136 Klatovy - Klatovy V
SUMMARY:P-U20Z-2A: Domažlice-Šťáhlavy
END:VEVENT
BEGIN:VEVENT
UID:34653566-3735-4538-b561-316566656135
DTSTAMP:20260422T070127Z
DESCRIPTION:2/2 Šťáhlavy - Vejprnice A 3:0 (13\,22\,14)
DTSTART;TZID=Europe/Berlin:20241215T103000
DTEND;TZID=Europe/Berlin:20241215T123000
LOCATION:Tělocvična 28. ZŠ Plzeň\, Rodinná 965 Plzeň - Lobzy
SUMMARY:P-U20Z-3B: Šťáhlavy-Vejprnice A
END:VEVENT
BEGIN:VEVENT
UID:62366532-3838-4637-b365-303366623563
DTSTAMP:20260422T070127Z
DESCRIPTION:3/3 Letná - Šťáhlavy 3:0 (20\,20\,13)
DTSTART;TZID=Europe/Berlin:20241215T120000
DTEND;TZID=Europe/Berlin:20241215T140000
LOCATION:Tělocvična 28. ZŠ Plzeň\, Rodinná 965 Plzeň - Lobzy
SUMMARY:P-U20Z-3B: Letná-Šťáhlavy
END:VEVENT
BEGIN:VEVENT
UID:32633139-6666-4139-b565-616431356562
DTSTAMP:20260422T070127Z
DESCRIPTION:2/2 Šťáhlavy - Domažlice 2:3 (20\,-11\,26\,-20\,-12)
DTSTART;TZID=Europe/Berlin:20250126T113000
DTEND;TZID=Europe/Berlin:20250126T133000
LOCATION:Tělocvična ZŠ Vejprnice\, Jakuba Husníka 527 Vejprnice
SUMMARY:P-U20Z-4B: Šťáhlavy-Domažlice
END:VEVENT
BEGIN:VEVENT
UID:37363265-6431-4566-b834-373334663431
DTSTAMP:20260422T070127Z
DESCRIPTION:3/3 Vejprnice A - Šťáhlavy 1:3 (-21\,23\,-21\,-14)
DTSTART;TZID=Europe/Berlin:20250126T130000
DTEND;TZID=Europe/Berlin:20250126T150000
LOCATION:Tělocvična ZŠ Vejprnice\, Jakuba Husníka 527 Vejprnice
SUMMARY:P-U20Z-4B: Vejprnice A-Šťáhlavy
END:VEVENT
BEGIN:VEVENT
UID:31363038-6162-4338-a435-346439383532
DTSTAMP:20260422T070127Z
DESCRIPTION:1/1 Šťáhlavy - Vejprnice A 2:3 (18\,-25\,-29\,12\,-13)
DTSTART;TZID=Europe/Berlin:20250216T100000
DTEND;TZID=Europe/Berlin:20250216T120000
LOCATION:Sportovní hala Šťáhlavy\, U hřiště 525 Šťáhlavy
SUMMARY:P-U20Z-5B: Šťáhlavy-Vejprnice A
END:VEVENT
BEGIN:VEVENT
UID:61616432-3666-4835-b035-313262376636
DTSTAMP:20260422T070127Z
DESCRIPTION:3/3 Letná - Šťáhlavy 3:2 (23\,21\,-20\,-10\,7)
DTSTART;TZID=Europe/Berlin:20250216T130000
DTEND;TZID=Europe/Berlin:20250216T150000
LOCATION:Sportovní hala Šťáhlavy\, U hřiště 525 Šťáhlavy
SUMMARY:P-U20Z-5B: Letná-Šťáhlavy
END:VEVENT
BEGIN:VEVENT
UID:66306163-6462-4334-b166-666531353538
DTSTAMP:20260422T070127Z
DESCRIPTION:2/2 Šťáhlavy - Vejprnice A 3:0 (23\,19\,17)
DTSTART;TZID=Europe/Berlin:20250316T113000
DTEND;TZID=Europe/Berlin:20250316T133000
LOCATION:Sportovní hala Šťáhlavy\, U hřiště 525 Šťáhlavy
SUMMARY:P-U20Z-6B: Šťáhlavy-Vejprnice A
END:VEVENT
BEGIN:VEVENT
UID:64336630-6233-4334-b237-613435383933
DTSTAMP:20260422T070127Z
DESCRIPTION:1/1 Klatovy - Šťáhlavy 3:1 (13\,23\,-18\,18)
DTSTART;TZID=Europe/Berlin:20250316T100000
DTEND;TZID=Europe/Berlin:20250316T120000
LOCATION:Sportovní hala Šťáhlavy\, U hřiště 525 Šťáhlavy
SUMMARY:P-U20Z-6B: Klatovy-Šťáhlavy
END:VEVENT
END:VCALENDAR
