BEGIN:VCALENDAR
VERSION:2.0
PRODID:-//VK Slavia Plzeň B87042//NONSGML kigkonsult.se iCalcreator 2.41.80//
CALSCALE:GREGORIAN
UID:36356132-6266-4837-a663-616263326563
BEGIN:VEVENT
UID:65393664-3363-4032-b136-643234316234
DTSTAMP:20260422T224250Z
DESCRIPTION:4/4 Slavia Plzeň B - Lhota\npořadatel předběžně: Slavia\, Lhota
 \, Touškov
DTSTART;TZID=Europe/Berlin:20250119T090000
DTEND;TZID=Europe/Berlin:20250119T110000
LOCATION:Tělocvična 15.ZŠ\, Terezie Brzkové 863 Plzeň - Skvrňany
SUMMARY:P-U18Z: Slavia Plzeň B-Lhota
END:VEVENT
BEGIN:VEVENT
UID:63323166-3461-4366-b435-323030623166
DTSTAMP:20260422T224250Z
DESCRIPTION:5/5 Slavia Plzeň B - Domažlice 0:2 (-13\,-13)
DTSTART;TZID=Europe/Berlin:20240929T140000
DTEND;TZID=Europe/Berlin:20240929T160000
LOCATION:Sportovní hala Šťáhlavy\, U hřiště 525 Šťáhlavy
SUMMARY:P-U18Z-1C: Slavia Plzeň B-Domažlice
END:VEVENT
BEGIN:VEVENT
UID:33633466-3830-4263-a138-326264396436
DTSTAMP:20260422T224250Z
DESCRIPTION:2/2 Šťáhlavy A - Slavia Plzeň B 2:0 (19\,11)
DTSTART;TZID=Europe/Berlin:20240929T101500
DTEND;TZID=Europe/Berlin:20240929T121500
LOCATION:Sportovní hala Šťáhlavy\, U hřiště 525 Šťáhlavy
SUMMARY:P-U18Z-1C: Šťáhlavy A-Slavia Plzeň B
END:VEVENT
BEGIN:VEVENT
UID:62643764-3136-4662-b466-336136313431
DTSTAMP:20260422T224250Z
DESCRIPTION:3/3 Mirošov - Slavia Plzeň B 2:0 (16\,20)
DTSTART;TZID=Europe/Berlin:20240929T113000
DTEND;TZID=Europe/Berlin:20240929T133000
LOCATION:Sportovní hala Šťáhlavy\, U hřiště 525 Šťáhlavy
SUMMARY:P-U18Z-1C: Mirošov-Slavia Plzeň B
END:VEVENT
BEGIN:VEVENT
UID:63646231-3661-4061-b534-383133343532
DTSTAMP:20260422T224250Z
DESCRIPTION:3/3 Slavia Plzeň B - Rokycany 2:0 (20\,17)
DTSTART;TZID=Europe/Berlin:20241110T113000
DTEND;TZID=Europe/Berlin:20241110T133000
LOCATION:Tělocvična 15.ZŠ\, Terezie Brzkové 863 Plzeň - Skvrňany
SUMMARY:P-U18Z-2C: Slavia Plzeň B-Rokycany
END:VEVENT
BEGIN:VEVENT
UID:39633036-3465-4938-b664-373862616532
DTSTAMP:20260422T224250Z
DESCRIPTION:1/1 Touškov - Slavia Plzeň B 0:2 (-13\,-19)
DTSTART;TZID=Europe/Berlin:20241110T090000
DTEND;TZID=Europe/Berlin:20241110T110000
LOCATION:Tělocvična 15.ZŠ\, Terezie Brzkové 863 Plzeň - Skvrňany
SUMMARY:P-U18Z-2C: Touškov-Slavia Plzeň B
END:VEVENT
BEGIN:VEVENT
UID:37333764-3766-4238-a161-613665303133
DTSTAMP:20260422T224250Z
DESCRIPTION:6/6 Šťáhlavy B - Slavia Plzeň B 0:2 (-18\,-11)
DTSTART;TZID=Europe/Berlin:20241110T151500
DTEND;TZID=Europe/Berlin:20241110T171500
LOCATION:Tělocvična 15.ZŠ\, Terezie Brzkové 863 Plzeň - Skvrňany
SUMMARY:P-U18Z-2C: Šťáhlavy B-Slavia Plzeň B
END:VEVENT
BEGIN:VEVENT
UID:32336230-6538-4662-b763-366265633034
DTSTAMP:20260422T224250Z
DESCRIPTION:3/3 Slavia Plzeň B - Letná 2:1 (-21\,22\,12)
DTSTART;TZID=Europe/Berlin:20241201T113000
DTEND;TZID=Europe/Berlin:20241201T133000
LOCATION:Tělocvična 28. ZŠ Plzeň\, Rodinná 965 Plzeň - Lobzy
SUMMARY:P-U18Z-3B: Slavia Plzeň B-Letná
END:VEVENT
BEGIN:VEVENT
UID:39323932-6562-4732-b139-613865613563
DTSTAMP:20260422T224250Z
DESCRIPTION:2/2 Lhota - Slavia Plzeň B 2:1 (-23\,11\,9)
DTSTART;TZID=Europe/Berlin:20241201T101500
DTEND;TZID=Europe/Berlin:20241201T121500
LOCATION:Tělocvična 28. ZŠ Plzeň\, Rodinná 965 Plzeň - Lobzy
SUMMARY:P-U18Z-3B: Lhota-Slavia Plzeň B
END:VEVENT
BEGIN:VEVENT
UID:36396263-6638-4530-b938-336666316435
DTSTAMP:20260422T224250Z
DESCRIPTION:5/5 Šťáhlavy A - Slavia Plzeň B 2:0 (20\,17)
DTSTART;TZID=Europe/Berlin:20241201T140000
DTEND;TZID=Europe/Berlin:20241201T160000
LOCATION:Tělocvična 28. ZŠ Plzeň\, Rodinná 965 Plzeň - Lobzy
SUMMARY:P-U18Z-3B: Šťáhlavy A-Slavia Plzeň B
END:VEVENT
BEGIN:VEVENT
UID:35623436-6532-4837-a366-333963356534
DTSTAMP:20260422T224250Z
DESCRIPTION:5/5 Slavia Plzeň B - Mirošov 2:0 (18\,20)
DTSTART;TZID=Europe/Berlin:20250119T140000
DTEND;TZID=Europe/Berlin:20250119T160000
LOCATION:Sportovní hala Město Touškov\, Čemínská 296 Město Touškov
SUMMARY:P-U18Z-4B: Slavia Plzeň B-Mirošov
END:VEVENT
BEGIN:VEVENT
UID:65323261-3466-4965-a665-396463646235
DTSTAMP:20260422T224250Z
DESCRIPTION:2/2 Šťáhlavy A - Slavia Plzeň B 2:0 (17\,14)
DTSTART;TZID=Europe/Berlin:20250119T101500
DTEND;TZID=Europe/Berlin:20250119T121500
LOCATION:Sportovní hala Město Touškov\, Čemínská 296 Město Touškov
SUMMARY:P-U18Z-4B: Šťáhlavy A-Slavia Plzeň B
END:VEVENT
BEGIN:VEVENT
UID:34643064-3836-4034-a461-653861643866
DTSTAMP:20260422T224250Z
DESCRIPTION:3/3 Touškov - Slavia Plzeň B 2:1 (-23\,24\,13)
DTSTART;TZID=Europe/Berlin:20250119T113000
DTEND;TZID=Europe/Berlin:20250119T133000
LOCATION:Sportovní hala Město Touškov\, Čemínská 296 Město Touškov
SUMMARY:P-U18Z-4B: Touškov-Slavia Plzeň B
END:VEVENT
BEGIN:VEVENT
UID:61353331-3338-4461-b031-663932623062
DTSTAMP:20260422T224250Z
DESCRIPTION:6/6 Slavia Plzeň B - Rokycany 2:0 (13\,16)
DTSTART;TZID=Europe/Berlin:20250302T151500
DTEND;TZID=Europe/Berlin:20250302T171500
LOCATION:Hala Gymnázia Rokycany\, Mládežníků 1115 Rokycany - Nové Město
SUMMARY:P-U18Z-5B: Slavia Plzeň B-Rokycany
END:VEVENT
BEGIN:VEVENT
UID:37393230-3464-4663-b637-376136343034
DTSTAMP:20260422T224250Z
DESCRIPTION:2/2 Touškov - Slavia Plzeň B 2:1 (18\,-8\,10)
DTSTART;TZID=Europe/Berlin:20250302T101500
DTEND;TZID=Europe/Berlin:20250302T121500
LOCATION:Hala Gymnázia Rokycany\, Mládežníků 1115 Rokycany - Nové Město
SUMMARY:P-U18Z-5B: Touškov-Slavia Plzeň B
END:VEVENT
BEGIN:VEVENT
UID:30623034-3432-4161-b862-326239393731
DTSTAMP:20260422T224250Z
DESCRIPTION:3/3 Domažlice - Slavia Plzeň B 2:1 (20\,-19\,10)
DTSTART;TZID=Europe/Berlin:20250302T113000
DTEND;TZID=Europe/Berlin:20250302T133000
LOCATION:Hala Gymnázia Rokycany\, Mládežníků 1115 Rokycany - Nové Město
SUMMARY:P-U18Z-5B: Domažlice-Slavia Plzeň B
END:VEVENT
BEGIN:VEVENT
UID:65656533-3936-4561-b033-313339323135
DTSTAMP:20260422T224250Z
DESCRIPTION:6/6 Slavia Plzeň B - Domažlice 0:2 (-15\,-19)
DTSTART;TZID=Europe/Berlin:20250330T151500
DTEND;TZID=Europe/Berlin:20250330T171500
LOCATION:Sportovní hala ZŠ Komenského Domažlice\, Komenského 17 Domažlice -
  Týnské Předměstí
SUMMARY:P-U18Z-6B: Slavia Plzeň B-Domažlice
END:VEVENT
BEGIN:VEVENT
UID:63323937-3161-4335-a136-653730663633
DTSTAMP:20260422T224250Z
DESCRIPTION:2/2 Letná - Slavia Plzeň B 2:0 (24\,21)
DTSTART;TZID=Europe/Berlin:20250330T101500
DTEND;TZID=Europe/Berlin:20250330T121500
LOCATION:Sportovní hala ZŠ Komenského Domažlice\, Komenského 17 Domažlice -
  Týnské Předměstí
SUMMARY:P-U18Z-6B: Letná-Slavia Plzeň B
END:VEVENT
BEGIN:VEVENT
UID:33323631-6234-4936-a365-343166386233
DTSTAMP:20260422T224250Z
DESCRIPTION:3/3 Mirošov - Slavia Plzeň B 2:0 (25\,15)
DTSTART;TZID=Europe/Berlin:20250330T113000
DTEND;TZID=Europe/Berlin:20250330T133000
LOCATION:Sportovní hala ZŠ Komenského Domažlice\, Komenského 17 Domažlice -
  Týnské Předměstí
SUMMARY:P-U18Z-6B: Mirošov-Slavia Plzeň B
END:VEVENT
END:VCALENDAR
