BEGIN:VCALENDAR
VERSION:2.0
PRODID:-//Tělocvičná jednota Sokol Poruba87082//NONSGML kigkonsult.se iCalcreator 2.41.80//
CALSCALE:GREGORIAN
UID:36373262-6338-4366-b330-616165303138
BEGIN:VEVENT
UID:37356130-3966-4662-b639-353336663264
DTSTAMP:20260421T210134Z
DESCRIPTION:1/1 TJ Sokol Poruba - VS Ostrava 0:3 (-13\,-19\,-21)
DTSTART;TZID=Europe/Berlin:20240921T090000
DTEND;TZID=Europe/Berlin:20240921T110000
LOCATION:TJ Sokol Poruba\, Vřesinská 121 Ostrava - Poruba
SUMMARY:MS-U18ZB: TJ Sokol Poruba-VS Ostrava
END:VEVENT
BEGIN:VEVENT
UID:63353533-3263-4738-a634-366663366565
DTSTAMP:20260421T210134Z
DESCRIPTION:2/5 TJ Sokol Poruba - VS Ostrava 3:1 (-18\,22\,18\,17)
DTSTART;TZID=Europe/Berlin:20240921T130000
DTEND;TZID=Europe/Berlin:20240921T150000
LOCATION:TJ Sokol Poruba\, Vřesinská 121 Ostrava - Poruba
SUMMARY:MS-U18ZB: TJ Sokol Poruba-VS Ostrava
END:VEVENT
BEGIN:VEVENT
UID:35636233-3138-4535-a138-393966666565
DTSTAMP:20260421T210134Z
DESCRIPTION:7/27 TJ Sokol Poruba - VO Slezská Orlice 0:3 (-12\,-14\,-24)
DTSTART;TZID=Europe/Berlin:20241026T090000
DTEND;TZID=Europe/Berlin:20241026T110000
LOCATION:TJ Sokol Poruba\, Vřesinská 121 Ostrava - Poruba
SUMMARY:MS-U18ZB: TJ Sokol Poruba-VO Slezská Orlice
END:VEVENT
BEGIN:VEVENT
UID:37323764-3831-4863-a562-373330663465
DTSTAMP:20260421T210134Z
DESCRIPTION:8/31 TJ Sokol Poruba - VO Slezská Orlice 0:3 (-20\,-7\,-16)
DTSTART;TZID=Europe/Berlin:20241026T130000
DTEND;TZID=Europe/Berlin:20241026T150000
LOCATION:TJ Sokol Poruba\, Vřesinská 121 Ostrava - Poruba
SUMMARY:MS-U18ZB: TJ Sokol Poruba-VO Slezská Orlice
END:VEVENT
BEGIN:VEVENT
UID:32333233-6631-4534-a135-366366313937
DTSTAMP:20260421T210134Z
DESCRIPTION:11/42 TJ Sokol Poruba - Ostrava C 0:3 (-13\,-10\,-15)
DTSTART;TZID=Europe/Berlin:20241109T090000
DTEND;TZID=Europe/Berlin:20241109T110000
LOCATION:TJ Sokol Poruba\, Vřesinská 121 Ostrava - Poruba
SUMMARY:MS-U18ZB: TJ Sokol Poruba-Ostrava C
END:VEVENT
BEGIN:VEVENT
UID:30313865-6137-4936-a439-303661636536
DTSTAMP:20260421T210134Z
DESCRIPTION:12/46 TJ Sokol Poruba - Ostrava C 0:3 (-11\,-14\,-24)
DTSTART;TZID=Europe/Berlin:20241109T130000
DTEND;TZID=Europe/Berlin:20241109T150000
LOCATION:TJ Sokol Poruba\, Vřesinská 121 Ostrava - Poruba
SUMMARY:MS-U18ZB: TJ Sokol Poruba-Ostrava C
END:VEVENT
BEGIN:VEVENT
UID:64313939-6130-4331-b131-626435636132
DTSTAMP:20260421T210134Z
DESCRIPTION:17/68 TJ Sokol Poruba - VK Polanka nad Odrou 0:3 (-21\,-21\,-17
 )
DTSTART;TZID=Europe/Berlin:20241207T090000
DTEND;TZID=Europe/Berlin:20241207T110000
LOCATION:TJ Sokol Poruba\, Vřesinská 121 Ostrava - Poruba
SUMMARY:MS-U18ZB: TJ Sokol Poruba-VK Polanka nad Odrou
END:VEVENT
BEGIN:VEVENT
UID:32646462-6435-4661-b261-666130383166
DTSTAMP:20260421T210134Z
DESCRIPTION:18/72 TJ Sokol Poruba - VK Polanka nad Odrou 1:3 (-20\,20\,-23\
 ,-16)
DTSTART;TZID=Europe/Berlin:20241207T130000
DTEND;TZID=Europe/Berlin:20241207T150000
LOCATION:TJ Sokol Poruba\, Vřesinská 121 Ostrava - Poruba
SUMMARY:MS-U18ZB: TJ Sokol Poruba-VK Polanka nad Odrou
END:VEVENT
BEGIN:VEVENT
UID:66343432-3835-4734-a262-343038393866
DTSTAMP:20260421T210134Z
DESCRIPTION:23/91 TJ Sokol Poruba - VK Kylešovice 3:2 (-16\,-15\,21\,23\,12
 )
DTSTART;TZID=Europe/Berlin:20250125T090000
DTEND;TZID=Europe/Berlin:20250125T110000
LOCATION:TJ Sokol Poruba\, Vřesinská 121 Ostrava - Poruba
SUMMARY:MS-U18ZB: TJ Sokol Poruba-VK Kylešovice
END:VEVENT
BEGIN:VEVENT
UID:31323736-3664-4365-a436-636461613364
DTSTAMP:20260421T210134Z
DESCRIPTION:24/95 TJ Sokol Poruba - VK Kylešovice 3:0 (18\,19\,19)
DTSTART;TZID=Europe/Berlin:20250125T130000
DTEND;TZID=Europe/Berlin:20250125T150000
LOCATION:TJ Sokol Poruba\, Vřesinská 121 Ostrava - Poruba
SUMMARY:MS-U18ZB: TJ Sokol Poruba-VK Kylešovice
END:VEVENT
BEGIN:VEVENT
UID:37313234-3566-4138-a465-336264303837
DTSTAMP:20260421T210134Z
DESCRIPTION:27/108 TJ Sokol Poruba - TJ Hlučín 3:1 (-20\,18\,22\,19)
DTSTART;TZID=Europe/Berlin:20241123T090000
DTEND;TZID=Europe/Berlin:20241123T110000
LOCATION:TJ Sokol Poruba\, Vřesinská 121 Ostrava - Poruba
SUMMARY:MS-U18ZB: TJ Sokol Poruba-TJ Hlučín
END:VEVENT
BEGIN:VEVENT
UID:33643166-6465-4031-b539-643932313161
DTSTAMP:20260421T210134Z
DESCRIPTION:28/112 TJ Sokol Poruba - TJ Hlučín 3:0 (10\,17\,11)
DTSTART;TZID=Europe/Berlin:20241123T130000
DTEND;TZID=Europe/Berlin:20241123T150000
LOCATION:TJ Sokol Poruba\, Vřesinská 121 Ostrava - Poruba
SUMMARY:MS-U18ZB: TJ Sokol Poruba-TJ Hlučín
END:VEVENT
BEGIN:VEVENT
UID:36613435-3035-4461-b437-373634383239
DTSTAMP:20260421T210134Z
DESCRIPTION:3/12 VK Polanka nad Odrou - TJ Sokol Poruba 3:1 (-23\,24\,20\,1
 9)
DTSTART;TZID=Europe/Berlin:20241005T090000
DTEND;TZID=Europe/Berlin:20241005T110000
LOCATION:Sportovní hala\, Heleny Salichové 1275 Ostrava - Polanka nad Odrou
SUMMARY:MS-U18ZB: VK Polanka nad Odrou-TJ Sokol Poruba
END:VEVENT
BEGIN:VEVENT
UID:62616330-3530-4764-b439-353935653465
DTSTAMP:20260421T210134Z
DESCRIPTION:4/16 VK Polanka nad Odrou - TJ Sokol Poruba 3:0 (9\,23\,22)
DTSTART;TZID=Europe/Berlin:20241005T130000
DTEND;TZID=Europe/Berlin:20241005T150000
LOCATION:Sportovní hala\, Heleny Salichové 1275 Ostrava - Polanka nad Odrou
SUMMARY:MS-U18ZB: VK Polanka nad Odrou-TJ Sokol Poruba
END:VEVENT
BEGIN:VEVENT
UID:33643362-3033-4932-a265-643634653261
DTSTAMP:20260421T210134Z
DESCRIPTION:9/35 VK Kylešovice - TJ Sokol Poruba 3:1 (22\,7\,-19\,21)
DTSTART;TZID=Europe/Berlin:20241102T090000
DTEND;TZID=Europe/Berlin:20241102T110000
LOCATION:Sportovní hala Obchodní akademie\, Hany Kvapilové 1656 Opava - Pře
 dměstí
SUMMARY:MS-U18ZB: VK Kylešovice-TJ Sokol Poruba
END:VEVENT
BEGIN:VEVENT
UID:62656532-6433-4262-a435-333763623165
DTSTAMP:20260421T210134Z
DESCRIPTION:10/39 VK Kylešovice - TJ Sokol Poruba 3:0 (19\,16\,20)
DTSTART;TZID=Europe/Berlin:20241102T130000
DTEND;TZID=Europe/Berlin:20241102T150000
LOCATION:Sportovní hala Obchodní akademie\, Hany Kvapilové 1656 Opava - Pře
 dměstí
SUMMARY:MS-U18ZB: VK Kylešovice-TJ Sokol Poruba
END:VEVENT
BEGIN:VEVENT
UID:36393530-3665-4361-b861-363436323437
DTSTAMP:20260421T210134Z
DESCRIPTION:13/52 TJ Hlučín - TJ Sokol Poruba 1:3 (15\,-18\,-19\,-15)
DTSTART;TZID=Europe/Berlin:20250208T090000
DTEND;TZID=Europe/Berlin:20250208T110000
LOCATION:Sportovní hala\, Tyršova 1668 Hlučín
SUMMARY:MS-U18ZB: TJ Hlučín-TJ Sokol Poruba
END:VEVENT
BEGIN:VEVENT
UID:39346234-3733-4265-a330-363262393033
DTSTAMP:20260421T210134Z
DESCRIPTION:14/56 TJ Hlučín - TJ Sokol Poruba 2:3 (23\,21\,-15\,-21\,-10)
DTSTART;TZID=Europe/Berlin:20250208T130000
DTEND;TZID=Europe/Berlin:20250208T150000
LOCATION:Sportovní hala\, Tyršova 1668 Hlučín
SUMMARY:MS-U18ZB: TJ Hlučín-TJ Sokol Poruba
END:VEVENT
BEGIN:VEVENT
UID:37376462-3938-4465-b331-363832616534
DTSTAMP:20260421T210134Z
DESCRIPTION:15/57 VS Ostrava - TJ Sokol Poruba 2:3 (17\,12\,-15\,-24\,-9)
DTSTART;TZID=Europe/Berlin:20241130T100000
DTEND;TZID=Europe/Berlin:20241130T120000
LOCATION:SPŠ Stavební Ostrava\, Středoškolská 2992 Ostrava - Zábřeh
SUMMARY:MS-U18ZB: VS Ostrava-TJ Sokol Poruba
END:VEVENT
BEGIN:VEVENT
UID:34306566-6433-4262-b736-363032626431
DTSTAMP:20260421T210134Z
DESCRIPTION:16/61 VS Ostrava - TJ Sokol Poruba 3:1 (17\,-21\,22\,11)
DTSTART;TZID=Europe/Berlin:20241130T140000
DTEND;TZID=Europe/Berlin:20241130T160000
LOCATION:SPŠ Stavební Ostrava\, Středoškolská 2992 Ostrava - Zábřeh
SUMMARY:MS-U18ZB: VS Ostrava-TJ Sokol Poruba
END:VEVENT
BEGIN:VEVENT
UID:31346537-6639-4662-b261-656165363434
DTSTAMP:20260421T210134Z
DESCRIPTION:21/83 VO Slezská Orlice - TJ Sokol Poruba 3:1 (13\,15\,-28\,12)
DTSTART;TZID=Europe/Berlin:20250118T100000
DTEND;TZID=Europe/Berlin:20250118T120000
LOCATION:ZŠ Janáčkovo náměstí 17\, Janáčkovo náměstí 1970 Krnov - Pod Bezru
 čovým vrchem
SUMMARY:MS-U18ZB: VO Slezská Orlice-TJ Sokol Poruba
END:VEVENT
BEGIN:VEVENT
UID:62383637-3961-4635-b634-623738313237
DTSTAMP:20260421T210134Z
DESCRIPTION:22/87 VO Slezská Orlice - TJ Sokol Poruba 3:0 (3\,22\,17)
DTSTART;TZID=Europe/Berlin:20250118T140000
DTEND;TZID=Europe/Berlin:20250118T160000
LOCATION:ZŠ Janáčkovo náměstí 17\, Janáčkovo náměstí 1970 Krnov - Pod Bezru
 čovým vrchem
SUMMARY:MS-U18ZB: VO Slezská Orlice-TJ Sokol Poruba
END:VEVENT
BEGIN:VEVENT
UID:66333038-6635-4833-b262-306531356566
DTSTAMP:20260421T210134Z
DESCRIPTION:25/98 Ostrava C - TJ Sokol Poruba 3:0 (21\,11\,17)
DTSTART;TZID=Europe/Berlin:20250201T100000
DTEND;TZID=Europe/Berlin:20250201T120000
LOCATION:Hala míčových sportů\, Varenská 3098 Ostrava - Moravská Ostrava
SUMMARY:MS-U18ZB: Ostrava C-TJ Sokol Poruba
END:VEVENT
BEGIN:VEVENT
UID:30666133-6233-4430-a661-353631613331
DTSTAMP:20260421T210134Z
DESCRIPTION:26/102 Ostrava C - TJ Sokol Poruba 3:0 (10\,17\,6)
DTSTART;TZID=Europe/Berlin:20250201T140000
DTEND;TZID=Europe/Berlin:20250201T160000
LOCATION:Hala míčových sportů\, Varenská 3098 Ostrava - Moravská Ostrava
SUMMARY:MS-U18ZB: Ostrava C-TJ Sokol Poruba
END:VEVENT
BEGIN:VEVENT
UID:65666131-6138-4361-b264-323836353037
DTSTAMP:20260421T210134Z
DESCRIPTION:1/1 TJ Sokol Poruba - TJ Sokol Bohumín 3:1 (23\,-21\,17\,18)
DTSTART;TZID=Europe/Berlin:20250301T090000
DTEND;TZID=Europe/Berlin:20250301T110000
LOCATION:TJ Sokol Poruba\, Vřesinská 121 Ostrava - Poruba
SUMMARY:MS-U18Z-2E: TJ Sokol Poruba-TJ Sokol Bohumín
END:VEVENT
BEGIN:VEVENT
UID:64326363-3539-4131-b536-653433363532
DTSTAMP:20260421T210134Z
DESCRIPTION:2/2 TJ Sokol Poruba - TJ Sokol Bohumín 3:1 (-15\,15\,7\,15)
DTSTART;TZID=Europe/Berlin:20250301T130000
DTEND;TZID=Europe/Berlin:20250301T150000
LOCATION:TJ Sokol Poruba\, Vřesinská 121 Ostrava - Poruba
SUMMARY:MS-U18Z-2E: TJ Sokol Poruba-TJ Sokol Bohumín
END:VEVENT
BEGIN:VEVENT
UID:38306639-3063-4162-b430-333638366133
DTSTAMP:20260421T210134Z
DESCRIPTION:3/3 TJ Sokol Bohumín - TJ Sokol Poruba 3:2 (-19\,23\,-16\,19\,7
 )
DTSTART;TZID=Europe/Berlin:20250308T090000
DTEND;TZID=Europe/Berlin:20250308T110000
LOCATION:ZŠ ČSA Bohumín\, Čs. armády 1026 Bohumín - Nový Bohumín
SUMMARY:MS-U18Z-2E: TJ Sokol Bohumín-TJ Sokol Poruba
END:VEVENT
BEGIN:VEVENT
UID:36663461-3861-4235-a333-393264373835
DTSTAMP:20260421T210134Z
DESCRIPTION:4/4 TJ Sokol Bohumín - TJ Sokol Poruba 0:3 (-9\,-22\,-23)
DTSTART;TZID=Europe/Berlin:20250308T130000
DTEND;TZID=Europe/Berlin:20250308T150000
LOCATION:ZŠ ČSA Bohumín\, Čs. armády 1026 Bohumín - Nový Bohumín
SUMMARY:MS-U18Z-2E: TJ Sokol Bohumín-TJ Sokol Poruba
END:VEVENT
END:VCALENDAR
