BEGIN:VCALENDAR
VERSION:2.0
PRODID:-//VK Polanka nad Odrou87083//NONSGML kigkonsult.se iCalcreator 2.41.80//
CALSCALE:GREGORIAN
UID:31653435-6634-4066-b732-646638616331
BEGIN:VEVENT
UID:33346439-3366-4062-b931-316338643333
DTSTAMP:20260421T210106Z
DESCRIPTION:1/2 VK Polanka nad Odrou - TJ Hlučín 3:1 (-23\,11\,21\,14)
DTSTART;TZID=Europe/Berlin:20240921T090000
DTEND;TZID=Europe/Berlin:20240921T110000
LOCATION:Sportovní hala\, Heleny Salichové 1275 Ostrava - Polanka nad Odrou
SUMMARY:MS-U18ZB: VK Polanka nad Odrou-TJ Hlučín
END:VEVENT
BEGIN:VEVENT
UID:38346634-3935-4135-a164-626433376238
DTSTAMP:20260421T210106Z
DESCRIPTION:2/6 VK Polanka nad Odrou - TJ Hlučín 3:1 (-23\,18\,21\,19)
DTSTART;TZID=Europe/Berlin:20240921T130000
DTEND;TZID=Europe/Berlin:20240921T150000
LOCATION:Sportovní hala\, Heleny Salichové 1275 Ostrava - Polanka nad Odrou
SUMMARY:MS-U18ZB: VK Polanka nad Odrou-TJ Hlučín
END:VEVENT
BEGIN:VEVENT
UID:30393337-3864-4531-a638-663839646130
DTSTAMP:20260421T210106Z
DESCRIPTION:3/12 VK Polanka nad Odrou - TJ Sokol Poruba 3:1 (-23\,24\,20\,1
 9)
DTSTART;TZID=Europe/Berlin:20241005T090000
DTEND;TZID=Europe/Berlin:20241005T110000
LOCATION:Sportovní hala\, Heleny Salichové 1275 Ostrava - Polanka nad Odrou
SUMMARY:MS-U18ZB: VK Polanka nad Odrou-TJ Sokol Poruba
END:VEVENT
BEGIN:VEVENT
UID:32386163-3738-4563-a361-623864393065
DTSTAMP:20260421T210106Z
DESCRIPTION:4/16 VK Polanka nad Odrou - TJ Sokol Poruba 3:0 (9\,23\,22)
DTSTART;TZID=Europe/Berlin:20241005T130000
DTEND;TZID=Europe/Berlin:20241005T150000
LOCATION:Sportovní hala\, Heleny Salichové 1275 Ostrava - Polanka nad Odrou
SUMMARY:MS-U18ZB: VK Polanka nad Odrou-TJ Sokol Poruba
END:VEVENT
BEGIN:VEVENT
UID:36613739-6338-4639-b062-666161666635
DTSTAMP:20260421T210106Z
DESCRIPTION:5/17 VK Polanka nad Odrou - VS Ostrava 3:2 (-22\,-17\,19\,17\,5
 )
DTSTART;TZID=Europe/Berlin:20241013T090000
DTEND;TZID=Europe/Berlin:20241013T110000
LOCATION:Sportovní hala\, Heleny Salichové 1275 Ostrava - Polanka nad Odrou
SUMMARY:MS-U18ZB: VK Polanka nad Odrou-VS Ostrava
END:VEVENT
BEGIN:VEVENT
UID:30653262-6335-4732-b238-616632363134
DTSTAMP:20260421T210106Z
DESCRIPTION:6/21 VK Polanka nad Odrou - VS Ostrava 3:0 (21\,16\,11)
DTSTART;TZID=Europe/Berlin:20241013T130000
DTEND;TZID=Europe/Berlin:20241013T150000
LOCATION:Sportovní hala\, Heleny Salichové 1275 Ostrava - Polanka nad Odrou
SUMMARY:MS-U18ZB: VK Polanka nad Odrou-VS Ostrava
END:VEVENT
BEGIN:VEVENT
UID:65343134-3230-4764-b330-373562343666
DTSTAMP:20260421T210106Z
DESCRIPTION:11/43 VK Polanka nad Odrou - VK Kylešovice 3:2 (-20\,14\,-16\,2
 3\,12)
DTSTART;TZID=Europe/Berlin:20241109T090000
DTEND;TZID=Europe/Berlin:20241109T110000
LOCATION:Sportovní hala\, Heleny Salichové 1275 Ostrava - Polanka nad Odrou
SUMMARY:MS-U18ZB: VK Polanka nad Odrou-VK Kylešovice
END:VEVENT
BEGIN:VEVENT
UID:35626637-6534-4639-a562-643434373666
DTSTAMP:20260421T210106Z
DESCRIPTION:12/47 VK Polanka nad Odrou - VK Kylešovice 0:3 (-13\,-28\,-12)
DTSTART;TZID=Europe/Berlin:20241109T130000
DTEND;TZID=Europe/Berlin:20241109T150000
LOCATION:Sportovní hala\, Heleny Salichové 1275 Ostrava - Polanka nad Odrou
SUMMARY:MS-U18ZB: VK Polanka nad Odrou-VK Kylešovice
END:VEVENT
BEGIN:VEVENT
UID:38616433-3736-4338-a166-623534346166
DTSTAMP:20260421T210106Z
DESCRIPTION:23/90 VK Polanka nad Odrou - VO Slezská Orlice 3:1 (11\,-20\,19
 \,17)
DTSTART;TZID=Europe/Berlin:20250125T090000
DTEND;TZID=Europe/Berlin:20250125T110000
LOCATION:Sportovní hala\, Heleny Salichové 1275 Ostrava - Polanka nad Odrou
SUMMARY:MS-U18ZB: VK Polanka nad Odrou-VO Slezská Orlice
END:VEVENT
BEGIN:VEVENT
UID:64383265-3332-4663-b139-343366343665
DTSTAMP:20260421T210106Z
DESCRIPTION:24/94 VK Polanka nad Odrou - VO Slezská Orlice 3:0 (17\,25\,14)
DTSTART;TZID=Europe/Berlin:20250125T130000
DTEND;TZID=Europe/Berlin:20250125T150000
LOCATION:Sportovní hala\, Heleny Salichové 1275 Ostrava - Polanka nad Odrou
SUMMARY:MS-U18ZB: VK Polanka nad Odrou-VO Slezská Orlice
END:VEVENT
BEGIN:VEVENT
UID:36663631-3038-4365-b839-373831613338
DTSTAMP:20260421T210106Z
DESCRIPTION:27/107 VK Polanka nad Odrou - Ostrava C 0:3 (-16\,-14\,-12)
DTSTART;TZID=Europe/Berlin:20250117T170000
DTEND;TZID=Europe/Berlin:20250117T190000
LOCATION:Sportovní hala\, Heleny Salichové 1275 Ostrava - Polanka nad Odrou
SUMMARY:MS-U18ZB: VK Polanka nad Odrou-Ostrava C
END:VEVENT
BEGIN:VEVENT
UID:65383333-3530-4834-b137-373338633336
DTSTAMP:20260421T210106Z
DESCRIPTION:28/111 VK Polanka nad Odrou - Ostrava C 0:3 (-13\,-15\,-24)
DTSTART;TZID=Europe/Berlin:20250117T190000
DTEND;TZID=Europe/Berlin:20250117T210000
LOCATION:Sportovní hala\, Heleny Salichové 1275 Ostrava - Polanka nad Odrou
SUMMARY:MS-U18ZB: VK Polanka nad Odrou-Ostrava C
END:VEVENT
BEGIN:VEVENT
UID:38653832-3663-4634-b436-623536353836
DTSTAMP:20260421T210106Z
DESCRIPTION:9/34 VO Slezská Orlice - VK Polanka nad Odrou 1:3 (18\,-22\,-21
 \,-19)
DTSTART;TZID=Europe/Berlin:20241102T100000
DTEND;TZID=Europe/Berlin:20241102T120000
LOCATION:ZŠ Janáčkovo náměstí 17\, Janáčkovo náměstí 1970 Krnov - Pod Bezru
 čovým vrchem
SUMMARY:MS-U18ZB: VO Slezská Orlice-VK Polanka nad Odrou
END:VEVENT
BEGIN:VEVENT
UID:38356566-6136-4731-b831-313434383139
DTSTAMP:20260421T210106Z
DESCRIPTION:10/38 VO Slezská Orlice - VK Polanka nad Odrou 3:2 (22\,-20\,-2
 4\,19\,9)
DTSTART;TZID=Europe/Berlin:20241102T140000
DTEND;TZID=Europe/Berlin:20241102T160000
LOCATION:ZŠ Janáčkovo náměstí 17\, Janáčkovo náměstí 1970 Krnov - Pod Bezru
 čovým vrchem
SUMMARY:MS-U18ZB: VO Slezská Orlice-VK Polanka nad Odrou
END:VEVENT
BEGIN:VEVENT
UID:66366434-6238-4265-a231-623532343735
DTSTAMP:20260421T210106Z
DESCRIPTION:13/51 Ostrava C - VK Polanka nad Odrou 3:0 (3\,15\,21)
DTSTART;TZID=Europe/Berlin:20241208T090000
DTEND;TZID=Europe/Berlin:20241208T110000
LOCATION:Hala míčových sportů\, Varenská 3098 Ostrava - Moravská Ostrava
SUMMARY:MS-U18ZB: Ostrava C-VK Polanka nad Odrou
END:VEVENT
BEGIN:VEVENT
UID:37396132-6331-4066-b230-353233346266
DTSTAMP:20260421T210106Z
DESCRIPTION:14/55 Ostrava C - VK Polanka nad Odrou 3:0 (18\,25\,13)
DTSTART;TZID=Europe/Berlin:20241208T130000
DTEND;TZID=Europe/Berlin:20241208T150000
LOCATION:Hala míčových sportů\, Varenská 3098 Ostrava - Moravská Ostrava
SUMMARY:MS-U18ZB: Ostrava C-VK Polanka nad Odrou
END:VEVENT
BEGIN:VEVENT
UID:36366434-3230-4132-b363-643833326664
DTSTAMP:20260421T210106Z
DESCRIPTION:15/58 TJ Hlučín - VK Polanka nad Odrou 1:3 (-8\,-25\,17\,-13)
DTSTART;TZID=Europe/Berlin:20241130T100000
DTEND;TZID=Europe/Berlin:20241130T120000
LOCATION:Sportovní hala\, Tyršova 1668 Hlučín
SUMMARY:MS-U18ZB: TJ Hlučín-VK Polanka nad Odrou
END:VEVENT
BEGIN:VEVENT
UID:62376433-3735-4635-b361-346463663230
DTSTAMP:20260421T210106Z
DESCRIPTION:16/62 TJ Hlučín - VK Polanka nad Odrou 0:3 (-11\,-17\,-19)
DTSTART;TZID=Europe/Berlin:20241130T140000
DTEND;TZID=Europe/Berlin:20241130T160000
LOCATION:Sportovní hala\, Tyršova 1668 Hlučín
SUMMARY:MS-U18ZB: TJ Hlučín-VK Polanka nad Odrou
END:VEVENT
BEGIN:VEVENT
UID:66656665-6334-4465-a363-366137646236
DTSTAMP:20260421T210106Z
DESCRIPTION:17/68 TJ Sokol Poruba - VK Polanka nad Odrou 0:3 (-21\,-21\,-17
 )
DTSTART;TZID=Europe/Berlin:20241207T090000
DTEND;TZID=Europe/Berlin:20241207T110000
LOCATION:TJ Sokol Poruba\, Vřesinská 121 Ostrava - Poruba
SUMMARY:MS-U18ZB: TJ Sokol Poruba-VK Polanka nad Odrou
END:VEVENT
BEGIN:VEVENT
UID:39306233-6539-4464-b039-376235616131
DTSTAMP:20260421T210106Z
DESCRIPTION:18/72 TJ Sokol Poruba - VK Polanka nad Odrou 1:3 (-20\,20\,-23\
 ,-16)
DTSTART;TZID=Europe/Berlin:20241207T130000
DTEND;TZID=Europe/Berlin:20241207T150000
LOCATION:TJ Sokol Poruba\, Vřesinská 121 Ostrava - Poruba
SUMMARY:MS-U18ZB: TJ Sokol Poruba-VK Polanka nad Odrou
END:VEVENT
BEGIN:VEVENT
UID:39386539-6434-4262-b535-353433613761
DTSTAMP:20260421T210106Z
DESCRIPTION:19/73 VS Ostrava - VK Polanka nad Odrou 2:3 (-22\,23\,-9\,19\,-
 9)
DTSTART;TZID=Europe/Berlin:20241214T100000
DTEND;TZID=Europe/Berlin:20241214T120000
LOCATION:SŠ stavební a dřevozpracující\, U Studia 2654 Ostrava - Zábřeh
SUMMARY:MS-U18ZB: VS Ostrava-VK Polanka nad Odrou
END:VEVENT
BEGIN:VEVENT
UID:62363762-3939-4866-b533-303564323064
DTSTAMP:20260421T210106Z
DESCRIPTION:20/77 VS Ostrava - VK Polanka nad Odrou 3:0 (20\,23\,25)
DTSTART;TZID=Europe/Berlin:20241214T140000
DTEND;TZID=Europe/Berlin:20241214T160000
LOCATION:SŠ stavební a dřevozpracující\, U Studia 2654 Ostrava - Zábřeh
SUMMARY:MS-U18ZB: VS Ostrava-VK Polanka nad Odrou
END:VEVENT
BEGIN:VEVENT
UID:38616563-3538-4231-a239-336336623633
DTSTAMP:20260421T210106Z
DESCRIPTION:25/99 VK Kylešovice - VK Polanka nad Odrou 3:0 (17\,20\,24)
DTSTART;TZID=Europe/Berlin:20250201T100000
DTEND;TZID=Europe/Berlin:20250201T120000
LOCATION:Sportovní hala Obchodní akademie\, Hany Kvapilové 1656 Opava - Pře
 dměstí
SUMMARY:MS-U18ZB: VK Kylešovice-VK Polanka nad Odrou
END:VEVENT
BEGIN:VEVENT
UID:62656239-6465-4666-a664-353366633735
DTSTAMP:20260421T210106Z
DESCRIPTION:26/103 VK Kylešovice - VK Polanka nad Odrou 1:3 (-9\,-19\,24\,-
 18)
DTSTART;TZID=Europe/Berlin:20250201T140000
DTEND;TZID=Europe/Berlin:20250201T160000
LOCATION:Sportovní hala Obchodní akademie\, Hany Kvapilové 1656 Opava - Pře
 dměstí
SUMMARY:MS-U18ZB: VK Kylešovice-VK Polanka nad Odrou
END:VEVENT
BEGIN:VEVENT
UID:64393966-6230-4431-b765-313262333931
DTSTAMP:20260421T210106Z
DESCRIPTION:1/1 VK Polanka nad Odrou - VK Karviná 1:3 (17\,-22\,-19\,-19)
DTSTART;TZID=Europe/Berlin:20250322T090000
DTEND;TZID=Europe/Berlin:20250322T110000
LOCATION:Sportovní hala\, Heleny Salichové 1275 Ostrava - Polanka nad Odrou
SUMMARY:MS-U18Z-2B: VK Polanka nad Odrou-VK Karviná
END:VEVENT
BEGIN:VEVENT
UID:37323066-3430-4533-b236-643637393233
DTSTAMP:20260421T210106Z
DESCRIPTION:2/2 VK Polanka nad Odrou - VK Karviná 3:0 (10\,14\,15)
DTSTART;TZID=Europe/Berlin:20250322T130000
DTEND;TZID=Europe/Berlin:20250322T150000
LOCATION:Sportovní hala\, Heleny Salichové 1275 Ostrava - Polanka nad Odrou
SUMMARY:MS-U18Z-2B: VK Polanka nad Odrou-VK Karviná
END:VEVENT
BEGIN:VEVENT
UID:64333832-6133-4361-a364-616634633035
DTSTAMP:20260421T210106Z
DESCRIPTION:3/3 VK Karviná - VK Polanka nad Odrou 0:3 (-24\,-18\,-15)
DTSTART;TZID=Europe/Berlin:20250308T090000
DTEND;TZID=Europe/Berlin:20250308T110000
LOCATION:Tělocvična ZŠ Družby\, tř. Družby 1383 Karviná - Nové Město
SUMMARY:MS-U18Z-2B: VK Karviná-VK Polanka nad Odrou
END:VEVENT
BEGIN:VEVENT
UID:36353333-6361-4565-a336-666566316132
DTSTAMP:20260421T210106Z
DESCRIPTION:4/4 VK Karviná - VK Polanka nad Odrou 0:3 (-14\,-25\,-18)
DTSTART;TZID=Europe/Berlin:20250308T130000
DTEND;TZID=Europe/Berlin:20250308T150000
LOCATION:Tělocvična ZŠ Družby\, tř. Družby 1383 Karviná - Nové Město
SUMMARY:MS-U18Z-2B: VK Karviná-VK Polanka nad Odrou
END:VEVENT
END:VCALENDAR
