BEGIN:VCALENDAR
VERSION:2.0
PRODID:-//VO Slezská Orlice87084//NONSGML kigkonsult.se iCalcreator 2.41.80//
CALSCALE:GREGORIAN
UID:38323239-6166-4566-b433-366264343565
BEGIN:VEVENT
UID:35373831-3662-4666-b762-343361333263
DTSTAMP:20260422T001313Z
DESCRIPTION:1/4 VO Slezská Orlice - VK Kylešovice 0:3 (-9\,-19\,-18)
DTSTART;TZID=Europe/Berlin:20250104T100000
DTEND;TZID=Europe/Berlin:20250104T120000
LOCATION:ZŠ Janáčkovo náměstí 17\, Janáčkovo náměstí 1970 Krnov - Pod Bezru
 čovým vrchem
SUMMARY:MS-U18ZB: VO Slezská Orlice-VK Kylešovice
END:VEVENT
BEGIN:VEVENT
UID:65616232-6532-4132-b838-306137353736
DTSTAMP:20260422T001313Z
DESCRIPTION:2/8 VO Slezská Orlice - VK Kylešovice 0:3 (-7\,-14\,-11)
DTSTART;TZID=Europe/Berlin:20250104T140000
DTEND;TZID=Europe/Berlin:20250104T160000
LOCATION:ZŠ Janáčkovo náměstí 17\, Janáčkovo náměstí 1970 Krnov - Pod Bezru
 čovým vrchem
SUMMARY:MS-U18ZB: VO Slezská Orlice-VK Kylešovice
END:VEVENT
BEGIN:VEVENT
UID:64653263-6466-4664-b365-376135303431
DTSTAMP:20260422T001313Z
DESCRIPTION:5/19 VO Slezská Orlice - TJ Hlučín 3:0 (15\,10\,20)
DTSTART;TZID=Europe/Berlin:20241020T090000
DTEND;TZID=Europe/Berlin:20241020T110000
LOCATION:ZŠ Janáčkovo náměstí 17\, Janáčkovo náměstí 1970 Krnov - Pod Bezru
 čovým vrchem
SUMMARY:MS-U18ZB: VO Slezská Orlice-TJ Hlučín
END:VEVENT
BEGIN:VEVENT
UID:39363230-3133-4132-b831-303866316538
DTSTAMP:20260422T001313Z
DESCRIPTION:6/23 VO Slezská Orlice - TJ Hlučín 3:0 (23\,14\,13)
DTSTART;TZID=Europe/Berlin:20241020T130000
DTEND;TZID=Europe/Berlin:20241020T150000
LOCATION:ZŠ Janáčkovo náměstí 17\, Janáčkovo náměstí 1970 Krnov - Pod Bezru
 čovým vrchem
SUMMARY:MS-U18ZB: VO Slezská Orlice-TJ Hlučín
END:VEVENT
BEGIN:VEVENT
UID:37386334-3134-4830-b836-633233623464
DTSTAMP:20260422T001313Z
DESCRIPTION:9/34 VO Slezská Orlice - VK Polanka nad Odrou 1:3 (18\,-22\,-21
 \,-19)
DTSTART;TZID=Europe/Berlin:20241102T100000
DTEND;TZID=Europe/Berlin:20241102T120000
LOCATION:ZŠ Janáčkovo náměstí 17\, Janáčkovo náměstí 1970 Krnov - Pod Bezru
 čovým vrchem
SUMMARY:MS-U18ZB: VO Slezská Orlice-VK Polanka nad Odrou
END:VEVENT
BEGIN:VEVENT
UID:33333131-3362-4664-a565-616133613530
DTSTAMP:20260422T001313Z
DESCRIPTION:10/38 VO Slezská Orlice - VK Polanka nad Odrou 3:2 (22\,-20\,-2
 4\,19\,9)
DTSTART;TZID=Europe/Berlin:20241102T140000
DTEND;TZID=Europe/Berlin:20241102T160000
LOCATION:ZŠ Janáčkovo náměstí 17\, Janáčkovo náměstí 1970 Krnov - Pod Bezru
 čovým vrchem
SUMMARY:MS-U18ZB: VO Slezská Orlice-VK Polanka nad Odrou
END:VEVENT
BEGIN:VEVENT
UID:61616135-3031-4039-b537-306230356631
DTSTAMP:20260422T001313Z
DESCRIPTION:13/49 VO Slezská Orlice - VS Ostrava 3:2 (-20\,18\,-15\,20\,8)
DTSTART;TZID=Europe/Berlin:20241123T100000
DTEND;TZID=Europe/Berlin:20241123T120000
LOCATION:ZŠ Janáčkovo náměstí 17\, Janáčkovo náměstí 1970 Krnov - Pod Bezru
 čovým vrchem
SUMMARY:MS-U18ZB: VO Slezská Orlice-VS Ostrava
END:VEVENT
BEGIN:VEVENT
UID:33303530-3338-4531-b362-323636633463
DTSTAMP:20260422T001313Z
DESCRIPTION:14/53 VO Slezská Orlice - VS Ostrava 0:3 (-18\,-14\,-9)
DTSTART;TZID=Europe/Berlin:20241123T140000
DTEND;TZID=Europe/Berlin:20241123T160000
LOCATION:ZŠ Janáčkovo náměstí 17\, Janáčkovo náměstí 1970 Krnov - Pod Bezru
 čovým vrchem
SUMMARY:MS-U18ZB: VO Slezská Orlice-VS Ostrava
END:VEVENT
BEGIN:VEVENT
UID:36623463-6262-4737-b464-373831633935
DTSTAMP:20260422T001313Z
DESCRIPTION:17/66 VO Slezská Orlice - Ostrava C 0:3 (-12\,-11\,-11)
DTSTART;TZID=Europe/Berlin:20241207T100000
DTEND;TZID=Europe/Berlin:20241207T120000
LOCATION:ZŠ Janáčkovo náměstí 17\, Janáčkovo náměstí 1970 Krnov - Pod Bezru
 čovým vrchem
SUMMARY:MS-U18ZB: VO Slezská Orlice-Ostrava C
END:VEVENT
BEGIN:VEVENT
UID:65353439-3765-4539-b433-653732356664
DTSTAMP:20260422T001313Z
DESCRIPTION:18/70 VO Slezská Orlice - Ostrava C 0:3 (-11\,-13\,-14)
DTSTART;TZID=Europe/Berlin:20241207T140000
DTEND;TZID=Europe/Berlin:20241207T160000
LOCATION:ZŠ Janáčkovo náměstí 17\, Janáčkovo náměstí 1970 Krnov - Pod Bezru
 čovým vrchem
SUMMARY:MS-U18ZB: VO Slezská Orlice-Ostrava C
END:VEVENT
BEGIN:VEVENT
UID:32343637-3835-4134-b237-633733656531
DTSTAMP:20260422T001313Z
DESCRIPTION:21/83 VO Slezská Orlice - TJ Sokol Poruba 3:1 (13\,15\,-28\,12)
DTSTART;TZID=Europe/Berlin:20250118T100000
DTEND;TZID=Europe/Berlin:20250118T120000
LOCATION:ZŠ Janáčkovo náměstí 17\, Janáčkovo náměstí 1970 Krnov - Pod Bezru
 čovým vrchem
SUMMARY:MS-U18ZB: VO Slezská Orlice-TJ Sokol Poruba
END:VEVENT
BEGIN:VEVENT
UID:61356334-3934-4133-a530-343664633035
DTSTAMP:20260422T001313Z
DESCRIPTION:22/87 VO Slezská Orlice - TJ Sokol Poruba 3:0 (3\,22\,17)
DTSTART;TZID=Europe/Berlin:20250118T140000
DTEND;TZID=Europe/Berlin:20250118T160000
LOCATION:ZŠ Janáčkovo náměstí 17\, Janáčkovo náměstí 1970 Krnov - Pod Bezru
 čovým vrchem
SUMMARY:MS-U18ZB: VO Slezská Orlice-TJ Sokol Poruba
END:VEVENT
BEGIN:VEVENT
UID:64313465-6466-4265-b438-366663616265
DTSTAMP:20260422T001313Z
DESCRIPTION:3/10 Ostrava C - VO Slezská Orlice 3:0 (8\,12\,21)
DTSTART;TZID=Europe/Berlin:20241005T090000
DTEND;TZID=Europe/Berlin:20241005T110000
LOCATION:Hala míčových sportů\, Varenská 3098 Ostrava - Moravská Ostrava
SUMMARY:MS-U18ZB: Ostrava C-VO Slezská Orlice
END:VEVENT
BEGIN:VEVENT
UID:63316663-3862-4730-b865-646637303330
DTSTAMP:20260422T001313Z
DESCRIPTION:4/14 Ostrava C - VO Slezská Orlice 3:0 (9\,12\,19)
DTSTART;TZID=Europe/Berlin:20241005T130000
DTEND;TZID=Europe/Berlin:20241005T150000
LOCATION:Hala míčových sportů\, Varenská 3098 Ostrava - Moravská Ostrava
SUMMARY:MS-U18ZB: Ostrava C-VO Slezská Orlice
END:VEVENT
BEGIN:VEVENT
UID:35336630-6635-4665-a431-663939323662
DTSTAMP:20260422T001313Z
DESCRIPTION:7/27 TJ Sokol Poruba - VO Slezská Orlice 0:3 (-12\,-14\,-24)
DTSTART;TZID=Europe/Berlin:20241026T090000
DTEND;TZID=Europe/Berlin:20241026T110000
LOCATION:TJ Sokol Poruba\, Vřesinská 121 Ostrava - Poruba
SUMMARY:MS-U18ZB: TJ Sokol Poruba-VO Slezská Orlice
END:VEVENT
BEGIN:VEVENT
UID:61353962-3330-4963-b562-376461626232
DTSTAMP:20260422T001313Z
DESCRIPTION:8/31 TJ Sokol Poruba - VO Slezská Orlice 0:3 (-20\,-7\,-16)
DTSTART;TZID=Europe/Berlin:20241026T130000
DTEND;TZID=Europe/Berlin:20241026T150000
LOCATION:TJ Sokol Poruba\, Vřesinská 121 Ostrava - Poruba
SUMMARY:MS-U18ZB: TJ Sokol Poruba-VO Slezská Orlice
END:VEVENT
BEGIN:VEVENT
UID:66373935-6534-4633-a363-363861616165
DTSTAMP:20260422T001313Z
DESCRIPTION:15/60 VK Kylešovice - VO Slezská Orlice 3:0 (20\,21\,20)
DTSTART;TZID=Europe/Berlin:20241130T110000
DTEND;TZID=Europe/Berlin:20241130T130000
LOCATION:Sportovní hala Obchodní akademie\, Hany Kvapilové 1656 Opava - Pře
 dměstí
SUMMARY:MS-U18ZB: VK Kylešovice-VO Slezská Orlice
END:VEVENT
BEGIN:VEVENT
UID:30316339-3136-4861-b236-326564346561
DTSTAMP:20260422T001313Z
DESCRIPTION:16/64 VK Kylešovice - VO Slezská Orlice 3:0 (12\,20\,15)
DTSTART;TZID=Europe/Berlin:20241130T150000
DTEND;TZID=Europe/Berlin:20241130T170000
LOCATION:Sportovní hala Obchodní akademie\, Hany Kvapilové 1656 Opava - Pře
 dměstí
SUMMARY:MS-U18ZB: VK Kylešovice-VO Slezská Orlice
END:VEVENT
BEGIN:VEVENT
UID:61353033-6133-4134-b732-323963356137
DTSTAMP:20260422T001313Z
DESCRIPTION:19/75 TJ Hlučín - VO Slezská Orlice 1:3 (-18\,-19\,16\,-21)
DTSTART;TZID=Europe/Berlin:20241214T100000
DTEND;TZID=Europe/Berlin:20241214T120000
LOCATION:Sportovní hala\, Tyršova 1668 Hlučín
SUMMARY:MS-U18ZB: TJ Hlučín-VO Slezská Orlice
END:VEVENT
BEGIN:VEVENT
UID:38336637-6462-4435-a564-616530323563
DTSTAMP:20260422T001313Z
DESCRIPTION:20/79 TJ Hlučín - VO Slezská Orlice 3:2 (-17\,22\,18\,-12\,15)
DTSTART;TZID=Europe/Berlin:20241214T140000
DTEND;TZID=Europe/Berlin:20241214T160000
LOCATION:Sportovní hala\, Tyršova 1668 Hlučín
SUMMARY:MS-U18ZB: TJ Hlučín-VO Slezská Orlice
END:VEVENT
BEGIN:VEVENT
UID:38613333-3866-4261-a337-373130653765
DTSTAMP:20260422T001313Z
DESCRIPTION:23/90 VK Polanka nad Odrou - VO Slezská Orlice 3:1 (11\,-20\,19
 \,17)
DTSTART;TZID=Europe/Berlin:20250125T090000
DTEND;TZID=Europe/Berlin:20250125T110000
LOCATION:Sportovní hala\, Heleny Salichové 1275 Ostrava - Polanka nad Odrou
SUMMARY:MS-U18ZB: VK Polanka nad Odrou-VO Slezská Orlice
END:VEVENT
BEGIN:VEVENT
UID:33653735-3739-4630-b130-313836383732
DTSTAMP:20260422T001313Z
DESCRIPTION:24/94 VK Polanka nad Odrou - VO Slezská Orlice 3:0 (17\,25\,14)
DTSTART;TZID=Europe/Berlin:20250125T130000
DTEND;TZID=Europe/Berlin:20250125T150000
LOCATION:Sportovní hala\, Heleny Salichové 1275 Ostrava - Polanka nad Odrou
SUMMARY:MS-U18ZB: VK Polanka nad Odrou-VO Slezská Orlice
END:VEVENT
BEGIN:VEVENT
UID:34373135-6431-4138-b734-366561363238
DTSTAMP:20260422T001313Z
DESCRIPTION:27/105 VS Ostrava - VO Slezská Orlice 1:3 (-19\,13\,-21\,-14)
DTSTART;TZID=Europe/Berlin:20250208T100000
DTEND;TZID=Europe/Berlin:20250208T120000
LOCATION:SPŠ Stavební Ostrava\, Středoškolská 2992 Ostrava - Zábřeh
SUMMARY:MS-U18ZB: VS Ostrava-VO Slezská Orlice
END:VEVENT
BEGIN:VEVENT
UID:33303832-3738-4263-b261-333930663438
DTSTAMP:20260422T001313Z
DESCRIPTION:28/109 VS Ostrava - VO Slezská Orlice 3:1 (16\,22\,-17\,24)
DTSTART;TZID=Europe/Berlin:20250208T140000
DTEND;TZID=Europe/Berlin:20250208T160000
LOCATION:SPŠ Stavební Ostrava\, Středoškolská 2992 Ostrava - Zábřeh
SUMMARY:MS-U18ZB: VS Ostrava-VO Slezská Orlice
END:VEVENT
BEGIN:VEVENT
UID:63326666-6565-4563-b235-636164616539
DTSTAMP:20260422T001313Z
DESCRIPTION:1/1 VO Slezská Orlice - TJ Sokol Frýdek - Místek B 0:3 (-14\,-1
 9\,-17)
DTSTART;TZID=Europe/Berlin:20250301T100000
DTEND;TZID=Europe/Berlin:20250301T120000
LOCATION:ZŠ Janáčkovo náměstí 17\, Janáčkovo náměstí 1970 Krnov - Pod Bezru
 čovým vrchem
SUMMARY:MS-U18Z-2D: VO Slezská Orlice-TJ Sokol Frýdek - Místek B
END:VEVENT
BEGIN:VEVENT
UID:35363431-3236-4163-b261-336164373930
DTSTAMP:20260422T001313Z
DESCRIPTION:2/2 VO Slezská Orlice - TJ Sokol Frýdek - Místek B 1:3 (-23\,-1
 0\,20\,-21)
DTSTART;TZID=Europe/Berlin:20250301T140000
DTEND;TZID=Europe/Berlin:20250301T160000
LOCATION:ZŠ Janáčkovo náměstí 17\, Janáčkovo náměstí 1970 Krnov - Pod Bezru
 čovým vrchem
SUMMARY:MS-U18Z-2D: VO Slezská Orlice-TJ Sokol Frýdek - Místek B
END:VEVENT
BEGIN:VEVENT
UID:64643665-6336-4634-b034-396664383761
DTSTAMP:20260422T001313Z
DESCRIPTION:3/3 TJ Sokol Frýdek - Místek B - VO Slezská Orlice 1:3 (23\,-15
 \,-21\,-6)
DTSTART;TZID=Europe/Berlin:20250308T100000
DTEND;TZID=Europe/Berlin:20250308T120000
LOCATION:Sokolovna Frýdek-Místek\, Novodvorská 667 Frýdek-Místek - Frýdek
SUMMARY:MS-U18Z-2D: TJ Sokol Frýdek - Místek B-VO Slezská Orlice
END:VEVENT
BEGIN:VEVENT
UID:61326463-6561-4731-b738-643933306537
DTSTAMP:20260422T001313Z
DESCRIPTION:4/4 TJ Sokol Frýdek - Místek B - VO Slezská Orlice 3:0 (24\,16\
 ,23)
DTSTART;TZID=Europe/Berlin:20250308T140000
DTEND;TZID=Europe/Berlin:20250308T160000
LOCATION:Sokolovna Frýdek-Místek\, Novodvorská 667 Frýdek-Místek - Frýdek
SUMMARY:MS-U18Z-2D: TJ Sokol Frýdek - Místek B-VO Slezská Orlice
END:VEVENT
END:VCALENDAR
