BEGIN:VCALENDAR
VERSION:2.0
PRODID:-//Sportovní klub Šenov, z.s.87091//NONSGML kigkonsult.se iCalcreator 2.41.80//
CALSCALE:GREGORIAN
UID:66316337-6239-4130-b735-313064353630
BEGIN:VEVENT
UID:65616233-3635-4636-b764-363865353234
DTSTAMP:20260424T233520Z
DESCRIPTION:2/9 Šenov - VK SOU Ostrava 0:3 (-21\,-17\,-9)
DTSTART;TZID=Europe/Berlin:20240924T184500
DTEND;TZID=Europe/Berlin:20240924T204500
LOCATION:Sportovní hala Nová Bělá\, Krmelínská 750 Ostrava - Nová Bělá
SUMMARY:OV-M: Šenov-VK SOU Ostrava
END:VEVENT
BEGIN:VEVENT
UID:38393338-3734-4337-b164-376131396338
DTSTAMP:20260424T233520Z
DESCRIPTION:4/18 Šenov - VSK VŠB B 2:3 (25\,-20\,-21\,18\,-9)
DTSTART;TZID=Europe/Berlin:20241008T184500
DTEND;TZID=Europe/Berlin:20241008T204500
LOCATION:Sportovní hala Nová Bělá\, Krmelínská 750 Ostrava - Nová Bělá
SUMMARY:OV-M: Šenov-VSK VŠB B
END:VEVENT
BEGIN:VEVENT
UID:30386663-3239-4361-a230-336634363730
DTSTAMP:20260424T233520Z
DESCRIPTION:6/27 Šenov - SK Zálom Ostrava - Zábřeh 3:2 (-25\,-26\,22\,22\,1
 2)
DTSTART;TZID=Europe/Berlin:20241105T184500
DTEND;TZID=Europe/Berlin:20241105T204500
LOCATION:Sportovní hala Nová Bělá\, Krmelínská 750 Ostrava - Nová Bělá
SUMMARY:OV-M: Šenov-SK Zálom Ostrava - Zábřeh
END:VEVENT
BEGIN:VEVENT
UID:35303235-3138-4839-b265-633839636338
DTSTAMP:20260424T233520Z
DESCRIPTION:9/45 Šenov - TJ Kunčičky\, spolek 3:1 (-19\,22\,20\,20)
DTSTART;TZID=Europe/Berlin:20241126T184500
DTEND;TZID=Europe/Berlin:20241126T204500
LOCATION:Sportovní hala Nová Bělá\, Krmelínská 750 Ostrava - Nová Bělá
SUMMARY:OV-M: Šenov-TJ Kunčičky\, spolek
END:VEVENT
BEGIN:VEVENT
UID:39356634-3036-4961-b931-396633666635
DTSTAMP:20260424T233520Z
DESCRIPTION:10/47 Šenov - VK Polanka nad Odrou\, z.s. 0:3 (-16\,-19\,-12)
DTSTART;TZID=Europe/Berlin:20250121T184500
DTEND;TZID=Europe/Berlin:20250121T204500
LOCATION:Sportovní hala Nová Bělá\, Krmelínská 750 Ostrava - Nová Bělá
SUMMARY:OV-M: Šenov-VK Polanka nad Odrou\, z.s.
END:VEVENT
BEGIN:VEVENT
UID:36323566-3630-4265-b262-363833393538
DTSTAMP:20260424T233520Z
DESCRIPTION:12/58 Šenov - TJ Sokol Stará Bělá\, z.s. 0:3 (-13\,-19\,-17)
DTSTART;TZID=Europe/Berlin:20250408T184500
DTEND;TZID=Europe/Berlin:20250408T204500
LOCATION:Sportovní hala Nová Bělá\, Krmelínská 750 Ostrava - Nová Bělá
SUMMARY:OV-M: Šenov-TJ Sokol Stará Bělá\, z.s.
END:VEVENT
BEGIN:VEVENT
UID:37373336-3135-4365-b737-643135316463
DTSTAMP:20260424T233520Z
DESCRIPTION:14/69 Šenov - TJ Sokol Svinov 0:3 (-19\,-13\,-21)
DTSTART;TZID=Europe/Berlin:20250422T184500
DTEND;TZID=Europe/Berlin:20250422T204500
LOCATION:Sportovní hala Nová Bělá\, Krmelínská 750 Ostrava - Nová Bělá
SUMMARY:OV-M: Šenov-TJ Sokol Svinov
END:VEVENT
BEGIN:VEVENT
UID:64333438-6636-4565-a434-333730323933
DTSTAMP:20260424T233520Z
DESCRIPTION:16/80 Šenov - Volejbalová akademie mládeže Havířov\, z.s. 2:3 (
 -18\,23\,19\,-17\,-9)
DTSTART;TZID=Europe/Berlin:20250415T184500
DTEND;TZID=Europe/Berlin:20250415T204500
LOCATION:Sportovní hala Nová Bělá\, Krmelínská 750 Ostrava - Nová Bělá
SUMMARY:OV-M: Šenov-Volejbalová akademie mládeže Havířov\, z.s.
END:VEVENT
BEGIN:VEVENT
UID:30323765-6661-4634-b565-303966623864
DTSTAMP:20260424T233520Z
DESCRIPTION:17/81 Šenov - TJ Sokol Bohumín 1:3 (-20\,-10\,24\,-22)
DTSTART;TZID=Europe/Berlin:20250325T184500
DTEND;TZID=Europe/Berlin:20250325T204500
LOCATION:Sportovní hala Nová Bělá\, Krmelínská 750 Ostrava - Nová Bělá
SUMMARY:OV-M: Šenov-TJ Sokol Bohumín
END:VEVENT
BEGIN:VEVENT
UID:34373638-6533-4034-b830-346334323330
DTSTAMP:20260424T233520Z
DESCRIPTION:1/2 VK Polanka nad Odrou\, z.s. - Šenov 3:0 (19\,21\,18)
DTSTART;TZID=Europe/Berlin:20250117T185000
DTEND;TZID=Europe/Berlin:20250117T205000
LOCATION:Sportovní hala\, Heleny Salichové 1275 Ostrava - Polanka nad Odrou
SUMMARY:OV-M: VK Polanka nad Odrou\, z.s.-Šenov
END:VEVENT
BEGIN:VEVENT
UID:30373964-6162-4465-b563-303131343363
DTSTAMP:20260424T233520Z
DESCRIPTION:3/13 TJ Sokol Stará Bělá\, z.s. - Šenov 3:0 (17\,16\,16)
DTSTART;TZID=Europe/Berlin:20241001T184500
DTEND;TZID=Europe/Berlin:20241001T204500
LOCATION:Sokolovna TJ Sokol Stará Bělá\, Junácká 6 Ostrava - Stará Bělá
SUMMARY:OV-M: TJ Sokol Stará Bělá\, z.s.-Šenov
END:VEVENT
BEGIN:VEVENT
UID:32653937-3662-4434-b531-306463656333
DTSTAMP:20260424T233520Z
DESCRIPTION:5/24 TJ Sokol Svinov - Šenov 3:1 (19\,18\,-18\,21)
DTSTART;TZID=Europe/Berlin:20241017T191500
DTEND;TZID=Europe/Berlin:20241017T211500
LOCATION:MH Svinov\, Stanislavského 1270 Ostrava - Svinov
SUMMARY:OV-M: TJ Sokol Svinov-Šenov
END:VEVENT
BEGIN:VEVENT
UID:64623834-3664-4262-a363-643161656561
DTSTAMP:20260424T233520Z
DESCRIPTION:7/35 Volejbalová akademie mládeže Havířov\, z.s. - Šenov 3:0 (2
 3\,26\,26)
DTSTART;TZID=Europe/Berlin:20241114T171500
DTEND;TZID=Europe/Berlin:20241114T191500
LOCATION:hala SPŠE\, Makarenkova 513 Havířov - Město
SUMMARY:OV-M: Volejbalová akademie mládeže Havířov\, z.s.-Šenov
END:VEVENT
BEGIN:VEVENT
UID:63636462-3137-4164-b331-356365626262
DTSTAMP:20260424T233520Z
DESCRIPTION:8/36 TJ Sokol Bohumín - Šenov 3:1 (15\,16\,-16\,20)
DTSTART;TZID=Europe/Berlin:20241119T200000
DTEND;TZID=Europe/Berlin:20241119T220000
LOCATION:Dům dětí a mládeže Bohumín\, Janáčkova 715 Bohumín - Nový Bohumín
SUMMARY:OV-M: TJ Sokol Bohumín-Šenov
END:VEVENT
BEGIN:VEVENT
UID:38663630-3737-4235-a633-656636353761
DTSTAMP:20260424T233520Z
DESCRIPTION:11/54 VK SOU Ostrava - Šenov 3:1 (20\,24\,-21\,24)
DTSTART;TZID=Europe/Berlin:20250304T174500
DTEND;TZID=Europe/Berlin:20250304T194500
LOCATION:Sokolovna\, Sokolská 290 Vratimov
SUMMARY:OV-M: VK SOU Ostrava-Šenov
END:VEVENT
BEGIN:VEVENT
UID:33333566-3132-4264-b730-366536386466
DTSTAMP:20260424T233520Z
DESCRIPTION:13/63 VSK VŠB B - Šenov 3:1 (22\,20\,-24\,20)
DTSTART;TZID=Europe/Berlin:20250320T192000
DTEND;TZID=Europe/Berlin:20250320T212000
LOCATION:Sportovní hala VŠB-TUO\, Studentská 6175 Ostrava - Poruba
SUMMARY:OV-M: VSK VŠB B-Šenov
END:VEVENT
BEGIN:VEVENT
UID:61666336-3864-4965-b461-383237343337
DTSTAMP:20260424T233520Z
DESCRIPTION:15/72 SK Zálom Ostrava - Zábřeh - Šenov 3:0 (12\,18\,12)
DTSTART;TZID=Europe/Berlin:20250310T184500
DTEND;TZID=Europe/Berlin:20250310T204500
LOCATION:SVČ Zálom Ostrava-Zábřeh\, V Zálomu 2948 Ostrava - Zábřeh
SUMMARY:OV-M: SK Zálom Ostrava - Zábřeh-Šenov
END:VEVENT
BEGIN:VEVENT
UID:65323732-3037-4736-b664-303634376665
DTSTAMP:20260424T233520Z
DESCRIPTION:18/90 TJ Kunčičky\, spolek - Šenov 3:2 (-21\,-24\,20\,26\,9)
DTSTART;TZID=Europe/Berlin:20250402T183000
DTEND;TZID=Europe/Berlin:20250402T203000
LOCATION:Hala Střední zdravotní školy\, 1. máje 2208 Ostrava - Mariánské Ho
 ry
SUMMARY:OV-M: TJ Kunčičky\, spolek-Šenov
END:VEVENT
END:VCALENDAR
